BEGIN:VCALENDAR
VERSION:2.0
PRODID:http://www.kufer.de/kuferweb / DE
METHOD:PUBLISH
CALSCALE:GREGORIAN
X-WR-TIMEZONE:Europe/Berlin
BEGIN:VTIMEZONE
TZID:Europe/Berlin
X-LIC-LOCATION:Europe/Berlin
BEGIN:DAYLIGHT
TZOFFSETFROM:+0100
TZOFFSETTO:+0200
TZNAME:CEST
DTSTART;TZID=Europe/Berlin:19700329T020000
RRULE:FREQ=YEARLY;INTERVAL=1;BYDAY=-1SU;BYMONTH=3
END:DAYLIGHT
BEGIN:STANDARD
TZOFFSETFROM:+0200
TZOFFSETTO:+0100
TZNAME:CET
DTSTART;TZID=Europe/Berlin:19701025T030000
RRULE:FREQ=YEARLY;INTERVAL=1;BYDAY=-1SU;BYMONTH=10
END:STANDARD
END:VTIMEZONE
BEGIN:VEVENT
DTSTAMP:20260421T133946
DTSTART;TZID=Europe/Berlin:20250915T173000
DTEND;TZID=Europe/Berlin:20250915T183000
UID:252WB30112-20250915T173000@VHSUNTERLAND
SUMMARY:Pilates  mit Rückentraining (252WB30112) 
LOCATION:wb Kita am Grasigen Hag Bewegungsraum, Am Grasigen Hag, 74189 Weinsberg
END:VEVENT
BEGIN:VEVENT
DTSTAMP:20260421T133946
DTSTART;TZID=Europe/Berlin:20250922T173000
DTEND;TZID=Europe/Berlin:20250922T183000
UID:252WB30112-20250922T173000@VHSUNTERLAND
SUMMARY:Pilates  mit Rückentraining (252WB30112) 
LOCATION:wb Kita am Grasigen Hag Bewegungsraum, Am Grasigen Hag, 74189 Weinsberg
END:VEVENT
BEGIN:VEVENT
DTSTAMP:20260421T133946
DTSTART;TZID=Europe/Berlin:20250929T173000
DTEND;TZID=Europe/Berlin:20250929T183000
UID:252WB30112-20250929T173000@VHSUNTERLAND
SUMMARY:Pilates  mit Rückentraining (252WB30112) 
LOCATION:wb Kita am Grasigen Hag Bewegungsraum, Am Grasigen Hag, 74189 Weinsberg
END:VEVENT
BEGIN:VEVENT
DTSTAMP:20260421T133946
DTSTART;TZID=Europe/Berlin:20251006T173000
DTEND;TZID=Europe/Berlin:20251006T183000
UID:252WB30112-20251006T173000@VHSUNTERLAND
SUMMARY:Pilates  mit Rückentraining (252WB30112) 
LOCATION:wb Kita am Grasigen Hag Bewegungsraum, Am Grasigen Hag, 74189 Weinsberg
END:VEVENT
BEGIN:VEVENT
DTSTAMP:20260421T133946
DTSTART;TZID=Europe/Berlin:20251013T173000
DTEND;TZID=Europe/Berlin:20251013T183000
UID:252WB30112-20251013T173000@VHSUNTERLAND
SUMMARY:Pilates  mit Rückentraining (252WB30112) 
LOCATION:wb Kita am Grasigen Hag Bewegungsraum, Am Grasigen Hag, 74189 Weinsberg
END:VEVENT
BEGIN:VEVENT
DTSTAMP:20260421T133946
DTSTART;TZID=Europe/Berlin:20251103T173000
DTEND;TZID=Europe/Berlin:20251103T183000
UID:252WB30112-20251103T173000@VHSUNTERLAND
SUMMARY:Pilates  mit Rückentraining (252WB30112) 
LOCATION:wb Kita am Grasigen Hag Bewegungsraum, Am Grasigen Hag, 74189 Weinsberg
END:VEVENT
BEGIN:VEVENT
DTSTAMP:20260421T133946
DTSTART;TZID=Europe/Berlin:20251110T173000
DTEND;TZID=Europe/Berlin:20251110T183000
UID:252WB30112-20251110T173000@VHSUNTERLAND
SUMMARY:Pilates  mit Rückentraining (252WB30112) 
LOCATION:wb Kita am Grasigen Hag Bewegungsraum, Am Grasigen Hag, 74189 Weinsberg
END:VEVENT
BEGIN:VEVENT
DTSTAMP:20260421T133946
DTSTART;TZID=Europe/Berlin:20251117T173000
DTEND;TZID=Europe/Berlin:20251117T183000
UID:252WB30112-20251117T173000@VHSUNTERLAND
SUMMARY:Pilates  mit Rückentraining (252WB30112) 
LOCATION:wb Kita am Grasigen Hag Bewegungsraum, Am Grasigen Hag, 74189 Weinsberg
END:VEVENT
BEGIN:VEVENT
DTSTAMP:20260421T133946
DTSTART;TZID=Europe/Berlin:20251124T173000
DTEND;TZID=Europe/Berlin:20251124T183000
UID:252WB30112-20251124T173000@VHSUNTERLAND
SUMMARY:Pilates  mit Rückentraining (252WB30112) 
LOCATION:wb Kita am Grasigen Hag Bewegungsraum, Am Grasigen Hag, 74189 Weinsberg
END:VEVENT
BEGIN:VEVENT
DTSTAMP:20260421T133946
DTSTART;TZID=Europe/Berlin:20251201T173000
DTEND;TZID=Europe/Berlin:20251201T183000
UID:252WB30112-20251201T173000@VHSUNTERLAND
SUMMARY:Pilates  mit Rückentraining (252WB30112) 
LOCATION:wb Kita am Grasigen Hag Bewegungsraum, Am Grasigen Hag, 74189 Weinsberg
END:VEVENT
BEGIN:VEVENT
DTSTAMP:20260421T133946
DTSTART;TZID=Europe/Berlin:20251208T173000
DTEND;TZID=Europe/Berlin:20251208T183000
UID:252WB30112-20251208T173000@VHSUNTERLAND
SUMMARY:Pilates  mit Rückentraining (252WB30112) 
LOCATION:wb Kita am Grasigen Hag Bewegungsraum, Am Grasigen Hag, 74189 Weinsberg
END:VEVENT
BEGIN:VEVENT
DTSTAMP:20260421T133946
DTSTART;TZID=Europe/Berlin:20251215T173000
DTEND;TZID=Europe/Berlin:20251215T183000
UID:252WB30112-20251215T173000@VHSUNTERLAND
SUMMARY:Pilates  mit Rückentraining (252WB30112) 
LOCATION:wb Kita am Grasigen Hag Bewegungsraum, Am Grasigen Hag, 74189 Weinsberg
END:VEVENT
BEGIN:VEVENT
DTSTAMP:20260421T133946
DTSTART;TZID=Europe/Berlin:20260112T173000
DTEND;TZID=Europe/Berlin:20260112T183000
UID:252WB30112-20260112T173000@VHSUNTERLAND
SUMMARY:Pilates  mit Rückentraining (252WB30112) 
LOCATION:wb Kita am Grasigen Hag Bewegungsraum, Am Grasigen Hag, 74189 Weinsberg
END:VEVENT
BEGIN:VEVENT
DTSTAMP:20260421T133946
DTSTART;TZID=Europe/Berlin:20260119T173000
DTEND;TZID=Europe/Berlin:20260119T183000
UID:252WB30112-20260119T173000@VHSUNTERLAND
SUMMARY:Pilates  mit Rückentraining (252WB30112) 
LOCATION:wb Kita am Grasigen Hag Bewegungsraum, Am Grasigen Hag, 74189 Weinsberg
END:VEVENT
BEGIN:VEVENT
DTSTAMP:20260421T133946
DTSTART;TZID=Europe/Berlin:20260126T173000
DTEND;TZID=Europe/Berlin:20260126T183000
UID:252WB30112-20260126T173000@VHSUNTERLAND
SUMMARY:Pilates  mit Rückentraining (252WB30112) 
LOCATION:wb Kita am Grasigen Hag Bewegungsraum, Am Grasigen Hag, 74189 Weinsberg
END:VEVENT
BEGIN:VEVENT
DTSTAMP:20260421T133946
DTSTART;TZID=Europe/Berlin:20260202T173000
DTEND;TZID=Europe/Berlin:20260202T183000
UID:252WB30112-20260202T173000@VHSUNTERLAND
SUMMARY:Pilates  mit Rückentraining (252WB30112) 
LOCATION:wb Kita am Grasigen Hag Bewegungsraum, Am Grasigen Hag, 74189 Weinsberg
END:VEVENT
BEGIN:VEVENT
DTSTAMP:20260421T133946
DTSTART;TZID=Europe/Berlin:20260209T173000
DTEND;TZID=Europe/Berlin:20260209T183000
UID:252WB30112-20260209T173000@VHSUNTERLAND
DESCRIPTION:Ersatz für Ausfall am 20.10.2025
SUMMARY:Pilates  mit Rückentraining (252WB30112) 
LOCATION:wb Kita am Grasigen Hag Bewegungsraum, Am Grasigen Hag, 74189 Weinsberg
END:VEVENT
END:VCALENDAR