BEGIN:VCALENDAR
VERSION:2.0
PRODID:http://www.kufer.de/kuferweb / DE
METHOD:PUBLISH
CALSCALE:GREGORIAN
X-WR-TIMEZONE:Europe/Berlin
BEGIN:VTIMEZONE
TZID:Europe/Berlin
X-LIC-LOCATION:Europe/Berlin
BEGIN:DAYLIGHT
TZOFFSETFROM:+0100
TZOFFSETTO:+0200
TZNAME:CEST
DTSTART;TZID=Europe/Berlin:19700329T020000
RRULE:FREQ=YEARLY;INTERVAL=1;BYDAY=-1SU;BYMONTH=3
END:DAYLIGHT
BEGIN:STANDARD
TZOFFSETFROM:+0200
TZOFFSETTO:+0100
TZNAME:CET
DTSTART;TZID=Europe/Berlin:19701025T030000
RRULE:FREQ=YEARLY;INTERVAL=1;BYDAY=-1SU;BYMONTH=10
END:STANDARD
END:VTIMEZONE
BEGIN:VEVENT
DTSTAMP:20260419T204132
DTSTART;TZID=Europe/Berlin:20251103T153000
DTEND;TZID=Europe/Berlin:20251103T170000
UID:252WB20776-20251103T153000@VHSUNTERLAND
SUMMARY:Kinder Mal Atelier  für Kinder von 8 - 10 Jahren (252WB20776) 
LOCATION:wb VHS-Haus, E10, Zehntgasse 10, 74189 Weinsberg
END:VEVENT
BEGIN:VEVENT
DTSTAMP:20260419T204132
DTSTART;TZID=Europe/Berlin:20251110T153000
DTEND;TZID=Europe/Berlin:20251110T170000
UID:252WB20776-20251110T153000@VHSUNTERLAND
SUMMARY:Kinder Mal Atelier  für Kinder von 8 - 10 Jahren (252WB20776) 
LOCATION:wb VHS-Haus, E10, Zehntgasse 10, 74189 Weinsberg
END:VEVENT
BEGIN:VEVENT
DTSTAMP:20260419T204132
DTSTART;TZID=Europe/Berlin:20251117T153000
DTEND;TZID=Europe/Berlin:20251117T170000
UID:252WB20776-20251117T153000@VHSUNTERLAND
SUMMARY:Kinder Mal Atelier  für Kinder von 8 - 10 Jahren (252WB20776) 
LOCATION:wb VHS-Haus, E10, Zehntgasse 10, 74189 Weinsberg
END:VEVENT
BEGIN:VEVENT
DTSTAMP:20260419T204132
DTSTART;TZID=Europe/Berlin:20251201T153000
DTEND;TZID=Europe/Berlin:20251201T170000
UID:252WB20776-20251201T153000@VHSUNTERLAND
DESCRIPTION:Ersatz für Ausfall am 24.11.2025
SUMMARY:Kinder Mal Atelier  für Kinder von 8 - 10 Jahren (252WB20776) 
LOCATION:wb VHS-Haus, E10, Zehntgasse 10, 74189 Weinsberg
END:VEVENT
END:VCALENDAR