BEGIN:VCALENDAR
VERSION:2.0
PRODID:http://www.kufer.de/kuferweb / DE
METHOD:PUBLISH
CALSCALE:GREGORIAN
X-WR-TIMEZONE:Europe/Berlin
BEGIN:VTIMEZONE
TZID:Europe/Berlin
X-LIC-LOCATION:Europe/Berlin
BEGIN:DAYLIGHT
TZOFFSETFROM:+0100
TZOFFSETTO:+0200
TZNAME:CEST
DTSTART;TZID=Europe/Berlin:19700329T020000
RRULE:FREQ=YEARLY;INTERVAL=1;BYDAY=-1SU;BYMONTH=3
END:DAYLIGHT
BEGIN:STANDARD
TZOFFSETFROM:+0200
TZOFFSETTO:+0100
TZNAME:CET
DTSTART;TZID=Europe/Berlin:19701025T030000
RRULE:FREQ=YEARLY;INTERVAL=1;BYDAY=-1SU;BYMONTH=10
END:STANDARD
END:VTIMEZONE
BEGIN:VEVENT
DTSTAMP:20260426T022219
DTSTART;TZID=Europe/Berlin:20250923T153000
DTEND;TZID=Europe/Berlin:20250923T161500
UID:252WB20580-20250923T153000@VHSUNTERLAND
SUMMARY:Kreativer Kindertanz für Kinder von 4 – 6 Jahren (252WB20580) 
LOCATION:wb VHS-Haus, E06, Zehntgasse 10, 74189 Weinsberg
END:VEVENT
BEGIN:VEVENT
DTSTAMP:20260426T022219
DTSTART;TZID=Europe/Berlin:20250930T153000
DTEND;TZID=Europe/Berlin:20250930T161500
UID:252WB20580-20250930T153000@VHSUNTERLAND
SUMMARY:Kreativer Kindertanz für Kinder von 4 – 6 Jahren (252WB20580) 
LOCATION:wb VHS-Haus, E06, Zehntgasse 10, 74189 Weinsberg
END:VEVENT
BEGIN:VEVENT
DTSTAMP:20260426T022219
DTSTART;TZID=Europe/Berlin:20251007T153000
DTEND;TZID=Europe/Berlin:20251007T161500
UID:252WB20580-20251007T153000@VHSUNTERLAND
SUMMARY:Kreativer Kindertanz für Kinder von 4 – 6 Jahren (252WB20580) 
LOCATION:wb VHS-Haus, E06, Zehntgasse 10, 74189 Weinsberg
END:VEVENT
BEGIN:VEVENT
DTSTAMP:20260426T022219
DTSTART;TZID=Europe/Berlin:20251014T153000
DTEND;TZID=Europe/Berlin:20251014T161500
UID:252WB20580-20251014T153000@VHSUNTERLAND
SUMMARY:Kreativer Kindertanz für Kinder von 4 – 6 Jahren (252WB20580) 
LOCATION:wb VHS-Haus, E06, Zehntgasse 10, 74189 Weinsberg
END:VEVENT
BEGIN:VEVENT
DTSTAMP:20260426T022219
DTSTART;TZID=Europe/Berlin:20251021T153000
DTEND;TZID=Europe/Berlin:20251021T161500
UID:252WB20580-20251021T153000@VHSUNTERLAND
SUMMARY:Kreativer Kindertanz für Kinder von 4 – 6 Jahren (252WB20580) 
LOCATION:wb VHS-Haus, E06, Zehntgasse 10, 74189 Weinsberg
END:VEVENT
BEGIN:VEVENT
DTSTAMP:20260426T022219
DTSTART;TZID=Europe/Berlin:20251104T153000
DTEND;TZID=Europe/Berlin:20251104T161500
UID:252WB20580-20251104T153000@VHSUNTERLAND
SUMMARY:Kreativer Kindertanz für Kinder von 4 – 6 Jahren (252WB20580) 
LOCATION:wb VHS-Haus, E06, Zehntgasse 10, 74189 Weinsberg
END:VEVENT
BEGIN:VEVENT
DTSTAMP:20260426T022219
DTSTART;TZID=Europe/Berlin:20251111T153000
DTEND;TZID=Europe/Berlin:20251111T161500
UID:252WB20580-20251111T153000@VHSUNTERLAND
SUMMARY:Kreativer Kindertanz für Kinder von 4 – 6 Jahren (252WB20580) 
LOCATION:wb VHS-Haus, E06, Zehntgasse 10, 74189 Weinsberg
END:VEVENT
BEGIN:VEVENT
DTSTAMP:20260426T022219
DTSTART;TZID=Europe/Berlin:20251118T153000
DTEND;TZID=Europe/Berlin:20251118T161500
UID:252WB20580-20251118T153000@VHSUNTERLAND
SUMMARY:Kreativer Kindertanz für Kinder von 4 – 6 Jahren (252WB20580) 
LOCATION:wb VHS-Haus, E06, Zehntgasse 10, 74189 Weinsberg
END:VEVENT
BEGIN:VEVENT
DTSTAMP:20260426T022219
DTSTART;TZID=Europe/Berlin:20251125T153000
DTEND;TZID=Europe/Berlin:20251125T161500
UID:252WB20580-20251125T153000@VHSUNTERLAND
SUMMARY:Kreativer Kindertanz für Kinder von 4 – 6 Jahren (252WB20580) 
LOCATION:wb VHS-Haus, E06, Zehntgasse 10, 74189 Weinsberg
END:VEVENT
BEGIN:VEVENT
DTSTAMP:20260426T022219
DTSTART;TZID=Europe/Berlin:20251202T153000
DTEND;TZID=Europe/Berlin:20251202T161500
UID:252WB20580-20251202T153000@VHSUNTERLAND
SUMMARY:Kreativer Kindertanz für Kinder von 4 – 6 Jahren (252WB20580) 
LOCATION:wb VHS-Haus, E06, Zehntgasse 10, 74189 Weinsberg
END:VEVENT
BEGIN:VEVENT
DTSTAMP:20260426T022219
DTSTART;TZID=Europe/Berlin:20251209T153000
DTEND;TZID=Europe/Berlin:20251209T161500
UID:252WB20580-20251209T153000@VHSUNTERLAND
SUMMARY:Kreativer Kindertanz für Kinder von 4 – 6 Jahren (252WB20580) 
LOCATION:wb VHS-Haus, E06, Zehntgasse 10, 74189 Weinsberg
END:VEVENT
BEGIN:VEVENT
DTSTAMP:20260426T022219
DTSTART;TZID=Europe/Berlin:20251216T153000
DTEND;TZID=Europe/Berlin:20251216T161500
UID:252WB20580-20251216T153000@VHSUNTERLAND
SUMMARY:Kreativer Kindertanz für Kinder von 4 – 6 Jahren (252WB20580) 
LOCATION:wb VHS-Haus, E06, Zehntgasse 10, 74189 Weinsberg
END:VEVENT
BEGIN:VEVENT
DTSTAMP:20260426T022219
DTSTART;TZID=Europe/Berlin:20260113T153000
DTEND;TZID=Europe/Berlin:20260113T161500
UID:252WB20580-20260113T153000@VHSUNTERLAND
SUMMARY:Kreativer Kindertanz für Kinder von 4 – 6 Jahren (252WB20580) 
LOCATION:wb VHS-Haus, E06, Zehntgasse 10, 74189 Weinsberg
END:VEVENT
BEGIN:VEVENT
DTSTAMP:20260426T022219
DTSTART;TZID=Europe/Berlin:20260120T153000
DTEND;TZID=Europe/Berlin:20260120T161500
UID:252WB20580-20260120T153000@VHSUNTERLAND
SUMMARY:Kreativer Kindertanz für Kinder von 4 – 6 Jahren (252WB20580) 
LOCATION:wb VHS-Haus, E06, Zehntgasse 10, 74189 Weinsberg
END:VEVENT
BEGIN:VEVENT
DTSTAMP:20260426T022219
DTSTART;TZID=Europe/Berlin:20260127T153000
DTEND;TZID=Europe/Berlin:20260127T161500
UID:252WB20580-20260127T153000@VHSUNTERLAND
SUMMARY:Kreativer Kindertanz für Kinder von 4 – 6 Jahren (252WB20580) 
LOCATION:wb VHS-Haus, E06, Zehntgasse 10, 74189 Weinsberg
END:VEVENT
END:VCALENDAR