BEGIN:VCALENDAR
VERSION:2.0
PRODID:http://www.kufer.de/kuferweb / DE
METHOD:PUBLISH
CALSCALE:GREGORIAN
X-WR-TIMEZONE:Europe/Berlin
BEGIN:VTIMEZONE
TZID:Europe/Berlin
X-LIC-LOCATION:Europe/Berlin
BEGIN:DAYLIGHT
TZOFFSETFROM:+0100
TZOFFSETTO:+0200
TZNAME:CEST
DTSTART;TZID=Europe/Berlin:19700329T020000
RRULE:FREQ=YEARLY;INTERVAL=1;BYDAY=-1SU;BYMONTH=3
END:DAYLIGHT
BEGIN:STANDARD
TZOFFSETFROM:+0200
TZOFFSETTO:+0100
TZNAME:CET
DTSTART;TZID=Europe/Berlin:19701025T030000
RRULE:FREQ=YEARLY;INTERVAL=1;BYDAY=-1SU;BYMONTH=10
END:STANDARD
END:VTIMEZONE
BEGIN:VEVENT
DTSTAMP:20260419T232852
DTSTART;TZID=Europe/Berlin:20251010T180000
DTEND;TZID=Europe/Berlin:20251010T193000
UID:252WB20530-20251010T180000@VHSUNTERLAND
SUMMARY:Orientalischer Ausdruckstanz  für Fortgeschrittene (252WB20530) 
LOCATION:wb Grantschen, Alte Schule, Wimmentaler Straße 27, 74189 Weinsberg
END:VEVENT
BEGIN:VEVENT
DTSTAMP:20260419T232852
DTSTART;TZID=Europe/Berlin:20251017T180000
DTEND;TZID=Europe/Berlin:20251017T193000
UID:252WB20530-20251017T180000@VHSUNTERLAND
SUMMARY:Orientalischer Ausdruckstanz  für Fortgeschrittene (252WB20530) 
LOCATION:wb Grantschen, Alte Schule, Wimmentaler Straße 27, 74189 Weinsberg
END:VEVENT
BEGIN:VEVENT
DTSTAMP:20260419T232852
DTSTART;TZID=Europe/Berlin:20251024T180000
DTEND;TZID=Europe/Berlin:20251024T193000
UID:252WB20530-20251024T180000@VHSUNTERLAND
SUMMARY:Orientalischer Ausdruckstanz  für Fortgeschrittene (252WB20530) 
LOCATION:wb Grantschen, Alte Schule, Wimmentaler Straße 27, 74189 Weinsberg
END:VEVENT
BEGIN:VEVENT
DTSTAMP:20260419T232852
DTSTART;TZID=Europe/Berlin:20251121T180000
DTEND;TZID=Europe/Berlin:20251121T193000
UID:252WB20530-20251121T180000@VHSUNTERLAND
SUMMARY:Orientalischer Ausdruckstanz  für Fortgeschrittene (252WB20530) 
LOCATION:wb Grantschen, Alte Schule, Wimmentaler Straße 27, 74189 Weinsberg
END:VEVENT
BEGIN:VEVENT
DTSTAMP:20260419T232852
DTSTART;TZID=Europe/Berlin:20251128T180000
DTEND;TZID=Europe/Berlin:20251128T193000
UID:252WB20530-20251128T180000@VHSUNTERLAND
SUMMARY:Orientalischer Ausdruckstanz  für Fortgeschrittene (252WB20530) 
LOCATION:wb Grantschen, Alte Schule, Wimmentaler Straße 27, 74189 Weinsberg
END:VEVENT
BEGIN:VEVENT
DTSTAMP:20260419T232852
DTSTART;TZID=Europe/Berlin:20251205T180000
DTEND;TZID=Europe/Berlin:20251205T193000
UID:252WB20530-20251205T180000@VHSUNTERLAND
SUMMARY:Orientalischer Ausdruckstanz  für Fortgeschrittene (252WB20530) 
LOCATION:wb Grantschen, Alte Schule, Wimmentaler Straße 27, 74189 Weinsberg
END:VEVENT
BEGIN:VEVENT
DTSTAMP:20260419T232852
DTSTART;TZID=Europe/Berlin:20251212T180000
DTEND;TZID=Europe/Berlin:20251212T193000
UID:252WB20530-20251212T180000@VHSUNTERLAND
SUMMARY:Orientalischer Ausdruckstanz  für Fortgeschrittene (252WB20530) 
LOCATION:wb Grantschen, Alte Schule, Wimmentaler Straße 27, 74189 Weinsberg
END:VEVENT
BEGIN:VEVENT
DTSTAMP:20260419T232852
DTSTART;TZID=Europe/Berlin:20260109T180000
DTEND;TZID=Europe/Berlin:20260109T193000
UID:252WB20530-20260109T180000@VHSUNTERLAND
SUMMARY:Orientalischer Ausdruckstanz  für Fortgeschrittene (252WB20530) 
LOCATION:wb Grantschen, Alte Schule, Wimmentaler Straße 27, 74189 Weinsberg
END:VEVENT
BEGIN:VEVENT
DTSTAMP:20260419T232852
DTSTART;TZID=Europe/Berlin:20260116T180000
DTEND;TZID=Europe/Berlin:20260116T193000
UID:252WB20530-20260116T180000@VHSUNTERLAND
SUMMARY:Orientalischer Ausdruckstanz  für Fortgeschrittene (252WB20530) 
LOCATION:wb Grantschen, Alte Schule, Wimmentaler Straße 27, 74189 Weinsberg
END:VEVENT
BEGIN:VEVENT
DTSTAMP:20260419T232852
DTSTART;TZID=Europe/Berlin:20260123T180000
DTEND;TZID=Europe/Berlin:20260123T193000
UID:252WB20530-20260123T180000@VHSUNTERLAND
DESCRIPTION:Ersatz für Ausfall am 07.11.2025
SUMMARY:Orientalischer Ausdruckstanz  für Fortgeschrittene (252WB20530) 
LOCATION:wb Grantschen, Alte Schule, Wimmentaler Straße 27, 74189 Weinsberg
END:VEVENT
BEGIN:VEVENT
DTSTAMP:20260419T232852
DTSTART;TZID=Europe/Berlin:20260130T180000
DTEND;TZID=Europe/Berlin:20260130T193000
UID:252WB20530-20260130T180000@VHSUNTERLAND
DESCRIPTION:Ersatz für Ausfall am 14.11.2025
SUMMARY:Orientalischer Ausdruckstanz  für Fortgeschrittene (252WB20530) 
LOCATION:wb Grantschen, Alte Schule, Wimmentaler Straße 27, 74189 Weinsberg
END:VEVENT
BEGIN:VEVENT
DTSTAMP:20260419T232852
DTSTART;TZID=Europe/Berlin:20260206T180000
DTEND;TZID=Europe/Berlin:20260206T193000
UID:252WB20530-20260206T180000@VHSUNTERLAND
DESCRIPTION:Ersatz für Ausfall am 19.12.2025
SUMMARY:Orientalischer Ausdruckstanz  für Fortgeschrittene (252WB20530) 
LOCATION:wb Grantschen, Alte Schule, Wimmentaler Straße 27, 74189 Weinsberg
END:VEVENT
END:VCALENDAR