BEGIN:VCALENDAR
VERSION:2.0
PRODID:http://www.kufer.de/kuferweb / DE
METHOD:PUBLISH
CALSCALE:GREGORIAN
X-WR-TIMEZONE:Europe/Berlin
BEGIN:VTIMEZONE
TZID:Europe/Berlin
X-LIC-LOCATION:Europe/Berlin
BEGIN:DAYLIGHT
TZOFFSETFROM:+0100
TZOFFSETTO:+0200
TZNAME:CEST
DTSTART;TZID=Europe/Berlin:19700329T020000
RRULE:FREQ=YEARLY;INTERVAL=1;BYDAY=-1SU;BYMONTH=3
END:DAYLIGHT
BEGIN:STANDARD
TZOFFSETFROM:+0200
TZOFFSETTO:+0100
TZNAME:CET
DTSTART;TZID=Europe/Berlin:19701025T030000
RRULE:FREQ=YEARLY;INTERVAL=1;BYDAY=-1SU;BYMONTH=10
END:STANDARD
END:VTIMEZONE
BEGIN:VEVENT
DTSTAMP:20260421T012111
DTSTART;TZID=Europe/Berlin:20250916T184500
DTEND;TZID=Europe/Berlin:20250916T201500
UID:252WB20501-20250916T184500@VHSUNTERLAND
SUMMARY:Fit durch Tanzen - Fortsetzungskurs Niveau 8 (252WB20501) 
LOCATION:wb Wimmental, Bürgerhaus, großer Saal, Grantschener Straße 34, 74189 Weinsberg
END:VEVENT
BEGIN:VEVENT
DTSTAMP:20260421T012111
DTSTART;TZID=Europe/Berlin:20250923T184500
DTEND;TZID=Europe/Berlin:20250923T201500
UID:252WB20501-20250923T184500@VHSUNTERLAND
SUMMARY:Fit durch Tanzen - Fortsetzungskurs Niveau 8 (252WB20501) 
LOCATION:wb Wimmental, Bürgerhaus, großer Saal, Grantschener Straße 34, 74189 Weinsberg
END:VEVENT
BEGIN:VEVENT
DTSTAMP:20260421T012111
DTSTART;TZID=Europe/Berlin:20250930T184500
DTEND;TZID=Europe/Berlin:20250930T201500
UID:252WB20501-20250930T184500@VHSUNTERLAND
SUMMARY:Fit durch Tanzen - Fortsetzungskurs Niveau 8 (252WB20501) 
LOCATION:wb Wimmental, Bürgerhaus, großer Saal, Grantschener Straße 34, 74189 Weinsberg
END:VEVENT
BEGIN:VEVENT
DTSTAMP:20260421T012111
DTSTART;TZID=Europe/Berlin:20251007T184500
DTEND;TZID=Europe/Berlin:20251007T201500
UID:252WB20501-20251007T184500@VHSUNTERLAND
SUMMARY:Fit durch Tanzen - Fortsetzungskurs Niveau 8 (252WB20501) 
LOCATION:wb Wimmental, Bürgerhaus, großer Saal, Grantschener Straße 34, 74189 Weinsberg
END:VEVENT
BEGIN:VEVENT
DTSTAMP:20260421T012111
DTSTART;TZID=Europe/Berlin:20251014T184500
DTEND;TZID=Europe/Berlin:20251014T201500
UID:252WB20501-20251014T184500@VHSUNTERLAND
SUMMARY:Fit durch Tanzen - Fortsetzungskurs Niveau 8 (252WB20501) 
LOCATION:wb Wimmental, Bürgerhaus, großer Saal, Grantschener Straße 34, 74189 Weinsberg
END:VEVENT
BEGIN:VEVENT
DTSTAMP:20260421T012111
DTSTART;TZID=Europe/Berlin:20251021T184500
DTEND;TZID=Europe/Berlin:20251021T201500
UID:252WB20501-20251021T184500@VHSUNTERLAND
SUMMARY:Fit durch Tanzen - Fortsetzungskurs Niveau 8 (252WB20501) 
LOCATION:wb Wimmental, Bürgerhaus, großer Saal, Grantschener Straße 34, 74189 Weinsberg
END:VEVENT
BEGIN:VEVENT
DTSTAMP:20260421T012111
DTSTART;TZID=Europe/Berlin:20251104T184500
DTEND;TZID=Europe/Berlin:20251104T201500
UID:252WB20501-20251104T184500@VHSUNTERLAND
SUMMARY:Fit durch Tanzen - Fortsetzungskurs Niveau 8 (252WB20501) 
LOCATION:wb Wimmental, Bürgerhaus, großer Saal, Grantschener Straße 34, 74189 Weinsberg
END:VEVENT
BEGIN:VEVENT
DTSTAMP:20260421T012111
DTSTART;TZID=Europe/Berlin:20251111T184500
DTEND;TZID=Europe/Berlin:20251111T201500
UID:252WB20501-20251111T184500@VHSUNTERLAND
SUMMARY:Fit durch Tanzen - Fortsetzungskurs Niveau 8 (252WB20501) 
LOCATION:wb Wimmental, Bürgerhaus, großer Saal, Grantschener Straße 34, 74189 Weinsberg
END:VEVENT
BEGIN:VEVENT
DTSTAMP:20260421T012111
DTSTART;TZID=Europe/Berlin:20251118T184500
DTEND;TZID=Europe/Berlin:20251118T201500
UID:252WB20501-20251118T184500@VHSUNTERLAND
SUMMARY:Fit durch Tanzen - Fortsetzungskurs Niveau 8 (252WB20501) 
LOCATION:wb Wimmental, Bürgerhaus, großer Saal, Grantschener Straße 34, 74189 Weinsberg
END:VEVENT
BEGIN:VEVENT
DTSTAMP:20260421T012111
DTSTART;TZID=Europe/Berlin:20251125T184500
DTEND;TZID=Europe/Berlin:20251125T201500
UID:252WB20501-20251125T184500@VHSUNTERLAND
SUMMARY:Fit durch Tanzen - Fortsetzungskurs Niveau 8 (252WB20501) 
LOCATION:wb Wimmental, Bürgerhaus, großer Saal, Grantschener Straße 34, 74189 Weinsberg
END:VEVENT
END:VCALENDAR