BEGIN:VCALENDAR
VERSION:2.0
PRODID:http://www.kufer.de/kuferweb / DE
METHOD:PUBLISH
CALSCALE:GREGORIAN
X-WR-TIMEZONE:Europe/Berlin
BEGIN:VTIMEZONE
TZID:Europe/Berlin
X-LIC-LOCATION:Europe/Berlin
BEGIN:DAYLIGHT
TZOFFSETFROM:+0100
TZOFFSETTO:+0200
TZNAME:CEST
DTSTART;TZID=Europe/Berlin:19700329T020000
RRULE:FREQ=YEARLY;INTERVAL=1;BYDAY=-1SU;BYMONTH=3
END:DAYLIGHT
BEGIN:STANDARD
TZOFFSETFROM:+0200
TZOFFSETTO:+0100
TZNAME:CET
DTSTART;TZID=Europe/Berlin:19701025T030000
RRULE:FREQ=YEARLY;INTERVAL=1;BYDAY=-1SU;BYMONTH=10
END:STANDARD
END:VTIMEZONE
BEGIN:VEVENT
DTSTAMP:20260419T220533
DTSTART;TZID=Europe/Berlin:20251016T140000
DTEND;TZID=Europe/Berlin:20251016T153000
UID:252WB10680-20251016T140000@VHSUNTERLAND
SUMMARY:Fit im Kopf – Gedächtnistraining ab 60 (252WB10680) 
LOCATION:wb Backhaus, EG Raum mit Säule, Welfengasse 2, 74189 Weinsberg
END:VEVENT
BEGIN:VEVENT
DTSTAMP:20260419T220533
DTSTART;TZID=Europe/Berlin:20251023T140000
DTEND;TZID=Europe/Berlin:20251023T153000
UID:252WB10680-20251023T140000@VHSUNTERLAND
SUMMARY:Fit im Kopf – Gedächtnistraining ab 60 (252WB10680) 
LOCATION:wb Backhaus, EG Raum mit Säule, Welfengasse 2, 74189 Weinsberg
END:VEVENT
BEGIN:VEVENT
DTSTAMP:20260419T220533
DTSTART;TZID=Europe/Berlin:20251106T140000
DTEND;TZID=Europe/Berlin:20251106T153000
UID:252WB10680-20251106T140000@VHSUNTERLAND
SUMMARY:Fit im Kopf – Gedächtnistraining ab 60 (252WB10680) 
LOCATION:wb Backhaus, EG Raum mit Säule, Welfengasse 2, 74189 Weinsberg
END:VEVENT
BEGIN:VEVENT
DTSTAMP:20260419T220533
DTSTART;TZID=Europe/Berlin:20251113T140000
DTEND;TZID=Europe/Berlin:20251113T153000
UID:252WB10680-20251113T140000@VHSUNTERLAND
SUMMARY:Fit im Kopf – Gedächtnistraining ab 60 (252WB10680) 
LOCATION:wb Backhaus, EG Raum mit Säule, Welfengasse 2, 74189 Weinsberg
END:VEVENT
BEGIN:VEVENT
DTSTAMP:20260419T220533
DTSTART;TZID=Europe/Berlin:20251120T140000
DTEND;TZID=Europe/Berlin:20251120T153000
UID:252WB10680-20251120T140000@VHSUNTERLAND
SUMMARY:Fit im Kopf – Gedächtnistraining ab 60 (252WB10680) 
LOCATION:wb Backhaus, EG Raum mit Säule, Welfengasse 2, 74189 Weinsberg
END:VEVENT
BEGIN:VEVENT
DTSTAMP:20260419T220533
DTSTART;TZID=Europe/Berlin:20251127T140000
DTEND;TZID=Europe/Berlin:20251127T153000
UID:252WB10680-20251127T140000@VHSUNTERLAND
SUMMARY:Fit im Kopf – Gedächtnistraining ab 60 (252WB10680) 
LOCATION:wb Backhaus, EG Raum mit Säule, Welfengasse 2, 74189 Weinsberg
END:VEVENT
BEGIN:VEVENT
DTSTAMP:20260419T220533
DTSTART;TZID=Europe/Berlin:20251204T140000
DTEND;TZID=Europe/Berlin:20251204T153000
UID:252WB10680-20251204T140000@VHSUNTERLAND
SUMMARY:Fit im Kopf – Gedächtnistraining ab 60 (252WB10680) 
LOCATION:wb Backhaus, EG Raum mit Säule, Welfengasse 2, 74189 Weinsberg
END:VEVENT
BEGIN:VEVENT
DTSTAMP:20260419T220533
DTSTART;TZID=Europe/Berlin:20251211T140000
DTEND;TZID=Europe/Berlin:20251211T153000
UID:252WB10680-20251211T140000@VHSUNTERLAND
SUMMARY:Fit im Kopf – Gedächtnistraining ab 60 (252WB10680) 
LOCATION:wb Backhaus, EG Raum mit Säule, Welfengasse 2, 74189 Weinsberg
END:VEVENT
BEGIN:VEVENT
DTSTAMP:20260419T220533
DTSTART;TZID=Europe/Berlin:20251218T140000
DTEND;TZID=Europe/Berlin:20251218T153000
UID:252WB10680-20251218T140000@VHSUNTERLAND
SUMMARY:Fit im Kopf – Gedächtnistraining ab 60 (252WB10680) 
LOCATION:wb Backhaus, EG Raum mit Säule, Welfengasse 2, 74189 Weinsberg
END:VEVENT
BEGIN:VEVENT
DTSTAMP:20260419T220533
DTSTART;TZID=Europe/Berlin:20260108T140000
DTEND;TZID=Europe/Berlin:20260108T153000
UID:252WB10680-20260108T140000@VHSUNTERLAND
SUMMARY:Fit im Kopf – Gedächtnistraining ab 60 (252WB10680) 
LOCATION:wb Backhaus, EG Raum mit Säule, Welfengasse 2, 74189 Weinsberg
END:VEVENT
END:VCALENDAR