BEGIN:VCALENDAR
VERSION:2.0
PRODID:http://www.kufer.de/kuferweb / DE
METHOD:PUBLISH
CALSCALE:GREGORIAN
X-WR-TIMEZONE:Europe/Berlin
BEGIN:VTIMEZONE
TZID:Europe/Berlin
X-LIC-LOCATION:Europe/Berlin
BEGIN:DAYLIGHT
TZOFFSETFROM:+0100
TZOFFSETTO:+0200
TZNAME:CEST
DTSTART;TZID=Europe/Berlin:19700329T020000
RRULE:FREQ=YEARLY;INTERVAL=1;BYDAY=-1SU;BYMONTH=3
END:DAYLIGHT
BEGIN:STANDARD
TZOFFSETFROM:+0200
TZOFFSETTO:+0100
TZNAME:CET
DTSTART;TZID=Europe/Berlin:19701025T030000
RRULE:FREQ=YEARLY;INTERVAL=1;BYDAY=-1SU;BYMONTH=10
END:STANDARD
END:VTIMEZONE
BEGIN:VEVENT
DTSTAMP:20260425T161211
DTSTART;TZID=Europe/Berlin:20250917T083000
DTEND;TZID=Europe/Berlin:20250917T114500
UID:252VV10071-20250917T083000@VHSUNTERLAND
SUMMARY:VHS-Akademie im Zabergäu am Mittwochvormittag Jahrhundertwende 1900 (252VV10071) 
LOCATION:bh Treffpunkt Bildung und Familie, Multifunktionsraum, Bürgerturmstraße 6, 74336 Brackenheim
END:VEVENT
BEGIN:VEVENT
DTSTAMP:20260425T161211
DTSTART;TZID=Europe/Berlin:20251001T083000
DTEND;TZID=Europe/Berlin:20251001T114500
UID:252VV10072-20251001T083000@VHSUNTERLAND
SUMMARY:VHS-Akademie im Zabergäu am Mittwochvormittag Jahrhundertwende 1900 (252VV10072) 
LOCATION:gg Mediothek, Veranstaltungsraum, Wilhelm-Arnold-Platz 5, 74363 Güglingen
END:VEVENT
BEGIN:VEVENT
DTSTAMP:20260425T161211
DTSTART;TZID=Europe/Berlin:20251015T083000
DTEND;TZID=Europe/Berlin:20251015T114500
UID:252VV10070-20251015T083000@VHSUNTERLAND
SUMMARY:VHS-Akademie im Zabergäu am Mittwochvormittag Jahrhundertwende 1900 (252VV10070) 
LOCATION:bh Treffpunkt Bildung und Familie, Multifunktionsraum, Bürgerturmstraße 6, 74336 Brackenheim
END:VEVENT
BEGIN:VEVENT
DTSTAMP:20260425T161211
DTSTART;TZID=Europe/Berlin:20251022T083000
DTEND;TZID=Europe/Berlin:20251022T114500
UID:252VV10074-20251022T083000@VHSUNTERLAND
SUMMARY:VHS-Akademie im Zabergäu am Mittwochvormittag Jahrhundertwende 1900 (252VV10074) 
LOCATION:bh Treffpunkt Bildung und Familie, Multifunktionsraum, Bürgerturmstraße 6, 74336 Brackenheim
END:VEVENT
BEGIN:VEVENT
DTSTAMP:20260425T161211
DTSTART;TZID=Europe/Berlin:20251105T083000
DTEND;TZID=Europe/Berlin:20251105T114500
UID:252VV10075-20251105T083000@VHSUNTERLAND
SUMMARY:VHS-Akademie im Zabergäu am Mittwochvormittag Jahrhundertwende 1900 (252VV10075) 
LOCATION:la Hölderlinhaus, Seminarraum, Nordheimer Str. 5, 74348 Lauffen a. N.
END:VEVENT
BEGIN:VEVENT
DTSTAMP:20260425T161211
DTSTART;TZID=Europe/Berlin:20251112T083000
DTEND;TZID=Europe/Berlin:20251112T114500
UID:252VV10076-20251112T083000@VHSUNTERLAND
SUMMARY:VHS-Akademie im Zabergäu am Mittwochvormittag Jahrhundertwende 1900 (252VV10076) 
LOCATION:la Hölderlinhaus, Seminarraum, Nordheimer Str. 5, 74348 Lauffen a. N.
END:VEVENT
BEGIN:VEVENT
DTSTAMP:20260425T161211
DTSTART;TZID=Europe/Berlin:20251119T083000
DTEND;TZID=Europe/Berlin:20251119T114500
UID:252VV10076-20251119T083000@VHSUNTERLAND
SUMMARY:VHS-Akademie im Zabergäu am Mittwochvormittag Jahrhundertwende 1900 (252VV10076) 
LOCATION:la Hölderlinhaus, Seminarraum, Nordheimer Str. 5, 74348 Lauffen a. N.
END:VEVENT
BEGIN:VEVENT
DTSTAMP:20260425T161211
DTSTART;TZID=Europe/Berlin:20251126T083000
DTEND;TZID=Europe/Berlin:20251126T114500
UID:252VV10077-20251126T083000@VHSUNTERLAND
SUMMARY:VHS-Akademie im Zabergäu am Mittwochvormittag Jahrhundertwende 1900 (252VV10077) 
LOCATION:gg Mediothek, Veranstaltungsraum, Wilhelm-Arnold-Platz 5, 74363 Güglingen
END:VEVENT
BEGIN:VEVENT
DTSTAMP:20260425T161211
DTSTART;TZID=Europe/Berlin:20251203T083000
DTEND;TZID=Europe/Berlin:20251203T114500
UID:252VV10078-20251203T083000@VHSUNTERLAND
SUMMARY:VHS-Akademie im Zabergäu am Mittwochvormittag Jahrhundertwende 1900 (252VV10078) 
LOCATION:gg Mediothek, Veranstaltungsraum, Wilhelm-Arnold-Platz 5, 74363 Güglingen
END:VEVENT
BEGIN:VEVENT
DTSTAMP:20260425T161211
DTSTART;TZID=Europe/Berlin:20260107T083000
DTEND;TZID=Europe/Berlin:20260107T114500
UID:252VV10080-20260107T083000@VHSUNTERLAND
SUMMARY:VHS-Akademie im Zabergäu am Mittwochvormittag Jahrhundertwende 1900 (252VV10080) 
LOCATION:gg Mediothek, Veranstaltungsraum, Wilhelm-Arnold-Platz 5, 74363 Güglingen
END:VEVENT
BEGIN:VEVENT
DTSTAMP:20260425T161211
DTSTART;TZID=Europe/Berlin:20260114T083000
DTEND;TZID=Europe/Berlin:20260114T114500
UID:252VV10081-20260114T083000@VHSUNTERLAND
SUMMARY:VHS-Akademie im Zabergäu am Mittwochvormittag Jahrhundertwende 1900 (252VV10081) 
LOCATION:la Hölderlinhaus, Seminarraum, Nordheimer Str. 5, 74348 Lauffen a. N.
END:VEVENT
BEGIN:VEVENT
DTSTAMP:20260425T161211
DTSTART;TZID=Europe/Berlin:20260121T083000
DTEND;TZID=Europe/Berlin:20260121T114500
UID:252VV10082-20260121T083000@VHSUNTERLAND
SUMMARY:VHS-Akademie im Zabergäu am Mittwochvormittag Jahrhundertwende 1900 (252VV10082) 
LOCATION:bh Treffpunkt Bildung und Familie, Multifunktionsraum, Bürgerturmstraße 6, 74336 Brackenheim
END:VEVENT
BEGIN:VEVENT
DTSTAMP:20260425T161211
DTSTART;TZID=Europe/Berlin:20260128T083000
DTEND;TZID=Europe/Berlin:20260128T114500
UID:252VV10079-20260128T083000@VHSUNTERLAND
DESCRIPTION:Ersatz für Ausfall am 10.12.2025
SUMMARY:VHS-Akademie im Zabergäu am Mittwochvormittag Jahrhundertwende 1900 (252VV10079) 
LOCATION:bh Treffpunkt Bildung und Familie, Multifunktionsraum, Bürgerturmstraße 6, 74336 Brackenheim
END:VEVENT
END:VCALENDAR