BEGIN:VCALENDAR
VERSION:2.0
PRODID:http://www.kufer.de/kuferweb / DE
METHOD:PUBLISH
CALSCALE:GREGORIAN
X-WR-TIMEZONE:Europe/Berlin
BEGIN:VTIMEZONE
TZID:Europe/Berlin
X-LIC-LOCATION:Europe/Berlin
BEGIN:DAYLIGHT
TZOFFSETFROM:+0100
TZOFFSETTO:+0200
TZNAME:CEST
DTSTART;TZID=Europe/Berlin:19700329T020000
RRULE:FREQ=YEARLY;INTERVAL=1;BYDAY=-1SU;BYMONTH=3
END:DAYLIGHT
BEGIN:STANDARD
TZOFFSETFROM:+0200
TZOFFSETTO:+0100
TZNAME:CET
DTSTART;TZID=Europe/Berlin:19701025T030000
RRULE:FREQ=YEARLY;INTERVAL=1;BYDAY=-1SU;BYMONTH=10
END:STANDARD
END:VTIMEZONE
BEGIN:VEVENT
DTSTAMP:20260420T085039
DTSTART;TZID=Europe/Berlin:20260112T200000
DTEND;TZID=Europe/Berlin:20260112T211500
UID:252UH30148-20260112T200000@VHSUNTERLAND
SUMMARY:Yoga  - entspannt in die Woche (252UH30148) 
LOCATION:uh Grundschule, Bewegungsraum, Schulstraße 9, 74257 Untereisesheim
END:VEVENT
BEGIN:VEVENT
DTSTAMP:20260420T085039
DTSTART;TZID=Europe/Berlin:20260119T200000
DTEND;TZID=Europe/Berlin:20260119T211500
UID:252UH30148-20260119T200000@VHSUNTERLAND
SUMMARY:Yoga  - entspannt in die Woche (252UH30148) 
LOCATION:uh Grundschule, Bewegungsraum, Schulstraße 9, 74257 Untereisesheim
END:VEVENT
BEGIN:VEVENT
DTSTAMP:20260420T085039
DTSTART;TZID=Europe/Berlin:20260126T200000
DTEND;TZID=Europe/Berlin:20260126T211500
UID:252UH30148-20260126T200000@VHSUNTERLAND
SUMMARY:Yoga  - entspannt in die Woche (252UH30148) 
LOCATION:uh Grundschule, Bewegungsraum, Schulstraße 9, 74257 Untereisesheim
END:VEVENT
BEGIN:VEVENT
DTSTAMP:20260420T085039
DTSTART;TZID=Europe/Berlin:20260202T200000
DTEND;TZID=Europe/Berlin:20260202T211500
UID:252UH30148-20260202T200000@VHSUNTERLAND
SUMMARY:Yoga  - entspannt in die Woche (252UH30148) 
LOCATION:uh Grundschule, Bewegungsraum, Schulstraße 9, 74257 Untereisesheim
END:VEVENT
BEGIN:VEVENT
DTSTAMP:20260420T085039
DTSTART;TZID=Europe/Berlin:20260209T200000
DTEND;TZID=Europe/Berlin:20260209T211500
UID:252UH30148-20260209T200000@VHSUNTERLAND
SUMMARY:Yoga  - entspannt in die Woche (252UH30148) 
LOCATION:uh Grundschule, Bewegungsraum, Schulstraße 9, 74257 Untereisesheim
END:VEVENT
BEGIN:VEVENT
DTSTAMP:20260420T085039
DTSTART;TZID=Europe/Berlin:20260223T200000
DTEND;TZID=Europe/Berlin:20260223T211500
UID:252UH30148-20260223T200000@VHSUNTERLAND
SUMMARY:Yoga  - entspannt in die Woche (252UH30148) 
LOCATION:uh Grundschule, Bewegungsraum, Schulstraße 9, 74257 Untereisesheim
END:VEVENT
BEGIN:VEVENT
DTSTAMP:20260420T085039
DTSTART;TZID=Europe/Berlin:20260302T200000
DTEND;TZID=Europe/Berlin:20260302T211500
UID:252UH30148-20260302T200000@VHSUNTERLAND
SUMMARY:Yoga  - entspannt in die Woche (252UH30148) 
LOCATION:uh Grundschule, Bewegungsraum, Schulstraße 9, 74257 Untereisesheim
END:VEVENT
BEGIN:VEVENT
DTSTAMP:20260420T085039
DTSTART;TZID=Europe/Berlin:20260309T200000
DTEND;TZID=Europe/Berlin:20260309T211500
UID:252UH30148-20260309T200000@VHSUNTERLAND
SUMMARY:Yoga  - entspannt in die Woche (252UH30148) 
LOCATION:uh Grundschule, Bewegungsraum, Schulstraße 9, 74257 Untereisesheim
END:VEVENT
BEGIN:VEVENT
DTSTAMP:20260420T085039
DTSTART;TZID=Europe/Berlin:20260316T200000
DTEND;TZID=Europe/Berlin:20260316T211500
UID:252UH30148-20260316T200000@VHSUNTERLAND
SUMMARY:Yoga  - entspannt in die Woche (252UH30148) 
LOCATION:uh Grundschule, Bewegungsraum, Schulstraße 9, 74257 Untereisesheim
END:VEVENT
BEGIN:VEVENT
DTSTAMP:20260420T085039
DTSTART;TZID=Europe/Berlin:20260323T200000
DTEND;TZID=Europe/Berlin:20260323T211500
UID:252UH30148-20260323T200000@VHSUNTERLAND
SUMMARY:Yoga  - entspannt in die Woche (252UH30148) 
LOCATION:uh Grundschule, Bewegungsraum, Schulstraße 9, 74257 Untereisesheim
END:VEVENT
END:VCALENDAR