BEGIN:VCALENDAR
VERSION:2.0
PRODID:http://www.kufer.de/kuferweb / DE
METHOD:PUBLISH
CALSCALE:GREGORIAN
X-WR-TIMEZONE:Europe/Berlin
BEGIN:VTIMEZONE
TZID:Europe/Berlin
X-LIC-LOCATION:Europe/Berlin
BEGIN:DAYLIGHT
TZOFFSETFROM:+0100
TZOFFSETTO:+0200
TZNAME:CEST
DTSTART;TZID=Europe/Berlin:19700329T020000
RRULE:FREQ=YEARLY;INTERVAL=1;BYDAY=-1SU;BYMONTH=3
END:DAYLIGHT
BEGIN:STANDARD
TZOFFSETFROM:+0200
TZOFFSETTO:+0100
TZNAME:CET
DTSTART;TZID=Europe/Berlin:19701025T030000
RRULE:FREQ=YEARLY;INTERVAL=1;BYDAY=-1SU;BYMONTH=10
END:STANDARD
END:VTIMEZONE
BEGIN:VEVENT
DTSTAMP:20260421T133923
DTSTART;TZID=Europe/Berlin:20250915T190000
DTEND;TZID=Europe/Berlin:20250915T200000
UID:252UH30111-20250915T190000@VHSUNTERLAND
SUMMARY:Body Control nach Pilates (252UH30111) 
LOCATION:uh Grundschule, Bewegungsraum, Schulstraße 9, 74257 Untereisesheim
END:VEVENT
BEGIN:VEVENT
DTSTAMP:20260421T133923
DTSTART;TZID=Europe/Berlin:20250922T190000
DTEND;TZID=Europe/Berlin:20250922T200000
UID:252UH30111-20250922T190000@VHSUNTERLAND
SUMMARY:Body Control nach Pilates (252UH30111) 
LOCATION:uh Grundschule, Bewegungsraum, Schulstraße 9, 74257 Untereisesheim
END:VEVENT
BEGIN:VEVENT
DTSTAMP:20260421T133923
DTSTART;TZID=Europe/Berlin:20250929T190000
DTEND;TZID=Europe/Berlin:20250929T200000
UID:252UH30111-20250929T190000@VHSUNTERLAND
SUMMARY:Body Control nach Pilates (252UH30111) 
LOCATION:uh Grundschule, Bewegungsraum, Schulstraße 9, 74257 Untereisesheim
END:VEVENT
BEGIN:VEVENT
DTSTAMP:20260421T133923
DTSTART;TZID=Europe/Berlin:20251006T190000
DTEND;TZID=Europe/Berlin:20251006T200000
UID:252UH30111-20251006T190000@VHSUNTERLAND
SUMMARY:Body Control nach Pilates (252UH30111) 
LOCATION:uh Grundschule, Bewegungsraum, Schulstraße 9, 74257 Untereisesheim
END:VEVENT
BEGIN:VEVENT
DTSTAMP:20260421T133923
DTSTART;TZID=Europe/Berlin:20251013T190000
DTEND;TZID=Europe/Berlin:20251013T200000
UID:252UH30111-20251013T190000@VHSUNTERLAND
SUMMARY:Body Control nach Pilates (252UH30111) 
LOCATION:uh Grundschule, Bewegungsraum, Schulstraße 9, 74257 Untereisesheim
END:VEVENT
BEGIN:VEVENT
DTSTAMP:20260421T133923
DTSTART;TZID=Europe/Berlin:20251020T190000
DTEND;TZID=Europe/Berlin:20251020T200000
UID:252UH30111-20251020T190000@VHSUNTERLAND
SUMMARY:Body Control nach Pilates (252UH30111) 
LOCATION:uh Grundschule, Bewegungsraum, Schulstraße 9, 74257 Untereisesheim
END:VEVENT
BEGIN:VEVENT
DTSTAMP:20260421T133923
DTSTART;TZID=Europe/Berlin:20251103T190000
DTEND;TZID=Europe/Berlin:20251103T200000
UID:252UH30111-20251103T190000@VHSUNTERLAND
SUMMARY:Body Control nach Pilates (252UH30111) 
LOCATION:uh Grundschule, Bewegungsraum, Schulstraße 9, 74257 Untereisesheim
END:VEVENT
BEGIN:VEVENT
DTSTAMP:20260421T133923
DTSTART;TZID=Europe/Berlin:20251110T190000
DTEND;TZID=Europe/Berlin:20251110T200000
UID:252UH30111-20251110T190000@VHSUNTERLAND
SUMMARY:Body Control nach Pilates (252UH30111) 
LOCATION:uh Grundschule, Bewegungsraum, Schulstraße 9, 74257 Untereisesheim
END:VEVENT
BEGIN:VEVENT
DTSTAMP:20260421T133923
DTSTART;TZID=Europe/Berlin:20251117T190000
DTEND;TZID=Europe/Berlin:20251117T200000
UID:252UH30111-20251117T190000@VHSUNTERLAND
SUMMARY:Body Control nach Pilates (252UH30111) 
LOCATION:uh Grundschule, Bewegungsraum, Schulstraße 9, 74257 Untereisesheim
END:VEVENT
BEGIN:VEVENT
DTSTAMP:20260421T133923
DTSTART;TZID=Europe/Berlin:20251124T190000
DTEND;TZID=Europe/Berlin:20251124T200000
UID:252UH30111-20251124T190000@VHSUNTERLAND
SUMMARY:Body Control nach Pilates (252UH30111) 
LOCATION:uh Grundschule, Bewegungsraum, Schulstraße 9, 74257 Untereisesheim
END:VEVENT
BEGIN:VEVENT
DTSTAMP:20260421T133923
DTSTART;TZID=Europe/Berlin:20251201T190000
DTEND;TZID=Europe/Berlin:20251201T200000
UID:252UH30111-20251201T190000@VHSUNTERLAND
SUMMARY:Body Control nach Pilates (252UH30111) 
LOCATION:uh Grundschule, Bewegungsraum, Schulstraße 9, 74257 Untereisesheim
END:VEVENT
BEGIN:VEVENT
DTSTAMP:20260421T133923
DTSTART;TZID=Europe/Berlin:20251208T190000
DTEND;TZID=Europe/Berlin:20251208T200000
UID:252UH30111-20251208T190000@VHSUNTERLAND
SUMMARY:Body Control nach Pilates (252UH30111) 
LOCATION:uh Grundschule, Bewegungsraum, Schulstraße 9, 74257 Untereisesheim
END:VEVENT
BEGIN:VEVENT
DTSTAMP:20260421T133923
DTSTART;TZID=Europe/Berlin:20251215T190000
DTEND;TZID=Europe/Berlin:20251215T200000
UID:252UH30111-20251215T190000@VHSUNTERLAND
SUMMARY:Body Control nach Pilates (252UH30111) 
LOCATION:uh Grundschule, Bewegungsraum, Schulstraße 9, 74257 Untereisesheim
END:VEVENT
BEGIN:VEVENT
DTSTAMP:20260421T133923
DTSTART;TZID=Europe/Berlin:20260112T190000
DTEND;TZID=Europe/Berlin:20260112T200000
UID:252UH30111-20260112T190000@VHSUNTERLAND
SUMMARY:Body Control nach Pilates (252UH30111) 
LOCATION:uh Grundschule, Bewegungsraum, Schulstraße 9, 74257 Untereisesheim
END:VEVENT
BEGIN:VEVENT
DTSTAMP:20260421T133923
DTSTART;TZID=Europe/Berlin:20260119T190000
DTEND;TZID=Europe/Berlin:20260119T200000
UID:252UH30111-20260119T190000@VHSUNTERLAND
SUMMARY:Body Control nach Pilates (252UH30111) 
LOCATION:uh Grundschule, Bewegungsraum, Schulstraße 9, 74257 Untereisesheim
END:VEVENT
END:VCALENDAR