BEGIN:VCALENDAR
VERSION:2.0
PRODID:http://www.kufer.de/kuferweb / DE
METHOD:PUBLISH
CALSCALE:GREGORIAN
X-WR-TIMEZONE:Europe/Berlin
BEGIN:VTIMEZONE
TZID:Europe/Berlin
X-LIC-LOCATION:Europe/Berlin
BEGIN:DAYLIGHT
TZOFFSETFROM:+0100
TZOFFSETTO:+0200
TZNAME:CEST
DTSTART;TZID=Europe/Berlin:19700329T020000
RRULE:FREQ=YEARLY;INTERVAL=1;BYDAY=-1SU;BYMONTH=3
END:DAYLIGHT
BEGIN:STANDARD
TZOFFSETFROM:+0200
TZOFFSETTO:+0100
TZNAME:CET
DTSTART;TZID=Europe/Berlin:19701025T030000
RRULE:FREQ=YEARLY;INTERVAL=1;BYDAY=-1SU;BYMONTH=10
END:STANDARD
END:VTIMEZONE
BEGIN:VEVENT
DTSTAMP:20260423T182312
DTSTART;TZID=Europe/Berlin:20250930T164500
DTEND;TZID=Europe/Berlin:20250930T173000
UID:252TA30290-20250930T164500@VHSUNTERLAND
SUMMARY:Zumba® Kids für Kinder von 6 - 11 Jahren (252TA30290) 
LOCATION:ta Schlossbergschule, Walter-Tost-Saal, In den Hofwiesen 15, 74388 Talheim
END:VEVENT
BEGIN:VEVENT
DTSTAMP:20260423T182312
DTSTART;TZID=Europe/Berlin:20251007T164500
DTEND;TZID=Europe/Berlin:20251007T173000
UID:252TA30290-20251007T164500@VHSUNTERLAND
SUMMARY:Zumba® Kids für Kinder von 6 - 11 Jahren (252TA30290) 
LOCATION:ta Schlossbergschule, Walter-Tost-Saal, In den Hofwiesen 15, 74388 Talheim
END:VEVENT
BEGIN:VEVENT
DTSTAMP:20260423T182312
DTSTART;TZID=Europe/Berlin:20251014T164500
DTEND;TZID=Europe/Berlin:20251014T173000
UID:252TA30290-20251014T164500@VHSUNTERLAND
SUMMARY:Zumba® Kids für Kinder von 6 - 11 Jahren (252TA30290) 
LOCATION:ta Schlossbergschule, Walter-Tost-Saal, In den Hofwiesen 15, 74388 Talheim
END:VEVENT
BEGIN:VEVENT
DTSTAMP:20260423T182312
DTSTART;TZID=Europe/Berlin:20251021T164500
DTEND;TZID=Europe/Berlin:20251021T173000
UID:252TA30290-20251021T164500@VHSUNTERLAND
SUMMARY:Zumba® Kids für Kinder von 6 - 11 Jahren (252TA30290) 
LOCATION:ta Schlossbergschule, Walter-Tost-Saal, In den Hofwiesen 15, 74388 Talheim
END:VEVENT
BEGIN:VEVENT
DTSTAMP:20260423T182312
DTSTART;TZID=Europe/Berlin:20251104T164500
DTEND;TZID=Europe/Berlin:20251104T173000
UID:252TA30290-20251104T164500@VHSUNTERLAND
SUMMARY:Zumba® Kids für Kinder von 6 - 11 Jahren (252TA30290) 
LOCATION:ta Schlossbergschule, Walter-Tost-Saal, In den Hofwiesen 15, 74388 Talheim
END:VEVENT
BEGIN:VEVENT
DTSTAMP:20260423T182312
DTSTART;TZID=Europe/Berlin:20251111T164500
DTEND;TZID=Europe/Berlin:20251111T173000
UID:252TA30290-20251111T164500@VHSUNTERLAND
SUMMARY:Zumba® Kids für Kinder von 6 - 11 Jahren (252TA30290) 
LOCATION:ta Schlossbergschule, Walter-Tost-Saal, In den Hofwiesen 15, 74388 Talheim
END:VEVENT
END:VCALENDAR