BEGIN:VCALENDAR
VERSION:2.0
PRODID:http://www.kufer.de/kuferweb / DE
METHOD:PUBLISH
CALSCALE:GREGORIAN
X-WR-TIMEZONE:Europe/Berlin
BEGIN:VTIMEZONE
TZID:Europe/Berlin
X-LIC-LOCATION:Europe/Berlin
BEGIN:DAYLIGHT
TZOFFSETFROM:+0100
TZOFFSETTO:+0200
TZNAME:CEST
DTSTART;TZID=Europe/Berlin:19700329T020000
RRULE:FREQ=YEARLY;INTERVAL=1;BYDAY=-1SU;BYMONTH=3
END:DAYLIGHT
BEGIN:STANDARD
TZOFFSETFROM:+0200
TZOFFSETTO:+0100
TZNAME:CET
DTSTART;TZID=Europe/Berlin:19701025T030000
RRULE:FREQ=YEARLY;INTERVAL=1;BYDAY=-1SU;BYMONTH=10
END:STANDARD
END:VTIMEZONE
BEGIN:VEVENT
DTSTAMP:20260424T223242
DTSTART;TZID=Europe/Berlin:20251002T175000
DTEND;TZID=Europe/Berlin:20251002T185000
UID:252SW30220-20251002T175000@VHSUNTERLAND
SUMMARY:Wirbelsäulengymnastik - Rückenfit (252SW30220) 
LOCATION:sw Frizhalle, Saal, Theodor-Heuss-Straße 12, 74193 Schwaigern
END:VEVENT
BEGIN:VEVENT
DTSTAMP:20260424T223242
DTSTART;TZID=Europe/Berlin:20251009T175000
DTEND;TZID=Europe/Berlin:20251009T185000
UID:252SW30220-20251009T175000@VHSUNTERLAND
SUMMARY:Wirbelsäulengymnastik - Rückenfit (252SW30220) 
LOCATION:sw Frizhalle, Saal, Theodor-Heuss-Straße 12, 74193 Schwaigern
END:VEVENT
BEGIN:VEVENT
DTSTAMP:20260424T223242
DTSTART;TZID=Europe/Berlin:20251016T175000
DTEND;TZID=Europe/Berlin:20251016T185000
UID:252SW30220-20251016T175000@VHSUNTERLAND
SUMMARY:Wirbelsäulengymnastik - Rückenfit (252SW30220) 
LOCATION:sw Frizhalle, Saal, Theodor-Heuss-Straße 12, 74193 Schwaigern
END:VEVENT
BEGIN:VEVENT
DTSTAMP:20260424T223242
DTSTART;TZID=Europe/Berlin:20251023T175000
DTEND;TZID=Europe/Berlin:20251023T185000
UID:252SW30220-20251023T175000@VHSUNTERLAND
SUMMARY:Wirbelsäulengymnastik - Rückenfit (252SW30220) 
LOCATION:sw Frizhalle, Saal, Theodor-Heuss-Straße 12, 74193 Schwaigern
END:VEVENT
BEGIN:VEVENT
DTSTAMP:20260424T223242
DTSTART;TZID=Europe/Berlin:20251106T175000
DTEND;TZID=Europe/Berlin:20251106T185000
UID:252SW30220-20251106T175000@VHSUNTERLAND
SUMMARY:Wirbelsäulengymnastik - Rückenfit (252SW30220) 
LOCATION:sw Frizhalle, Saal, Theodor-Heuss-Straße 12, 74193 Schwaigern
END:VEVENT
BEGIN:VEVENT
DTSTAMP:20260424T223242
DTSTART;TZID=Europe/Berlin:20251120T175000
DTEND;TZID=Europe/Berlin:20251120T185000
UID:252SW30220-20251120T175000@VHSUNTERLAND
SUMMARY:Wirbelsäulengymnastik - Rückenfit (252SW30220) 
LOCATION:sw Frizhalle, Saal, Theodor-Heuss-Straße 12, 74193 Schwaigern
END:VEVENT
BEGIN:VEVENT
DTSTAMP:20260424T223242
DTSTART;TZID=Europe/Berlin:20251127T175000
DTEND;TZID=Europe/Berlin:20251127T185000
UID:252SW30220-20251127T175000@VHSUNTERLAND
SUMMARY:Wirbelsäulengymnastik - Rückenfit (252SW30220) 
LOCATION:sw Frizhalle, Saal, Theodor-Heuss-Straße 12, 74193 Schwaigern
END:VEVENT
BEGIN:VEVENT
DTSTAMP:20260424T223242
DTSTART;TZID=Europe/Berlin:20251204T175000
DTEND;TZID=Europe/Berlin:20251204T185000
UID:252SW30220-20251204T175000@VHSUNTERLAND
SUMMARY:Wirbelsäulengymnastik - Rückenfit (252SW30220) 
LOCATION:sw Frizhalle, Saal, Theodor-Heuss-Straße 12, 74193 Schwaigern
END:VEVENT
BEGIN:VEVENT
DTSTAMP:20260424T223242
DTSTART;TZID=Europe/Berlin:20251211T175000
DTEND;TZID=Europe/Berlin:20251211T185000
UID:252SW30220-20251211T175000@VHSUNTERLAND
SUMMARY:Wirbelsäulengymnastik - Rückenfit (252SW30220) 
LOCATION:sw Frizhalle, Saal, Theodor-Heuss-Straße 12, 74193 Schwaigern
END:VEVENT
BEGIN:VEVENT
DTSTAMP:20260424T223242
DTSTART;TZID=Europe/Berlin:20251218T175000
DTEND;TZID=Europe/Berlin:20251218T185000
UID:252SW30220-20251218T175000@VHSUNTERLAND
SUMMARY:Wirbelsäulengymnastik - Rückenfit (252SW30220) 
LOCATION:sw Frizhalle, Saal, Theodor-Heuss-Straße 12, 74193 Schwaigern
END:VEVENT
BEGIN:VEVENT
DTSTAMP:20260424T223242
DTSTART;TZID=Europe/Berlin:20260108T175000
DTEND;TZID=Europe/Berlin:20260108T185000
UID:252SW30220-20260108T175000@VHSUNTERLAND
SUMMARY:Wirbelsäulengymnastik - Rückenfit (252SW30220) 
LOCATION:sw Frizhalle, Saal, Theodor-Heuss-Straße 12, 74193 Schwaigern
END:VEVENT
BEGIN:VEVENT
DTSTAMP:20260424T223242
DTSTART;TZID=Europe/Berlin:20260115T175000
DTEND;TZID=Europe/Berlin:20260115T185000
UID:252SW30220-20260115T175000@VHSUNTERLAND
DESCRIPTION:Ersatz für Ausfall am 13.11.2025
SUMMARY:Wirbelsäulengymnastik - Rückenfit (252SW30220) 
LOCATION:sw Frizhalle, Saal, Theodor-Heuss-Straße 12, 74193 Schwaigern
END:VEVENT
END:VCALENDAR