BEGIN:VCALENDAR
VERSION:2.0
PRODID:http://www.kufer.de/kuferweb / DE
METHOD:PUBLISH
CALSCALE:GREGORIAN
X-WR-TIMEZONE:Europe/Berlin
BEGIN:VTIMEZONE
TZID:Europe/Berlin
X-LIC-LOCATION:Europe/Berlin
BEGIN:DAYLIGHT
TZOFFSETFROM:+0100
TZOFFSETTO:+0200
TZNAME:CEST
DTSTART;TZID=Europe/Berlin:19700329T020000
RRULE:FREQ=YEARLY;INTERVAL=1;BYDAY=-1SU;BYMONTH=3
END:DAYLIGHT
BEGIN:STANDARD
TZOFFSETFROM:+0200
TZOFFSETTO:+0100
TZNAME:CET
DTSTART;TZID=Europe/Berlin:19701025T030000
RRULE:FREQ=YEARLY;INTERVAL=1;BYDAY=-1SU;BYMONTH=10
END:STANDARD
END:VTIMEZONE
BEGIN:VEVENT
DTSTAMP:20260423T185950
DTSTART;TZID=Europe/Berlin:20250917T163500
DTEND;TZID=Europe/Berlin:20250917T175000
UID:252SW30162-20250917T163500@VHSUNTERLAND
SUMMARY:Beweglicher werden mit der Feldenkrais-Methode (252SW30162) 
LOCATION:sw Sonnenberg Förderschule C 0.2, Weststraße 8, 74193 Schwaigern
END:VEVENT
BEGIN:VEVENT
DTSTAMP:20260423T185950
DTSTART;TZID=Europe/Berlin:20250924T163500
DTEND;TZID=Europe/Berlin:20250924T175000
UID:252SW30162-20250924T163500@VHSUNTERLAND
SUMMARY:Beweglicher werden mit der Feldenkrais-Methode (252SW30162) 
LOCATION:sw Sonnenberg Förderschule C 0.2, Weststraße 8, 74193 Schwaigern
END:VEVENT
BEGIN:VEVENT
DTSTAMP:20260423T185950
DTSTART;TZID=Europe/Berlin:20251001T163500
DTEND;TZID=Europe/Berlin:20251001T175000
UID:252SW30162-20251001T163500@VHSUNTERLAND
SUMMARY:Beweglicher werden mit der Feldenkrais-Methode (252SW30162) 
LOCATION:sw Sonnenberg Förderschule C 0.2, Weststraße 8, 74193 Schwaigern
END:VEVENT
BEGIN:VEVENT
DTSTAMP:20260423T185950
DTSTART;TZID=Europe/Berlin:20251008T163500
DTEND;TZID=Europe/Berlin:20251008T175000
UID:252SW30162-20251008T163500@VHSUNTERLAND
SUMMARY:Beweglicher werden mit der Feldenkrais-Methode (252SW30162) 
LOCATION:sw Sonnenberg Förderschule C 0.2, Weststraße 8, 74193 Schwaigern
END:VEVENT
BEGIN:VEVENT
DTSTAMP:20260423T185950
DTSTART;TZID=Europe/Berlin:20251015T163500
DTEND;TZID=Europe/Berlin:20251015T175000
UID:252SW30162-20251015T163500@VHSUNTERLAND
SUMMARY:Beweglicher werden mit der Feldenkrais-Methode (252SW30162) 
LOCATION:sw Sonnenberg Förderschule C 0.2, Weststraße 8, 74193 Schwaigern
END:VEVENT
BEGIN:VEVENT
DTSTAMP:20260423T185950
DTSTART;TZID=Europe/Berlin:20251022T163500
DTEND;TZID=Europe/Berlin:20251022T175000
UID:252SW30162-20251022T163500@VHSUNTERLAND
SUMMARY:Beweglicher werden mit der Feldenkrais-Methode (252SW30162) 
LOCATION:sw Sonnenberg Förderschule C 0.2, Weststraße 8, 74193 Schwaigern
END:VEVENT
BEGIN:VEVENT
DTSTAMP:20260423T185950
DTSTART;TZID=Europe/Berlin:20251105T163500
DTEND;TZID=Europe/Berlin:20251105T175000
UID:252SW30162-20251105T163500@VHSUNTERLAND
SUMMARY:Beweglicher werden mit der Feldenkrais-Methode (252SW30162) 
LOCATION:sw Sonnenberg Förderschule C 0.2, Weststraße 8, 74193 Schwaigern
END:VEVENT
BEGIN:VEVENT
DTSTAMP:20260423T185950
DTSTART;TZID=Europe/Berlin:20251112T163500
DTEND;TZID=Europe/Berlin:20251112T175000
UID:252SW30162-20251112T163500@VHSUNTERLAND
SUMMARY:Beweglicher werden mit der Feldenkrais-Methode (252SW30162) 
LOCATION:sw Sonnenberg Förderschule C 0.2, Weststraße 8, 74193 Schwaigern
END:VEVENT
BEGIN:VEVENT
DTSTAMP:20260423T185950
DTSTART;TZID=Europe/Berlin:20251119T163500
DTEND;TZID=Europe/Berlin:20251119T175000
UID:252SW30162-20251119T163500@VHSUNTERLAND
SUMMARY:Beweglicher werden mit der Feldenkrais-Methode (252SW30162) 
LOCATION:sw Sonnenberg Förderschule C 0.2, Weststraße 8, 74193 Schwaigern
END:VEVENT
END:VCALENDAR