BEGIN:VCALENDAR
VERSION:2.0
PRODID:http://www.kufer.de/kuferweb / DE
METHOD:PUBLISH
CALSCALE:GREGORIAN
X-WR-TIMEZONE:Europe/Berlin
BEGIN:VTIMEZONE
TZID:Europe/Berlin
X-LIC-LOCATION:Europe/Berlin
BEGIN:DAYLIGHT
TZOFFSETFROM:+0100
TZOFFSETTO:+0200
TZNAME:CEST
DTSTART;TZID=Europe/Berlin:19700329T020000
RRULE:FREQ=YEARLY;INTERVAL=1;BYDAY=-1SU;BYMONTH=3
END:DAYLIGHT
BEGIN:STANDARD
TZOFFSETFROM:+0200
TZOFFSETTO:+0100
TZNAME:CET
DTSTART;TZID=Europe/Berlin:19701025T030000
RRULE:FREQ=YEARLY;INTERVAL=1;BYDAY=-1SU;BYMONTH=10
END:STANDARD
END:VTIMEZONE
BEGIN:VEVENT
DTSTAMP:20260424T223224
DTSTART;TZID=Europe/Berlin:20251001T173000
DTEND;TZID=Europe/Berlin:20251001T183000
UID:252SW30131-20251001T173000@VHSUNTERLAND
SUMMARY:Hatha Yoga (252SW30131) 
LOCATION:sw Frizhalle, Saal, Theodor-Heuss-Straße 12, 74193 Schwaigern
END:VEVENT
BEGIN:VEVENT
DTSTAMP:20260424T223224
DTSTART;TZID=Europe/Berlin:20251015T173000
DTEND;TZID=Europe/Berlin:20251015T183000
UID:252SW30131-20251015T173000@VHSUNTERLAND
SUMMARY:Hatha Yoga (252SW30131) 
LOCATION:sw Frizhalle, Saal, Theodor-Heuss-Straße 12, 74193 Schwaigern
END:VEVENT
BEGIN:VEVENT
DTSTAMP:20260424T223224
DTSTART;TZID=Europe/Berlin:20251022T173000
DTEND;TZID=Europe/Berlin:20251022T183000
UID:252SW30131-20251022T173000@VHSUNTERLAND
SUMMARY:Hatha Yoga (252SW30131) 
LOCATION:sw Frizhalle, Saal, Theodor-Heuss-Straße 12, 74193 Schwaigern
END:VEVENT
BEGIN:VEVENT
DTSTAMP:20260424T223224
DTSTART;TZID=Europe/Berlin:20251112T173000
DTEND;TZID=Europe/Berlin:20251112T183000
UID:252SW30131-20251112T173000@VHSUNTERLAND
SUMMARY:Hatha Yoga (252SW30131) 
LOCATION:sw Frizhalle, Saal, Theodor-Heuss-Straße 12, 74193 Schwaigern
END:VEVENT
BEGIN:VEVENT
DTSTAMP:20260424T223224
DTSTART;TZID=Europe/Berlin:20251119T173000
DTEND;TZID=Europe/Berlin:20251119T183000
UID:252SW30131-20251119T173000@VHSUNTERLAND
SUMMARY:Hatha Yoga (252SW30131) 
LOCATION:sw Frizhalle, Saal, Theodor-Heuss-Straße 12, 74193 Schwaigern
END:VEVENT
BEGIN:VEVENT
DTSTAMP:20260424T223224
DTSTART;TZID=Europe/Berlin:20251126T173000
DTEND;TZID=Europe/Berlin:20251126T183000
UID:252SW30131-20251126T173000@VHSUNTERLAND
SUMMARY:Hatha Yoga (252SW30131) 
LOCATION:sw Frizhalle, Saal, Theodor-Heuss-Straße 12, 74193 Schwaigern
END:VEVENT
BEGIN:VEVENT
DTSTAMP:20260424T223224
DTSTART;TZID=Europe/Berlin:20251203T173000
DTEND;TZID=Europe/Berlin:20251203T183000
UID:252SW30131-20251203T173000@VHSUNTERLAND
SUMMARY:Hatha Yoga (252SW30131) 
LOCATION:sw Frizhalle, Saal, Theodor-Heuss-Straße 12, 74193 Schwaigern
END:VEVENT
BEGIN:VEVENT
DTSTAMP:20260424T223224
DTSTART;TZID=Europe/Berlin:20251210T173000
DTEND;TZID=Europe/Berlin:20251210T183000
UID:252SW30131-20251210T173000@VHSUNTERLAND
SUMMARY:Hatha Yoga (252SW30131) 
LOCATION:sw Frizhalle, Saal, Theodor-Heuss-Straße 12, 74193 Schwaigern
END:VEVENT
BEGIN:VEVENT
DTSTAMP:20260424T223224
DTSTART;TZID=Europe/Berlin:20260107T173000
DTEND;TZID=Europe/Berlin:20260107T183000
UID:252SW30131-20260107T173000@VHSUNTERLAND
SUMMARY:Hatha Yoga (252SW30131) 
LOCATION:sw Frizhalle, Saal, Theodor-Heuss-Straße 12, 74193 Schwaigern
END:VEVENT
BEGIN:VEVENT
DTSTAMP:20260424T223224
DTSTART;TZID=Europe/Berlin:20260114T173000
DTEND;TZID=Europe/Berlin:20260114T183000
UID:252SW30131-20260114T173000@VHSUNTERLAND
SUMMARY:Hatha Yoga (252SW30131) 
LOCATION:sw Frizhalle, Saal, Theodor-Heuss-Straße 12, 74193 Schwaigern
END:VEVENT
BEGIN:VEVENT
DTSTAMP:20260424T223224
DTSTART;TZID=Europe/Berlin:20260121T173000
DTEND;TZID=Europe/Berlin:20260121T183000
UID:252SW30131-20260121T173000@VHSUNTERLAND
SUMMARY:Hatha Yoga (252SW30131) 
LOCATION:sw Frizhalle, Saal, Theodor-Heuss-Straße 12, 74193 Schwaigern
END:VEVENT
BEGIN:VEVENT
DTSTAMP:20260424T223224
DTSTART;TZID=Europe/Berlin:20260128T173000
DTEND;TZID=Europe/Berlin:20260128T183000
UID:252SW30131-20260128T173000@VHSUNTERLAND
SUMMARY:Hatha Yoga (252SW30131) 
LOCATION:sw Frizhalle, Saal, Theodor-Heuss-Straße 12, 74193 Schwaigern
END:VEVENT
BEGIN:VEVENT
DTSTAMP:20260424T223224
DTSTART;TZID=Europe/Berlin:20260204T173000
DTEND;TZID=Europe/Berlin:20260204T183000
UID:252SW30131-20260204T173000@VHSUNTERLAND
SUMMARY:Hatha Yoga (252SW30131) 
LOCATION:sw Frizhalle, Saal, Theodor-Heuss-Straße 12, 74193 Schwaigern
END:VEVENT
BEGIN:VEVENT
DTSTAMP:20260424T223224
DTSTART;TZID=Europe/Berlin:20260211T173000
DTEND;TZID=Europe/Berlin:20260211T183000
UID:252SW30131-20260211T173000@VHSUNTERLAND
DESCRIPTION:Ersatz für Ausfall am 05.11.2025
SUMMARY:Hatha Yoga (252SW30131) 
LOCATION:sw Frizhalle, Saal, Theodor-Heuss-Straße 12, 74193 Schwaigern
END:VEVENT
END:VCALENDAR