BEGIN:VCALENDAR
VERSION:2.0
PRODID:http://www.kufer.de/kuferweb / DE
METHOD:PUBLISH
CALSCALE:GREGORIAN
X-WR-TIMEZONE:Europe/Berlin
BEGIN:VTIMEZONE
TZID:Europe/Berlin
X-LIC-LOCATION:Europe/Berlin
BEGIN:DAYLIGHT
TZOFFSETFROM:+0100
TZOFFSETTO:+0200
TZNAME:CEST
DTSTART;TZID=Europe/Berlin:19700329T020000
RRULE:FREQ=YEARLY;INTERVAL=1;BYDAY=-1SU;BYMONTH=3
END:DAYLIGHT
BEGIN:STANDARD
TZOFFSETFROM:+0200
TZOFFSETTO:+0100
TZNAME:CET
DTSTART;TZID=Europe/Berlin:19701025T030000
RRULE:FREQ=YEARLY;INTERVAL=1;BYDAY=-1SU;BYMONTH=10
END:STANDARD
END:VTIMEZONE
BEGIN:VEVENT
DTSTAMP:20260420T212920
DTSTART;TZID=Europe/Berlin:20260116T090000
DTEND;TZID=Europe/Berlin:20260116T103000
UID:252SW10513-20260116T090000@VHSUNTERLAND
SUMMARY:PEKiP für Babys, die im Frühling 2025 geboren wurden (252SW10513) 
LOCATION:sw Kinder- und Familienzentrum, Bahnhof, Stettener Straße 1, 74193 Schwaigern
END:VEVENT
BEGIN:VEVENT
DTSTAMP:20260420T212920
DTSTART;TZID=Europe/Berlin:20260123T090000
DTEND;TZID=Europe/Berlin:20260123T103000
UID:252SW10513-20260123T090000@VHSUNTERLAND
SUMMARY:PEKiP für Babys, die im Frühling 2025 geboren wurden (252SW10513) 
LOCATION:sw Kinder- und Familienzentrum, Bahnhof, Stettener Straße 1, 74193 Schwaigern
END:VEVENT
BEGIN:VEVENT
DTSTAMP:20260420T212920
DTSTART;TZID=Europe/Berlin:20260206T090000
DTEND;TZID=Europe/Berlin:20260206T103000
UID:252SW10513-20260206T090000@VHSUNTERLAND
SUMMARY:PEKiP für Babys, die im Frühling 2025 geboren wurden (252SW10513) 
LOCATION:sw Kinder- und Familienzentrum, Bahnhof, Stettener Straße 1, 74193 Schwaigern
END:VEVENT
BEGIN:VEVENT
DTSTAMP:20260420T212920
DTSTART;TZID=Europe/Berlin:20260213T090000
DTEND;TZID=Europe/Berlin:20260213T103000
UID:252SW10513-20260213T090000@VHSUNTERLAND
SUMMARY:PEKiP für Babys, die im Frühling 2025 geboren wurden (252SW10513) 
LOCATION:sw Kinder- und Familienzentrum, Bahnhof, Stettener Straße 1, 74193 Schwaigern
END:VEVENT
BEGIN:VEVENT
DTSTAMP:20260420T212920
DTSTART;TZID=Europe/Berlin:20260227T090000
DTEND;TZID=Europe/Berlin:20260227T103000
UID:252SW10513-20260227T090000@VHSUNTERLAND
SUMMARY:PEKiP für Babys, die im Frühling 2025 geboren wurden (252SW10513) 
LOCATION:sw Kinder- und Familienzentrum, Bahnhof, Stettener Straße 1, 74193 Schwaigern
END:VEVENT
BEGIN:VEVENT
DTSTAMP:20260420T212920
DTSTART;TZID=Europe/Berlin:20260306T090000
DTEND;TZID=Europe/Berlin:20260306T103000
UID:252SW10513-20260306T090000@VHSUNTERLAND
SUMMARY:PEKiP für Babys, die im Frühling 2025 geboren wurden (252SW10513) 
LOCATION:sw Kinder- und Familienzentrum, Bahnhof, Stettener Straße 1, 74193 Schwaigern
END:VEVENT
BEGIN:VEVENT
DTSTAMP:20260420T212920
DTSTART;TZID=Europe/Berlin:20260313T090000
DTEND;TZID=Europe/Berlin:20260313T103000
UID:252SW10513-20260313T090000@VHSUNTERLAND
SUMMARY:PEKiP für Babys, die im Frühling 2025 geboren wurden (252SW10513) 
LOCATION:sw Kinder- und Familienzentrum, Bahnhof, Stettener Straße 1, 74193 Schwaigern
END:VEVENT
BEGIN:VEVENT
DTSTAMP:20260420T212920
DTSTART;TZID=Europe/Berlin:20260320T090000
DTEND;TZID=Europe/Berlin:20260320T103000
UID:252SW10513-20260320T090000@VHSUNTERLAND
SUMMARY:PEKiP für Babys, die im Frühling 2025 geboren wurden (252SW10513) 
LOCATION:sw Kinder- und Familienzentrum, Bahnhof, Stettener Straße 1, 74193 Schwaigern
END:VEVENT
BEGIN:VEVENT
DTSTAMP:20260420T212920
DTSTART;TZID=Europe/Berlin:20260327T090000
DTEND;TZID=Europe/Berlin:20260327T103000
UID:252SW10513-20260327T090000@VHSUNTERLAND
SUMMARY:PEKiP für Babys, die im Frühling 2025 geboren wurden (252SW10513) 
LOCATION:sw Kinder- und Familienzentrum, Bahnhof, Stettener Straße 1, 74193 Schwaigern
END:VEVENT
BEGIN:VEVENT
DTSTAMP:20260420T212920
DTSTART;TZID=Europe/Berlin:20260410T090000
DTEND;TZID=Europe/Berlin:20260410T103000
UID:252SW10513-20260410T090000@VHSUNTERLAND
DESCRIPTION:Ersatz für Ausfall am 30.01.2026
SUMMARY:PEKiP für Babys, die im Frühling 2025 geboren wurden (252SW10513) 
LOCATION:sw Kinder- und Familienzentrum, Bahnhof, Stettener Straße 1, 74193 Schwaigern
END:VEVENT
END:VCALENDAR