BEGIN:VCALENDAR
VERSION:2.0
PRODID:http://www.kufer.de/kuferweb / DE
METHOD:PUBLISH
CALSCALE:GREGORIAN
X-WR-TIMEZONE:Europe/Berlin
BEGIN:VTIMEZONE
TZID:Europe/Berlin
X-LIC-LOCATION:Europe/Berlin
BEGIN:DAYLIGHT
TZOFFSETFROM:+0100
TZOFFSETTO:+0200
TZNAME:CEST
DTSTART;TZID=Europe/Berlin:19700329T020000
RRULE:FREQ=YEARLY;INTERVAL=1;BYDAY=-1SU;BYMONTH=3
END:DAYLIGHT
BEGIN:STANDARD
TZOFFSETFROM:+0200
TZOFFSETTO:+0100
TZNAME:CET
DTSTART;TZID=Europe/Berlin:19701025T030000
RRULE:FREQ=YEARLY;INTERVAL=1;BYDAY=-1SU;BYMONTH=10
END:STANDARD
END:VTIMEZONE
BEGIN:VEVENT
DTSTAMP:20260423T080406
DTSTART;TZID=Europe/Berlin:20250929T180000
DTEND;TZID=Europe/Berlin:20250929T190000
UID:252SI30235-20250929T180000@VHSUNTERLAND
SUMMARY:ZUMBA® (252SI30235) 
LOCATION:si Bürgerzentrum, großer Bürgersaal, Wagenbacher Straße 4a, 74936 Siegelsbach
END:VEVENT
BEGIN:VEVENT
DTSTAMP:20260423T080406
DTSTART;TZID=Europe/Berlin:20251006T180000
DTEND;TZID=Europe/Berlin:20251006T190000
UID:252SI30235-20251006T180000@VHSUNTERLAND
SUMMARY:ZUMBA® (252SI30235) 
LOCATION:si Bürgerzentrum, großer Bürgersaal, Wagenbacher Straße 4a, 74936 Siegelsbach
END:VEVENT
BEGIN:VEVENT
DTSTAMP:20260423T080406
DTSTART;TZID=Europe/Berlin:20251013T180000
DTEND;TZID=Europe/Berlin:20251013T190000
UID:252SI30235-20251013T180000@VHSUNTERLAND
SUMMARY:ZUMBA® (252SI30235) 
LOCATION:si Bürgerzentrum, großer Bürgersaal, Wagenbacher Straße 4a, 74936 Siegelsbach
END:VEVENT
BEGIN:VEVENT
DTSTAMP:20260423T080406
DTSTART;TZID=Europe/Berlin:20251103T180000
DTEND;TZID=Europe/Berlin:20251103T190000
UID:252SI30235-20251103T180000@VHSUNTERLAND
SUMMARY:ZUMBA® (252SI30235) 
LOCATION:si Bürgerzentrum, großer Bürgersaal, Wagenbacher Straße 4a, 74936 Siegelsbach
END:VEVENT
BEGIN:VEVENT
DTSTAMP:20260423T080406
DTSTART;TZID=Europe/Berlin:20251110T180000
DTEND;TZID=Europe/Berlin:20251110T190000
UID:252SI30235-20251110T180000@VHSUNTERLAND
SUMMARY:ZUMBA® (252SI30235) 
LOCATION:si Bürgerzentrum, großer Bürgersaal, Wagenbacher Straße 4a, 74936 Siegelsbach
END:VEVENT
BEGIN:VEVENT
DTSTAMP:20260423T080406
DTSTART;TZID=Europe/Berlin:20251117T180000
DTEND;TZID=Europe/Berlin:20251117T190000
UID:252SI30235-20251117T180000@VHSUNTERLAND
SUMMARY:ZUMBA® (252SI30235) 
LOCATION:si Bürgerzentrum, großer Bürgersaal, Wagenbacher Straße 4a, 74936 Siegelsbach
END:VEVENT
BEGIN:VEVENT
DTSTAMP:20260423T080406
DTSTART;TZID=Europe/Berlin:20251124T180000
DTEND;TZID=Europe/Berlin:20251124T190000
UID:252SI30235-20251124T180000@VHSUNTERLAND
SUMMARY:ZUMBA® (252SI30235) 
LOCATION:si Bürgerzentrum, großer Bürgersaal, Wagenbacher Straße 4a, 74936 Siegelsbach
END:VEVENT
BEGIN:VEVENT
DTSTAMP:20260423T080406
DTSTART;TZID=Europe/Berlin:20251201T180000
DTEND;TZID=Europe/Berlin:20251201T190000
UID:252SI30235-20251201T180000@VHSUNTERLAND
SUMMARY:ZUMBA® (252SI30235) 
LOCATION:si Bürgerzentrum, großer Bürgersaal, Wagenbacher Straße 4a, 74936 Siegelsbach
END:VEVENT
BEGIN:VEVENT
DTSTAMP:20260423T080406
DTSTART;TZID=Europe/Berlin:20251208T180000
DTEND;TZID=Europe/Berlin:20251208T190000
UID:252SI30235-20251208T180000@VHSUNTERLAND
SUMMARY:ZUMBA® (252SI30235) 
LOCATION:si Bürgerzentrum, großer Bürgersaal, Wagenbacher Straße 4a, 74936 Siegelsbach
END:VEVENT
BEGIN:VEVENT
DTSTAMP:20260423T080406
DTSTART;TZID=Europe/Berlin:20251215T180000
DTEND;TZID=Europe/Berlin:20251215T190000
UID:252SI30235-20251215T180000@VHSUNTERLAND
SUMMARY:ZUMBA® (252SI30235) 
LOCATION:si Bürgerzentrum, großer Bürgersaal, Wagenbacher Straße 4a, 74936 Siegelsbach
END:VEVENT
BEGIN:VEVENT
DTSTAMP:20260423T080406
DTSTART;TZID=Europe/Berlin:20260112T180000
DTEND;TZID=Europe/Berlin:20260112T190000
UID:252SI30235-20260112T180000@VHSUNTERLAND
SUMMARY:ZUMBA® (252SI30235) 
LOCATION:si Bürgerzentrum, großer Bürgersaal, Wagenbacher Straße 4a, 74936 Siegelsbach
END:VEVENT
BEGIN:VEVENT
DTSTAMP:20260423T080406
DTSTART;TZID=Europe/Berlin:20260119T180000
DTEND;TZID=Europe/Berlin:20260119T190000
UID:252SI30235-20260119T180000@VHSUNTERLAND
SUMMARY:ZUMBA® (252SI30235) 
LOCATION:si Bürgerzentrum, großer Bürgersaal, Wagenbacher Straße 4a, 74936 Siegelsbach
END:VEVENT
BEGIN:VEVENT
DTSTAMP:20260423T080406
DTSTART;TZID=Europe/Berlin:20260126T180000
DTEND;TZID=Europe/Berlin:20260126T190000
UID:252SI30235-20260126T180000@VHSUNTERLAND
SUMMARY:ZUMBA® (252SI30235) 
LOCATION:si Bürgerzentrum, großer Bürgersaal, Wagenbacher Straße 4a, 74936 Siegelsbach
END:VEVENT
BEGIN:VEVENT
DTSTAMP:20260423T080406
DTSTART;TZID=Europe/Berlin:20260202T180000
DTEND;TZID=Europe/Berlin:20260202T190000
UID:252SI30235-20260202T180000@VHSUNTERLAND
SUMMARY:ZUMBA® (252SI30235) 
LOCATION:si Bürgerzentrum, großer Bürgersaal, Wagenbacher Straße 4a, 74936 Siegelsbach
END:VEVENT
BEGIN:VEVENT
DTSTAMP:20260423T080406
DTSTART;TZID=Europe/Berlin:20260209T180000
DTEND;TZID=Europe/Berlin:20260209T190000
UID:252SI30235-20260209T180000@VHSUNTERLAND
DESCRIPTION:Ersatz für Ausfall am 20.10.2025
SUMMARY:ZUMBA® (252SI30235) 
LOCATION:si Bürgerzentrum, großer Bürgersaal, Wagenbacher Straße 4a, 74936 Siegelsbach
END:VEVENT
END:VCALENDAR