BEGIN:VCALENDAR
VERSION:2.0
PRODID:http://www.kufer.de/kuferweb / DE
METHOD:PUBLISH
CALSCALE:GREGORIAN
X-WR-TIMEZONE:Europe/Berlin
BEGIN:VTIMEZONE
TZID:Europe/Berlin
X-LIC-LOCATION:Europe/Berlin
BEGIN:DAYLIGHT
TZOFFSETFROM:+0100
TZOFFSETTO:+0200
TZNAME:CEST
DTSTART;TZID=Europe/Berlin:19700329T020000
RRULE:FREQ=YEARLY;INTERVAL=1;BYDAY=-1SU;BYMONTH=3
END:DAYLIGHT
BEGIN:STANDARD
TZOFFSETFROM:+0200
TZOFFSETTO:+0100
TZNAME:CET
DTSTART;TZID=Europe/Berlin:19701025T030000
RRULE:FREQ=YEARLY;INTERVAL=1;BYDAY=-1SU;BYMONTH=10
END:STANDARD
END:VTIMEZONE
BEGIN:VEVENT
DTSTAMP:20260423T195723
DTSTART;TZID=Europe/Berlin:20251203T140000
DTEND;TZID=Europe/Berlin:20251203T161500
UID:252OS50150-20251203T140000@VHSUNTERLAND
SUMMARY:Social Media für Senior*innen: WhatsApp, Instagram, TikTok, X & YouTube leicht erklärt (252OS50150) 
LOCATION:os Kulturhaus Affaltrach, Rathausgasse 6-8, 74182 Obersulm
END:VEVENT
END:VCALENDAR