BEGIN:VCALENDAR
VERSION:2.0
PRODID:http://www.kufer.de/kuferweb / DE
METHOD:PUBLISH
CALSCALE:GREGORIAN
X-WR-TIMEZONE:Europe/Berlin
BEGIN:VTIMEZONE
TZID:Europe/Berlin
X-LIC-LOCATION:Europe/Berlin
BEGIN:DAYLIGHT
TZOFFSETFROM:+0100
TZOFFSETTO:+0200
TZNAME:CEST
DTSTART;TZID=Europe/Berlin:19700329T020000
RRULE:FREQ=YEARLY;INTERVAL=1;BYDAY=-1SU;BYMONTH=3
END:DAYLIGHT
BEGIN:STANDARD
TZOFFSETFROM:+0200
TZOFFSETTO:+0100
TZNAME:CET
DTSTART;TZID=Europe/Berlin:19701025T030000
RRULE:FREQ=YEARLY;INTERVAL=1;BYDAY=-1SU;BYMONTH=10
END:STANDARD
END:VTIMEZONE
BEGIN:VEVENT
DTSTAMP:20260424T234331
DTSTART;TZID=Europe/Berlin:20260121T162500
DTEND;TZID=Europe/Berlin:20260121T175500
UID:252OS40909-20260121T162500@VHSUNTERLAND
SUMMARY:Italienisch A1.1  für Anfänger*innen mit geringen Vorkenntnissen (252OS40909) 
LOCATION:os Realschule Willsbach, Raum 405, Pestalozzistraße 37, 74182 Obersulm
END:VEVENT
BEGIN:VEVENT
DTSTAMP:20260424T234331
DTSTART;TZID=Europe/Berlin:20260128T162500
DTEND;TZID=Europe/Berlin:20260128T175500
UID:252OS40909-20260128T162500@VHSUNTERLAND
SUMMARY:Italienisch A1.1  für Anfänger*innen mit geringen Vorkenntnissen (252OS40909) 
LOCATION:os Realschule Willsbach, Raum 405, Pestalozzistraße 37, 74182 Obersulm
END:VEVENT
BEGIN:VEVENT
DTSTAMP:20260424T234331
DTSTART;TZID=Europe/Berlin:20260204T162500
DTEND;TZID=Europe/Berlin:20260204T175500
UID:252OS40909-20260204T162500@VHSUNTERLAND
SUMMARY:Italienisch A1.1  für Anfänger*innen mit geringen Vorkenntnissen (252OS40909) 
LOCATION:os Realschule Willsbach, Raum 405, Pestalozzistraße 37, 74182 Obersulm
END:VEVENT
BEGIN:VEVENT
DTSTAMP:20260424T234331
DTSTART;TZID=Europe/Berlin:20260211T162500
DTEND;TZID=Europe/Berlin:20260211T175500
UID:252OS40909-20260211T162500@VHSUNTERLAND
SUMMARY:Italienisch A1.1  für Anfänger*innen mit geringen Vorkenntnissen (252OS40909) 
LOCATION:os Realschule Willsbach, Raum 405, Pestalozzistraße 37, 74182 Obersulm
END:VEVENT
END:VCALENDAR