BEGIN:VCALENDAR
VERSION:2.0
PRODID:http://www.kufer.de/kuferweb / DE
METHOD:PUBLISH
CALSCALE:GREGORIAN
X-WR-TIMEZONE:Europe/Berlin
BEGIN:VTIMEZONE
TZID:Europe/Berlin
X-LIC-LOCATION:Europe/Berlin
BEGIN:DAYLIGHT
TZOFFSETFROM:+0100
TZOFFSETTO:+0200
TZNAME:CEST
DTSTART;TZID=Europe/Berlin:19700329T020000
RRULE:FREQ=YEARLY;INTERVAL=1;BYDAY=-1SU;BYMONTH=3
END:DAYLIGHT
BEGIN:STANDARD
TZOFFSETFROM:+0200
TZOFFSETTO:+0100
TZNAME:CET
DTSTART;TZID=Europe/Berlin:19701025T030000
RRULE:FREQ=YEARLY;INTERVAL=1;BYDAY=-1SU;BYMONTH=10
END:STANDARD
END:VTIMEZONE
BEGIN:VEVENT
DTSTAMP:20260426T022025
DTSTART;TZID=Europe/Berlin:20250930T173000
DTEND;TZID=Europe/Berlin:20250930T183000
UID:252OS40822-20250930T173000@VHSUNTERLAND
SUMMARY:Französisch A2.1 (252OS40822) 
LOCATION:os Realschule Willsbach, Raum 402, Pestalozzistraße 37, 74182 Obersulm
END:VEVENT
BEGIN:VEVENT
DTSTAMP:20260426T022025
DTSTART;TZID=Europe/Berlin:20251007T173000
DTEND;TZID=Europe/Berlin:20251007T183000
UID:252OS40822-20251007T173000@VHSUNTERLAND
SUMMARY:Französisch A2.1 (252OS40822) 
LOCATION:os Realschule Willsbach, Raum 402, Pestalozzistraße 37, 74182 Obersulm
END:VEVENT
BEGIN:VEVENT
DTSTAMP:20260426T022025
DTSTART;TZID=Europe/Berlin:20251014T173000
DTEND;TZID=Europe/Berlin:20251014T183000
UID:252OS40822-20251014T173000@VHSUNTERLAND
SUMMARY:Französisch A2.1 (252OS40822) 
LOCATION:os Realschule Willsbach, Raum 402, Pestalozzistraße 37, 74182 Obersulm
END:VEVENT
BEGIN:VEVENT
DTSTAMP:20260426T022025
DTSTART;TZID=Europe/Berlin:20251021T173000
DTEND;TZID=Europe/Berlin:20251021T183000
UID:252OS40822-20251021T173000@VHSUNTERLAND
SUMMARY:Französisch A2.1 (252OS40822) 
LOCATION:os Realschule Willsbach, Raum 402, Pestalozzistraße 37, 74182 Obersulm
END:VEVENT
BEGIN:VEVENT
DTSTAMP:20260426T022025
DTSTART;TZID=Europe/Berlin:20251104T173000
DTEND;TZID=Europe/Berlin:20251104T183000
UID:252OS40822-20251104T173000@VHSUNTERLAND
SUMMARY:Französisch A2.1 (252OS40822) 
LOCATION:os Realschule Willsbach, Raum 402, Pestalozzistraße 37, 74182 Obersulm
END:VEVENT
BEGIN:VEVENT
DTSTAMP:20260426T022025
DTSTART;TZID=Europe/Berlin:20251111T173000
DTEND;TZID=Europe/Berlin:20251111T183000
UID:252OS40822-20251111T173000@VHSUNTERLAND
SUMMARY:Französisch A2.1 (252OS40822) 
LOCATION:os Realschule Willsbach, Raum 402, Pestalozzistraße 37, 74182 Obersulm
END:VEVENT
BEGIN:VEVENT
DTSTAMP:20260426T022025
DTSTART;TZID=Europe/Berlin:20251118T173000
DTEND;TZID=Europe/Berlin:20251118T183000
UID:252OS40822-20251118T173000@VHSUNTERLAND
SUMMARY:Französisch A2.1 (252OS40822) 
LOCATION:os Realschule Willsbach, Raum 402, Pestalozzistraße 37, 74182 Obersulm
END:VEVENT
BEGIN:VEVENT
DTSTAMP:20260426T022025
DTSTART;TZID=Europe/Berlin:20251125T173000
DTEND;TZID=Europe/Berlin:20251125T183000
UID:252OS40822-20251125T173000@VHSUNTERLAND
SUMMARY:Französisch A2.1 (252OS40822) 
LOCATION:os Realschule Willsbach, Raum 402, Pestalozzistraße 37, 74182 Obersulm
END:VEVENT
BEGIN:VEVENT
DTSTAMP:20260426T022025
DTSTART;TZID=Europe/Berlin:20251202T173000
DTEND;TZID=Europe/Berlin:20251202T183000
UID:252OS40822-20251202T173000@VHSUNTERLAND
SUMMARY:Französisch A2.1 (252OS40822) 
LOCATION:os Realschule Willsbach, Raum 402, Pestalozzistraße 37, 74182 Obersulm
END:VEVENT
BEGIN:VEVENT
DTSTAMP:20260426T022025
DTSTART;TZID=Europe/Berlin:20251209T173000
DTEND;TZID=Europe/Berlin:20251209T183000
UID:252OS40822-20251209T173000@VHSUNTERLAND
SUMMARY:Französisch A2.1 (252OS40822) 
LOCATION:os Realschule Willsbach, Raum 402, Pestalozzistraße 37, 74182 Obersulm
END:VEVENT
BEGIN:VEVENT
DTSTAMP:20260426T022025
DTSTART;TZID=Europe/Berlin:20251216T173000
DTEND;TZID=Europe/Berlin:20251216T183000
UID:252OS40822-20251216T173000@VHSUNTERLAND
SUMMARY:Französisch A2.1 (252OS40822) 
LOCATION:os Realschule Willsbach, Raum 402, Pestalozzistraße 37, 74182 Obersulm
END:VEVENT
BEGIN:VEVENT
DTSTAMP:20260426T022025
DTSTART;TZID=Europe/Berlin:20260113T173000
DTEND;TZID=Europe/Berlin:20260113T183000
UID:252OS40822-20260113T173000@VHSUNTERLAND
SUMMARY:Französisch A2.1 (252OS40822) 
LOCATION:os Realschule Willsbach, Raum 402, Pestalozzistraße 37, 74182 Obersulm
END:VEVENT
BEGIN:VEVENT
DTSTAMP:20260426T022025
DTSTART;TZID=Europe/Berlin:20260120T173000
DTEND;TZID=Europe/Berlin:20260120T183000
UID:252OS40822-20260120T173000@VHSUNTERLAND
SUMMARY:Französisch A2.1 (252OS40822) 
LOCATION:os Realschule Willsbach, Raum 402, Pestalozzistraße 37, 74182 Obersulm
END:VEVENT
BEGIN:VEVENT
DTSTAMP:20260426T022025
DTSTART;TZID=Europe/Berlin:20260127T173000
DTEND;TZID=Europe/Berlin:20260127T183000
UID:252OS40822-20260127T173000@VHSUNTERLAND
SUMMARY:Französisch A2.1 (252OS40822) 
LOCATION:os Realschule Willsbach, Raum 402, Pestalozzistraße 37, 74182 Obersulm
END:VEVENT
BEGIN:VEVENT
DTSTAMP:20260426T022025
DTSTART;TZID=Europe/Berlin:20260203T173000
DTEND;TZID=Europe/Berlin:20260203T183000
UID:252OS40822-20260203T173000@VHSUNTERLAND
SUMMARY:Französisch A2.1 (252OS40822) 
LOCATION:os Realschule Willsbach, Raum 402, Pestalozzistraße 37, 74182 Obersulm
END:VEVENT
END:VCALENDAR