BEGIN:VCALENDAR
VERSION:2.0
PRODID:http://www.kufer.de/kuferweb / DE
METHOD:PUBLISH
CALSCALE:GREGORIAN
X-WR-TIMEZONE:Europe/Berlin
BEGIN:VTIMEZONE
TZID:Europe/Berlin
X-LIC-LOCATION:Europe/Berlin
BEGIN:DAYLIGHT
TZOFFSETFROM:+0100
TZOFFSETTO:+0200
TZNAME:CEST
DTSTART;TZID=Europe/Berlin:19700329T020000
RRULE:FREQ=YEARLY;INTERVAL=1;BYDAY=-1SU;BYMONTH=3
END:DAYLIGHT
BEGIN:STANDARD
TZOFFSETFROM:+0200
TZOFFSETTO:+0100
TZNAME:CET
DTSTART;TZID=Europe/Berlin:19701025T030000
RRULE:FREQ=YEARLY;INTERVAL=1;BYDAY=-1SU;BYMONTH=10
END:STANDARD
END:VTIMEZONE
BEGIN:VEVENT
DTSTAMP:20260424T161809
DTSTART;TZID=Europe/Berlin:20251002T185500
DTEND;TZID=Europe/Berlin:20251002T195500
UID:252OS40821-20251002T185500@VHSUNTERLAND
SUMMARY:Französisch A2.1 (252OS40821) 
LOCATION:os Realschule Willsbach, Raum 402, Pestalozzistraße 37, 74182 Obersulm
END:VEVENT
BEGIN:VEVENT
DTSTAMP:20260424T161809
DTSTART;TZID=Europe/Berlin:20251009T185500
DTEND;TZID=Europe/Berlin:20251009T195500
UID:252OS40821-20251009T185500@VHSUNTERLAND
SUMMARY:Französisch A2.1 (252OS40821) 
LOCATION:os Realschule Willsbach, Raum 402, Pestalozzistraße 37, 74182 Obersulm
END:VEVENT
BEGIN:VEVENT
DTSTAMP:20260424T161809
DTSTART;TZID=Europe/Berlin:20251016T185500
DTEND;TZID=Europe/Berlin:20251016T195500
UID:252OS40821-20251016T185500@VHSUNTERLAND
SUMMARY:Französisch A2.1 (252OS40821) 
LOCATION:os Realschule Willsbach, Raum 402, Pestalozzistraße 37, 74182 Obersulm
END:VEVENT
BEGIN:VEVENT
DTSTAMP:20260424T161809
DTSTART;TZID=Europe/Berlin:20251023T185500
DTEND;TZID=Europe/Berlin:20251023T195500
UID:252OS40821-20251023T185500@VHSUNTERLAND
SUMMARY:Französisch A2.1 (252OS40821) 
LOCATION:os Realschule Willsbach, Raum 402, Pestalozzistraße 37, 74182 Obersulm
END:VEVENT
BEGIN:VEVENT
DTSTAMP:20260424T161809
DTSTART;TZID=Europe/Berlin:20251106T185500
DTEND;TZID=Europe/Berlin:20251106T195500
UID:252OS40821-20251106T185500@VHSUNTERLAND
SUMMARY:Französisch A2.1 (252OS40821) 
LOCATION:os Realschule Willsbach, Raum 402, Pestalozzistraße 37, 74182 Obersulm
END:VEVENT
BEGIN:VEVENT
DTSTAMP:20260424T161809
DTSTART;TZID=Europe/Berlin:20251113T185500
DTEND;TZID=Europe/Berlin:20251113T195500
UID:252OS40821-20251113T185500@VHSUNTERLAND
SUMMARY:Französisch A2.1 (252OS40821) 
LOCATION:os Realschule Willsbach, Raum 402, Pestalozzistraße 37, 74182 Obersulm
END:VEVENT
BEGIN:VEVENT
DTSTAMP:20260424T161809
DTSTART;TZID=Europe/Berlin:20251120T185500
DTEND;TZID=Europe/Berlin:20251120T195500
UID:252OS40821-20251120T185500@VHSUNTERLAND
SUMMARY:Französisch A2.1 (252OS40821) 
LOCATION:os Realschule Willsbach, Raum 402, Pestalozzistraße 37, 74182 Obersulm
END:VEVENT
BEGIN:VEVENT
DTSTAMP:20260424T161809
DTSTART;TZID=Europe/Berlin:20251127T185500
DTEND;TZID=Europe/Berlin:20251127T195500
UID:252OS40821-20251127T185500@VHSUNTERLAND
SUMMARY:Französisch A2.1 (252OS40821) 
LOCATION:os Realschule Willsbach, Raum 402, Pestalozzistraße 37, 74182 Obersulm
END:VEVENT
BEGIN:VEVENT
DTSTAMP:20260424T161809
DTSTART;TZID=Europe/Berlin:20251204T185500
DTEND;TZID=Europe/Berlin:20251204T195500
UID:252OS40821-20251204T185500@VHSUNTERLAND
SUMMARY:Französisch A2.1 (252OS40821) 
LOCATION:os Realschule Willsbach, Raum 402, Pestalozzistraße 37, 74182 Obersulm
END:VEVENT
BEGIN:VEVENT
DTSTAMP:20260424T161809
DTSTART;TZID=Europe/Berlin:20251211T185500
DTEND;TZID=Europe/Berlin:20251211T195500
UID:252OS40821-20251211T185500@VHSUNTERLAND
SUMMARY:Französisch A2.1 (252OS40821) 
LOCATION:os Realschule Willsbach, Raum 402, Pestalozzistraße 37, 74182 Obersulm
END:VEVENT
BEGIN:VEVENT
DTSTAMP:20260424T161809
DTSTART;TZID=Europe/Berlin:20251218T185500
DTEND;TZID=Europe/Berlin:20251218T195500
UID:252OS40821-20251218T185500@VHSUNTERLAND
SUMMARY:Französisch A2.1 (252OS40821) 
LOCATION:os Realschule Willsbach, Raum 402, Pestalozzistraße 37, 74182 Obersulm
END:VEVENT
BEGIN:VEVENT
DTSTAMP:20260424T161809
DTSTART;TZID=Europe/Berlin:20260108T185500
DTEND;TZID=Europe/Berlin:20260108T195500
UID:252OS40821-20260108T185500@VHSUNTERLAND
SUMMARY:Französisch A2.1 (252OS40821) 
LOCATION:os Realschule Willsbach, Raum 402, Pestalozzistraße 37, 74182 Obersulm
END:VEVENT
BEGIN:VEVENT
DTSTAMP:20260424T161809
DTSTART;TZID=Europe/Berlin:20260115T185500
DTEND;TZID=Europe/Berlin:20260115T195500
UID:252OS40821-20260115T185500@VHSUNTERLAND
SUMMARY:Französisch A2.1 (252OS40821) 
LOCATION:os Realschule Willsbach, Raum 402, Pestalozzistraße 37, 74182 Obersulm
END:VEVENT
BEGIN:VEVENT
DTSTAMP:20260424T161809
DTSTART;TZID=Europe/Berlin:20260122T185500
DTEND;TZID=Europe/Berlin:20260122T195500
UID:252OS40821-20260122T185500@VHSUNTERLAND
SUMMARY:Französisch A2.1 (252OS40821) 
LOCATION:os Realschule Willsbach, Raum 402, Pestalozzistraße 37, 74182 Obersulm
END:VEVENT
BEGIN:VEVENT
DTSTAMP:20260424T161809
DTSTART;TZID=Europe/Berlin:20260129T185500
DTEND;TZID=Europe/Berlin:20260129T195500
UID:252OS40821-20260129T185500@VHSUNTERLAND
SUMMARY:Französisch A2.1 (252OS40821) 
LOCATION:os Realschule Willsbach, Raum 402, Pestalozzistraße 37, 74182 Obersulm
END:VEVENT
END:VCALENDAR