BEGIN:VCALENDAR
VERSION:2.0
PRODID:http://www.kufer.de/kuferweb / DE
METHOD:PUBLISH
CALSCALE:GREGORIAN
X-WR-TIMEZONE:Europe/Berlin
BEGIN:VTIMEZONE
TZID:Europe/Berlin
X-LIC-LOCATION:Europe/Berlin
BEGIN:DAYLIGHT
TZOFFSETFROM:+0100
TZOFFSETTO:+0200
TZNAME:CEST
DTSTART;TZID=Europe/Berlin:19700329T020000
RRULE:FREQ=YEARLY;INTERVAL=1;BYDAY=-1SU;BYMONTH=3
END:DAYLIGHT
BEGIN:STANDARD
TZOFFSETFROM:+0200
TZOFFSETTO:+0100
TZNAME:CET
DTSTART;TZID=Europe/Berlin:19701025T030000
RRULE:FREQ=YEARLY;INTERVAL=1;BYDAY=-1SU;BYMONTH=10
END:STANDARD
END:VTIMEZONE
BEGIN:VEVENT
DTSTAMP:20260421T011923
DTSTART;TZID=Europe/Berlin:20251004T100000
DTEND;TZID=Europe/Berlin:20251004T130000
UID:252OS40626-20251004T100000@VHSUNTERLAND
SUMMARY:Englisch Kompaktkurs A2 für Teilnehmer*innen mit Vorkenntnissen (252OS40626) 
LOCATION:os Feuerwehrhaus Sülzbach, Sitzungssaal, Hauptstraße 2, 74182 Obersulm
END:VEVENT
BEGIN:VEVENT
DTSTAMP:20260421T011923
DTSTART;TZID=Europe/Berlin:20251108T100000
DTEND;TZID=Europe/Berlin:20251108T130000
UID:252OS40626-20251108T100000@VHSUNTERLAND
SUMMARY:Englisch Kompaktkurs A2 für Teilnehmer*innen mit Vorkenntnissen (252OS40626) 
LOCATION:os Feuerwehrhaus Sülzbach, Sitzungssaal, Hauptstraße 2, 74182 Obersulm
END:VEVENT
BEGIN:VEVENT
DTSTAMP:20260421T011923
DTSTART;TZID=Europe/Berlin:20251206T100000
DTEND;TZID=Europe/Berlin:20251206T130000
UID:252OS40626-20251206T100000@VHSUNTERLAND
SUMMARY:Englisch Kompaktkurs A2 für Teilnehmer*innen mit Vorkenntnissen (252OS40626) 
LOCATION:os Feuerwehrhaus Sülzbach, Sitzungssaal, Hauptstraße 2, 74182 Obersulm
END:VEVENT
BEGIN:VEVENT
DTSTAMP:20260421T011923
DTSTART;TZID=Europe/Berlin:20260103T100000
DTEND;TZID=Europe/Berlin:20260103T130000
UID:252OS40626-20260103T100000@VHSUNTERLAND
SUMMARY:Englisch Kompaktkurs A2 für Teilnehmer*innen mit Vorkenntnissen (252OS40626) 
LOCATION:os Feuerwehrhaus Sülzbach, Sitzungssaal, Hauptstraße 2, 74182 Obersulm
END:VEVENT
BEGIN:VEVENT
DTSTAMP:20260421T011923
DTSTART;TZID=Europe/Berlin:20260207T100000
DTEND;TZID=Europe/Berlin:20260207T130000
UID:252OS40626-20260207T100000@VHSUNTERLAND
SUMMARY:Englisch Kompaktkurs A2 für Teilnehmer*innen mit Vorkenntnissen (252OS40626) 
LOCATION:os Feuerwehrhaus Sülzbach, Sitzungssaal, Hauptstraße 2, 74182 Obersulm
END:VEVENT
END:VCALENDAR