BEGIN:VCALENDAR
VERSION:2.0
PRODID:http://www.kufer.de/kuferweb / DE
METHOD:PUBLISH
CALSCALE:GREGORIAN
X-WR-TIMEZONE:Europe/Berlin
BEGIN:VTIMEZONE
TZID:Europe/Berlin
X-LIC-LOCATION:Europe/Berlin
BEGIN:DAYLIGHT
TZOFFSETFROM:+0100
TZOFFSETTO:+0200
TZNAME:CEST
DTSTART;TZID=Europe/Berlin:19700329T020000
RRULE:FREQ=YEARLY;INTERVAL=1;BYDAY=-1SU;BYMONTH=3
END:DAYLIGHT
BEGIN:STANDARD
TZOFFSETFROM:+0200
TZOFFSETTO:+0100
TZNAME:CET
DTSTART;TZID=Europe/Berlin:19701025T030000
RRULE:FREQ=YEARLY;INTERVAL=1;BYDAY=-1SU;BYMONTH=10
END:STANDARD
END:VTIMEZONE
BEGIN:VEVENT
DTSTAMP:20260421T203611
DTSTART;TZID=Europe/Berlin:20251105T180000
DTEND;TZID=Europe/Berlin:20251105T193000
UID:252OS40620-20251105T180000@VHSUNTERLAND
SUMMARY:Englisch A2.1 (252OS40620) 
LOCATION:os Realschule Willsbach, Raum 404, Pestalozzistraße 37, 74182 Obersulm
END:VEVENT
BEGIN:VEVENT
DTSTAMP:20260421T203611
DTSTART;TZID=Europe/Berlin:20251112T180000
DTEND;TZID=Europe/Berlin:20251112T193000
UID:252OS40620-20251112T180000@VHSUNTERLAND
SUMMARY:Englisch A2.1 (252OS40620) 
LOCATION:os Realschule Willsbach, Raum 404, Pestalozzistraße 37, 74182 Obersulm
END:VEVENT
BEGIN:VEVENT
DTSTAMP:20260421T203611
DTSTART;TZID=Europe/Berlin:20251119T180000
DTEND;TZID=Europe/Berlin:20251119T193000
UID:252OS40620-20251119T180000@VHSUNTERLAND
SUMMARY:Englisch A2.1 (252OS40620) 
LOCATION:os Realschule Willsbach, Raum 404, Pestalozzistraße 37, 74182 Obersulm
END:VEVENT
BEGIN:VEVENT
DTSTAMP:20260421T203611
DTSTART;TZID=Europe/Berlin:20251126T180000
DTEND;TZID=Europe/Berlin:20251126T193000
UID:252OS40620-20251126T180000@VHSUNTERLAND
SUMMARY:Englisch A2.1 (252OS40620) 
LOCATION:os Realschule Willsbach, Raum 404, Pestalozzistraße 37, 74182 Obersulm
END:VEVENT
BEGIN:VEVENT
DTSTAMP:20260421T203611
DTSTART;TZID=Europe/Berlin:20251203T180000
DTEND;TZID=Europe/Berlin:20251203T193000
UID:252OS40620-20251203T180000@VHSUNTERLAND
SUMMARY:Englisch A2.1 (252OS40620) 
LOCATION:os Realschule Willsbach, Raum 404, Pestalozzistraße 37, 74182 Obersulm
END:VEVENT
BEGIN:VEVENT
DTSTAMP:20260421T203611
DTSTART;TZID=Europe/Berlin:20251210T180000
DTEND;TZID=Europe/Berlin:20251210T193000
UID:252OS40620-20251210T180000@VHSUNTERLAND
SUMMARY:Englisch A2.1 (252OS40620) 
LOCATION:os Realschule Willsbach, Raum 404, Pestalozzistraße 37, 74182 Obersulm
END:VEVENT
BEGIN:VEVENT
DTSTAMP:20260421T203611
DTSTART;TZID=Europe/Berlin:20251217T180000
DTEND;TZID=Europe/Berlin:20251217T193000
UID:252OS40620-20251217T180000@VHSUNTERLAND
SUMMARY:Englisch A2.1 (252OS40620) 
LOCATION:os Realschule Willsbach, Raum 404, Pestalozzistraße 37, 74182 Obersulm
END:VEVENT
BEGIN:VEVENT
DTSTAMP:20260421T203611
DTSTART;TZID=Europe/Berlin:20260107T180000
DTEND;TZID=Europe/Berlin:20260107T193000
UID:252OS40620-20260107T180000@VHSUNTERLAND
SUMMARY:Englisch A2.1 (252OS40620) 
LOCATION:os Realschule Willsbach, Raum 404, Pestalozzistraße 37, 74182 Obersulm
END:VEVENT
BEGIN:VEVENT
DTSTAMP:20260421T203611
DTSTART;TZID=Europe/Berlin:20260114T180000
DTEND;TZID=Europe/Berlin:20260114T193000
UID:252OS40620-20260114T180000@VHSUNTERLAND
SUMMARY:Englisch A2.1 (252OS40620) 
LOCATION:os Realschule Willsbach, Raum 404, Pestalozzistraße 37, 74182 Obersulm
END:VEVENT
BEGIN:VEVENT
DTSTAMP:20260421T203611
DTSTART;TZID=Europe/Berlin:20260121T180000
DTEND;TZID=Europe/Berlin:20260121T193000
UID:252OS40620-20260121T180000@VHSUNTERLAND
SUMMARY:Englisch A2.1 (252OS40620) 
LOCATION:os Realschule Willsbach, Raum 404, Pestalozzistraße 37, 74182 Obersulm
END:VEVENT
END:VCALENDAR