BEGIN:VCALENDAR
VERSION:2.0
PRODID:http://www.kufer.de/kuferweb / DE
METHOD:PUBLISH
CALSCALE:GREGORIAN
X-WR-TIMEZONE:Europe/Berlin
BEGIN:VTIMEZONE
TZID:Europe/Berlin
X-LIC-LOCATION:Europe/Berlin
BEGIN:DAYLIGHT
TZOFFSETFROM:+0100
TZOFFSETTO:+0200
TZNAME:CEST
DTSTART;TZID=Europe/Berlin:19700329T020000
RRULE:FREQ=YEARLY;INTERVAL=1;BYDAY=-1SU;BYMONTH=3
END:DAYLIGHT
BEGIN:STANDARD
TZOFFSETFROM:+0200
TZOFFSETTO:+0100
TZNAME:CET
DTSTART;TZID=Europe/Berlin:19701025T030000
RRULE:FREQ=YEARLY;INTERVAL=1;BYDAY=-1SU;BYMONTH=10
END:STANDARD
END:VTIMEZONE
BEGIN:VEVENT
DTSTAMP:20260421T200043
DTSTART;TZID=Europe/Berlin:20250916T191500
DTEND;TZID=Europe/Berlin:20250916T201500
UID:252OS30256-20250916T191500@VHSUNTERLAND
SUMMARY:Funktionelles Ganzkörpertraining (252OS30256) 
LOCATION:os Michelbachhaus Affaltrach, Halle, Poststraße 25, 74182 Obersulm
END:VEVENT
BEGIN:VEVENT
DTSTAMP:20260421T200043
DTSTART;TZID=Europe/Berlin:20250923T191500
DTEND;TZID=Europe/Berlin:20250923T201500
UID:252OS30256-20250923T191500@VHSUNTERLAND
SUMMARY:Funktionelles Ganzkörpertraining (252OS30256) 
LOCATION:os Michelbachhaus Affaltrach, Halle, Poststraße 25, 74182 Obersulm
END:VEVENT
BEGIN:VEVENT
DTSTAMP:20260421T200043
DTSTART;TZID=Europe/Berlin:20250930T191500
DTEND;TZID=Europe/Berlin:20250930T201500
UID:252OS30256-20250930T191500@VHSUNTERLAND
SUMMARY:Funktionelles Ganzkörpertraining (252OS30256) 
LOCATION:os Michelbachhaus Affaltrach, Halle, Poststraße 25, 74182 Obersulm
END:VEVENT
BEGIN:VEVENT
DTSTAMP:20260421T200043
DTSTART;TZID=Europe/Berlin:20251007T191500
DTEND;TZID=Europe/Berlin:20251007T201500
UID:252OS30256-20251007T191500@VHSUNTERLAND
SUMMARY:Funktionelles Ganzkörpertraining (252OS30256) 
LOCATION:os Michelbachhaus Affaltrach, Halle, Poststraße 25, 74182 Obersulm
END:VEVENT
BEGIN:VEVENT
DTSTAMP:20260421T200043
DTSTART;TZID=Europe/Berlin:20251014T191500
DTEND;TZID=Europe/Berlin:20251014T201500
UID:252OS30256-20251014T191500@VHSUNTERLAND
SUMMARY:Funktionelles Ganzkörpertraining (252OS30256) 
LOCATION:os Michelbachhaus Affaltrach, Halle, Poststraße 25, 74182 Obersulm
END:VEVENT
BEGIN:VEVENT
DTSTAMP:20260421T200043
DTSTART;TZID=Europe/Berlin:20251021T191500
DTEND;TZID=Europe/Berlin:20251021T201500
UID:252OS30256-20251021T191500@VHSUNTERLAND
SUMMARY:Funktionelles Ganzkörpertraining (252OS30256) 
LOCATION:os Michelbachhaus Affaltrach, Halle, Poststraße 25, 74182 Obersulm
END:VEVENT
BEGIN:VEVENT
DTSTAMP:20260421T200043
DTSTART;TZID=Europe/Berlin:20251104T191500
DTEND;TZID=Europe/Berlin:20251104T201500
UID:252OS30256-20251104T191500@VHSUNTERLAND
SUMMARY:Funktionelles Ganzkörpertraining (252OS30256) 
LOCATION:os Michelbachhaus Affaltrach, Halle, Poststraße 25, 74182 Obersulm
END:VEVENT
BEGIN:VEVENT
DTSTAMP:20260421T200043
DTSTART;TZID=Europe/Berlin:20251111T191500
DTEND;TZID=Europe/Berlin:20251111T201500
UID:252OS30256-20251111T191500@VHSUNTERLAND
SUMMARY:Funktionelles Ganzkörpertraining (252OS30256) 
LOCATION:os Michelbachhaus Affaltrach, Halle, Poststraße 25, 74182 Obersulm
END:VEVENT
BEGIN:VEVENT
DTSTAMP:20260421T200043
DTSTART;TZID=Europe/Berlin:20251118T191500
DTEND;TZID=Europe/Berlin:20251118T201500
UID:252OS30256-20251118T191500@VHSUNTERLAND
SUMMARY:Funktionelles Ganzkörpertraining (252OS30256) 
LOCATION:os Michelbachhaus Affaltrach, Halle, Poststraße 25, 74182 Obersulm
END:VEVENT
BEGIN:VEVENT
DTSTAMP:20260421T200043
DTSTART;TZID=Europe/Berlin:20251125T191500
DTEND;TZID=Europe/Berlin:20251125T201500
UID:252OS30256-20251125T191500@VHSUNTERLAND
SUMMARY:Funktionelles Ganzkörpertraining (252OS30256) 
LOCATION:os Michelbachhaus Affaltrach, Halle, Poststraße 25, 74182 Obersulm
END:VEVENT
BEGIN:VEVENT
DTSTAMP:20260421T200043
DTSTART;TZID=Europe/Berlin:20251202T191500
DTEND;TZID=Europe/Berlin:20251202T201500
UID:252OS30256-20251202T191500@VHSUNTERLAND
SUMMARY:Funktionelles Ganzkörpertraining (252OS30256) 
LOCATION:os Michelbachhaus Affaltrach, Halle, Poststraße 25, 74182 Obersulm
END:VEVENT
BEGIN:VEVENT
DTSTAMP:20260421T200043
DTSTART;TZID=Europe/Berlin:20251209T191500
DTEND;TZID=Europe/Berlin:20251209T201500
UID:252OS30256-20251209T191500@VHSUNTERLAND
SUMMARY:Funktionelles Ganzkörpertraining (252OS30256) 
LOCATION:os Michelbachhaus Affaltrach, Halle, Poststraße 25, 74182 Obersulm
END:VEVENT
BEGIN:VEVENT
DTSTAMP:20260421T200043
DTSTART;TZID=Europe/Berlin:20251216T191500
DTEND;TZID=Europe/Berlin:20251216T201500
UID:252OS30256-20251216T191500@VHSUNTERLAND
SUMMARY:Funktionelles Ganzkörpertraining (252OS30256) 
LOCATION:os Michelbachhaus Affaltrach, Halle, Poststraße 25, 74182 Obersulm
END:VEVENT
BEGIN:VEVENT
DTSTAMP:20260421T200043
DTSTART;TZID=Europe/Berlin:20260113T191500
DTEND;TZID=Europe/Berlin:20260113T201500
UID:252OS30256-20260113T191500@VHSUNTERLAND
SUMMARY:Funktionelles Ganzkörpertraining (252OS30256) 
LOCATION:os Michelbachhaus Affaltrach, Halle, Poststraße 25, 74182 Obersulm
END:VEVENT
BEGIN:VEVENT
DTSTAMP:20260421T200043
DTSTART;TZID=Europe/Berlin:20260120T191500
DTEND;TZID=Europe/Berlin:20260120T201500
UID:252OS30256-20260120T191500@VHSUNTERLAND
SUMMARY:Funktionelles Ganzkörpertraining (252OS30256) 
LOCATION:os Michelbachhaus Affaltrach, Halle, Poststraße 25, 74182 Obersulm
END:VEVENT
END:VCALENDAR