BEGIN:VCALENDAR
VERSION:2.0
PRODID:http://www.kufer.de/kuferweb / DE
METHOD:PUBLISH
CALSCALE:GREGORIAN
X-WR-TIMEZONE:Europe/Berlin
BEGIN:VTIMEZONE
TZID:Europe/Berlin
X-LIC-LOCATION:Europe/Berlin
BEGIN:DAYLIGHT
TZOFFSETFROM:+0100
TZOFFSETTO:+0200
TZNAME:CEST
DTSTART;TZID=Europe/Berlin:19700329T020000
RRULE:FREQ=YEARLY;INTERVAL=1;BYDAY=-1SU;BYMONTH=3
END:DAYLIGHT
BEGIN:STANDARD
TZOFFSETFROM:+0200
TZOFFSETTO:+0100
TZNAME:CET
DTSTART;TZID=Europe/Berlin:19701025T030000
RRULE:FREQ=YEARLY;INTERVAL=1;BYDAY=-1SU;BYMONTH=10
END:STANDARD
END:VTIMEZONE
BEGIN:VEVENT
DTSTAMP:20260423T195737
DTSTART;TZID=Europe/Berlin:20251009T171500
DTEND;TZID=Europe/Berlin:20251009T181500
UID:252OS30213-20251009T171500@VHSUNTERLAND
SUMMARY:Beckenbodentraining für Frauen (252OS30213) 
LOCATION:os Gemeindehalle Eschenau, kleiner Saal, Bahnhofstraße 40, 74182 Obersulm
END:VEVENT
BEGIN:VEVENT
DTSTAMP:20260423T195737
DTSTART;TZID=Europe/Berlin:20251016T171500
DTEND;TZID=Europe/Berlin:20251016T181500
UID:252OS30213-20251016T171500@VHSUNTERLAND
SUMMARY:Beckenbodentraining für Frauen (252OS30213) 
LOCATION:os Gemeindehalle Eschenau, kleiner Saal, Bahnhofstraße 40, 74182 Obersulm
END:VEVENT
BEGIN:VEVENT
DTSTAMP:20260423T195737
DTSTART;TZID=Europe/Berlin:20251023T171500
DTEND;TZID=Europe/Berlin:20251023T181500
UID:252OS30213-20251023T171500@VHSUNTERLAND
SUMMARY:Beckenbodentraining für Frauen (252OS30213) 
LOCATION:os Gemeindehalle Eschenau, kleiner Saal, Bahnhofstraße 40, 74182 Obersulm
END:VEVENT
BEGIN:VEVENT
DTSTAMP:20260423T195737
DTSTART;TZID=Europe/Berlin:20251106T171500
DTEND;TZID=Europe/Berlin:20251106T181500
UID:252OS30213-20251106T171500@VHSUNTERLAND
SUMMARY:Beckenbodentraining für Frauen (252OS30213) 
LOCATION:os Gemeindehalle Eschenau, kleiner Saal, Bahnhofstraße 40, 74182 Obersulm
END:VEVENT
BEGIN:VEVENT
DTSTAMP:20260423T195737
DTSTART;TZID=Europe/Berlin:20251113T171500
DTEND;TZID=Europe/Berlin:20251113T181500
UID:252OS30213-20251113T171500@VHSUNTERLAND
SUMMARY:Beckenbodentraining für Frauen (252OS30213) 
LOCATION:os Gemeindehalle Eschenau, kleiner Saal, Bahnhofstraße 40, 74182 Obersulm
END:VEVENT
BEGIN:VEVENT
DTSTAMP:20260423T195737
DTSTART;TZID=Europe/Berlin:20251120T171500
DTEND;TZID=Europe/Berlin:20251120T181500
UID:252OS30213-20251120T171500@VHSUNTERLAND
SUMMARY:Beckenbodentraining für Frauen (252OS30213) 
LOCATION:os Gemeindehalle Eschenau, kleiner Saal, Bahnhofstraße 40, 74182 Obersulm
END:VEVENT
BEGIN:VEVENT
DTSTAMP:20260423T195737
DTSTART;TZID=Europe/Berlin:20251127T171500
DTEND;TZID=Europe/Berlin:20251127T181500
UID:252OS30213-20251127T171500@VHSUNTERLAND
SUMMARY:Beckenbodentraining für Frauen (252OS30213) 
LOCATION:os Gemeindehalle Eschenau, kleiner Saal, Bahnhofstraße 40, 74182 Obersulm
END:VEVENT
BEGIN:VEVENT
DTSTAMP:20260423T195737
DTSTART;TZID=Europe/Berlin:20251204T171500
DTEND;TZID=Europe/Berlin:20251204T181500
UID:252OS30213-20251204T171500@VHSUNTERLAND
SUMMARY:Beckenbodentraining für Frauen (252OS30213) 
LOCATION:os Gemeindehalle Eschenau, kleiner Saal, Bahnhofstraße 40, 74182 Obersulm
END:VEVENT
BEGIN:VEVENT
DTSTAMP:20260423T195737
DTSTART;TZID=Europe/Berlin:20251211T171500
DTEND;TZID=Europe/Berlin:20251211T181500
UID:252OS30213-20251211T171500@VHSUNTERLAND
SUMMARY:Beckenbodentraining für Frauen (252OS30213) 
LOCATION:os Gemeindehalle Eschenau, kleiner Saal, Bahnhofstraße 40, 74182 Obersulm
END:VEVENT
BEGIN:VEVENT
DTSTAMP:20260423T195737
DTSTART;TZID=Europe/Berlin:20251218T171500
DTEND;TZID=Europe/Berlin:20251218T181500
UID:252OS30213-20251218T171500@VHSUNTERLAND
SUMMARY:Beckenbodentraining für Frauen (252OS30213) 
LOCATION:os Gemeindehalle Eschenau, kleiner Saal, Bahnhofstraße 40, 74182 Obersulm
END:VEVENT
BEGIN:VEVENT
DTSTAMP:20260423T195737
DTSTART;TZID=Europe/Berlin:20260108T171500
DTEND;TZID=Europe/Berlin:20260108T181500
UID:252OS30213-20260108T171500@VHSUNTERLAND
SUMMARY:Beckenbodentraining für Frauen (252OS30213) 
LOCATION:os Gemeindehalle Eschenau, kleiner Saal, Bahnhofstraße 40, 74182 Obersulm
END:VEVENT
BEGIN:VEVENT
DTSTAMP:20260423T195737
DTSTART;TZID=Europe/Berlin:20260115T171500
DTEND;TZID=Europe/Berlin:20260115T181500
UID:252OS30213-20260115T171500@VHSUNTERLAND
SUMMARY:Beckenbodentraining für Frauen (252OS30213) 
LOCATION:os Gemeindehalle Eschenau, kleiner Saal, Bahnhofstraße 40, 74182 Obersulm
END:VEVENT
END:VCALENDAR