BEGIN:VCALENDAR
VERSION:2.0
PRODID:http://www.kufer.de/kuferweb / DE
METHOD:PUBLISH
CALSCALE:GREGORIAN
X-WR-TIMEZONE:Europe/Berlin
BEGIN:VTIMEZONE
TZID:Europe/Berlin
X-LIC-LOCATION:Europe/Berlin
BEGIN:DAYLIGHT
TZOFFSETFROM:+0100
TZOFFSETTO:+0200
TZNAME:CEST
DTSTART;TZID=Europe/Berlin:19700329T020000
RRULE:FREQ=YEARLY;INTERVAL=1;BYDAY=-1SU;BYMONTH=3
END:DAYLIGHT
BEGIN:STANDARD
TZOFFSETFROM:+0200
TZOFFSETTO:+0100
TZNAME:CET
DTSTART;TZID=Europe/Berlin:19701025T030000
RRULE:FREQ=YEARLY;INTERVAL=1;BYDAY=-1SU;BYMONTH=10
END:STANDARD
END:VTIMEZONE
BEGIN:VEVENT
DTSTAMP:20260424T203935
DTSTART;TZID=Europe/Berlin:20250929T191500
DTEND;TZID=Europe/Berlin:20250929T201500
UID:252OS30113-20250929T191500@VHSUNTERLAND
SUMMARY:Body Control nach Pilates (252OS30113) 
LOCATION:os Weiler Bürgersaal, Heilbronner Straße 58, 74182 Obersulm
END:VEVENT
BEGIN:VEVENT
DTSTAMP:20260424T203935
DTSTART;TZID=Europe/Berlin:20251006T191500
DTEND;TZID=Europe/Berlin:20251006T201500
UID:252OS30113-20251006T191500@VHSUNTERLAND
SUMMARY:Body Control nach Pilates (252OS30113) 
LOCATION:os Weiler Bürgersaal, Heilbronner Straße 58, 74182 Obersulm
END:VEVENT
BEGIN:VEVENT
DTSTAMP:20260424T203935
DTSTART;TZID=Europe/Berlin:20251013T191500
DTEND;TZID=Europe/Berlin:20251013T201500
UID:252OS30113-20251013T191500@VHSUNTERLAND
SUMMARY:Body Control nach Pilates (252OS30113) 
LOCATION:os Weiler Bürgersaal, Heilbronner Straße 58, 74182 Obersulm
END:VEVENT
BEGIN:VEVENT
DTSTAMP:20260424T203935
DTSTART;TZID=Europe/Berlin:20251020T191500
DTEND;TZID=Europe/Berlin:20251020T201500
UID:252OS30113-20251020T191500@VHSUNTERLAND
SUMMARY:Body Control nach Pilates (252OS30113) 
LOCATION:os Weiler Bürgersaal, Heilbronner Straße 58, 74182 Obersulm
END:VEVENT
BEGIN:VEVENT
DTSTAMP:20260424T203935
DTSTART;TZID=Europe/Berlin:20251103T191500
DTEND;TZID=Europe/Berlin:20251103T201500
UID:252OS30113-20251103T191500@VHSUNTERLAND
SUMMARY:Body Control nach Pilates (252OS30113) 
LOCATION:os Weiler Bürgersaal, Heilbronner Straße 58, 74182 Obersulm
END:VEVENT
BEGIN:VEVENT
DTSTAMP:20260424T203935
DTSTART;TZID=Europe/Berlin:20251110T191500
DTEND;TZID=Europe/Berlin:20251110T201500
UID:252OS30113-20251110T191500@VHSUNTERLAND
SUMMARY:Body Control nach Pilates (252OS30113) 
LOCATION:os Weiler Bürgersaal, Heilbronner Straße 58, 74182 Obersulm
END:VEVENT
BEGIN:VEVENT
DTSTAMP:20260424T203935
DTSTART;TZID=Europe/Berlin:20251117T191500
DTEND;TZID=Europe/Berlin:20251117T201500
UID:252OS30113-20251117T191500@VHSUNTERLAND
SUMMARY:Body Control nach Pilates (252OS30113) 
LOCATION:os Weiler Bürgersaal, Heilbronner Straße 58, 74182 Obersulm
END:VEVENT
BEGIN:VEVENT
DTSTAMP:20260424T203935
DTSTART;TZID=Europe/Berlin:20251124T191500
DTEND;TZID=Europe/Berlin:20251124T201500
UID:252OS30113-20251124T191500@VHSUNTERLAND
SUMMARY:Body Control nach Pilates (252OS30113) 
LOCATION:os Weiler Bürgersaal, Heilbronner Straße 58, 74182 Obersulm
END:VEVENT
BEGIN:VEVENT
DTSTAMP:20260424T203935
DTSTART;TZID=Europe/Berlin:20251201T191500
DTEND;TZID=Europe/Berlin:20251201T201500
UID:252OS30113-20251201T191500@VHSUNTERLAND
SUMMARY:Body Control nach Pilates (252OS30113) 
LOCATION:os Weiler Bürgersaal, Heilbronner Straße 58, 74182 Obersulm
END:VEVENT
BEGIN:VEVENT
DTSTAMP:20260424T203935
DTSTART;TZID=Europe/Berlin:20251208T191500
DTEND;TZID=Europe/Berlin:20251208T201500
UID:252OS30113-20251208T191500@VHSUNTERLAND
SUMMARY:Body Control nach Pilates (252OS30113) 
LOCATION:os Weiler Bürgersaal, Heilbronner Straße 58, 74182 Obersulm
END:VEVENT
BEGIN:VEVENT
DTSTAMP:20260424T203935
DTSTART;TZID=Europe/Berlin:20251215T191500
DTEND;TZID=Europe/Berlin:20251215T201500
UID:252OS30113-20251215T191500@VHSUNTERLAND
SUMMARY:Body Control nach Pilates (252OS30113) 
LOCATION:os Weiler Bürgersaal, Heilbronner Straße 58, 74182 Obersulm
END:VEVENT
BEGIN:VEVENT
DTSTAMP:20260424T203935
DTSTART;TZID=Europe/Berlin:20260112T191500
DTEND;TZID=Europe/Berlin:20260112T201500
UID:252OS30113-20260112T191500@VHSUNTERLAND
SUMMARY:Body Control nach Pilates (252OS30113) 
LOCATION:os Weiler Bürgersaal, Heilbronner Straße 58, 74182 Obersulm
END:VEVENT
END:VCALENDAR