BEGIN:VCALENDAR
VERSION:2.0
PRODID:http://www.kufer.de/kuferweb / DE
METHOD:PUBLISH
CALSCALE:GREGORIAN
X-WR-TIMEZONE:Europe/Berlin
BEGIN:VTIMEZONE
TZID:Europe/Berlin
X-LIC-LOCATION:Europe/Berlin
BEGIN:DAYLIGHT
TZOFFSETFROM:+0100
TZOFFSETTO:+0200
TZNAME:CEST
DTSTART;TZID=Europe/Berlin:19700329T020000
RRULE:FREQ=YEARLY;INTERVAL=1;BYDAY=-1SU;BYMONTH=3
END:DAYLIGHT
BEGIN:STANDARD
TZOFFSETFROM:+0200
TZOFFSETTO:+0100
TZNAME:CET
DTSTART;TZID=Europe/Berlin:19701025T030000
RRULE:FREQ=YEARLY;INTERVAL=1;BYDAY=-1SU;BYMONTH=10
END:STANDARD
END:VTIMEZONE
BEGIN:VEVENT
DTSTAMP:20260422T193038
DTSTART;TZID=Europe/Berlin:20260111T141000
DTEND;TZID=Europe/Berlin:20260111T150000
UID:252OH30299-20260111T141000@VHSUNTERLAND
SUMMARY:Schwimmkurs für Anfänger*innen mit Vorkenntnissen für Kinder ab 5 Jahren (252OH30299) 
LOCATION:oh Hallenbad, Uhlandstraße 21, 74229 Oedheim
END:VEVENT
BEGIN:VEVENT
DTSTAMP:20260422T193038
DTSTART;TZID=Europe/Berlin:20260118T141000
DTEND;TZID=Europe/Berlin:20260118T150000
UID:252OH30299-20260118T141000@VHSUNTERLAND
SUMMARY:Schwimmkurs für Anfänger*innen mit Vorkenntnissen für Kinder ab 5 Jahren (252OH30299) 
LOCATION:oh Hallenbad, Uhlandstraße 21, 74229 Oedheim
END:VEVENT
BEGIN:VEVENT
DTSTAMP:20260422T193038
DTSTART;TZID=Europe/Berlin:20260125T141000
DTEND;TZID=Europe/Berlin:20260125T150000
UID:252OH30299-20260125T141000@VHSUNTERLAND
SUMMARY:Schwimmkurs für Anfänger*innen mit Vorkenntnissen für Kinder ab 5 Jahren (252OH30299) 
LOCATION:oh Hallenbad, Uhlandstraße 21, 74229 Oedheim
END:VEVENT
BEGIN:VEVENT
DTSTAMP:20260422T193038
DTSTART;TZID=Europe/Berlin:20260201T141000
DTEND;TZID=Europe/Berlin:20260201T150000
UID:252OH30299-20260201T141000@VHSUNTERLAND
SUMMARY:Schwimmkurs für Anfänger*innen mit Vorkenntnissen für Kinder ab 5 Jahren (252OH30299) 
LOCATION:oh Hallenbad, Uhlandstraße 21, 74229 Oedheim
END:VEVENT
BEGIN:VEVENT
DTSTAMP:20260422T193038
DTSTART;TZID=Europe/Berlin:20260208T141000
DTEND;TZID=Europe/Berlin:20260208T150000
UID:252OH30299-20260208T141000@VHSUNTERLAND
SUMMARY:Schwimmkurs für Anfänger*innen mit Vorkenntnissen für Kinder ab 5 Jahren (252OH30299) 
LOCATION:oh Hallenbad, Uhlandstraße 21, 74229 Oedheim
END:VEVENT
BEGIN:VEVENT
DTSTAMP:20260422T193038
DTSTART;TZID=Europe/Berlin:20260215T141000
DTEND;TZID=Europe/Berlin:20260215T150000
UID:252OH30299-20260215T141000@VHSUNTERLAND
SUMMARY:Schwimmkurs für Anfänger*innen mit Vorkenntnissen für Kinder ab 5 Jahren (252OH30299) 
LOCATION:oh Hallenbad, Uhlandstraße 21, 74229 Oedheim
END:VEVENT
BEGIN:VEVENT
DTSTAMP:20260422T193038
DTSTART;TZID=Europe/Berlin:20260222T141000
DTEND;TZID=Europe/Berlin:20260222T150000
UID:252OH30299-20260222T141000@VHSUNTERLAND
SUMMARY:Schwimmkurs für Anfänger*innen mit Vorkenntnissen für Kinder ab 5 Jahren (252OH30299) 
LOCATION:oh Hallenbad, Uhlandstraße 21, 74229 Oedheim
END:VEVENT
BEGIN:VEVENT
DTSTAMP:20260422T193038
DTSTART;TZID=Europe/Berlin:20260301T141000
DTEND;TZID=Europe/Berlin:20260301T150000
UID:252OH30299-20260301T141000@VHSUNTERLAND
SUMMARY:Schwimmkurs für Anfänger*innen mit Vorkenntnissen für Kinder ab 5 Jahren (252OH30299) 
LOCATION:oh Hallenbad, Uhlandstraße 21, 74229 Oedheim
END:VEVENT
BEGIN:VEVENT
DTSTAMP:20260422T193038
DTSTART;TZID=Europe/Berlin:20260308T141000
DTEND;TZID=Europe/Berlin:20260308T150000
UID:252OH30299-20260308T141000@VHSUNTERLAND
SUMMARY:Schwimmkurs für Anfänger*innen mit Vorkenntnissen für Kinder ab 5 Jahren (252OH30299) 
LOCATION:oh Hallenbad, Uhlandstraße 21, 74229 Oedheim
END:VEVENT
BEGIN:VEVENT
DTSTAMP:20260422T193038
DTSTART;TZID=Europe/Berlin:20260315T141000
DTEND;TZID=Europe/Berlin:20260315T150000
UID:252OH30299-20260315T141000@VHSUNTERLAND
SUMMARY:Schwimmkurs für Anfänger*innen mit Vorkenntnissen für Kinder ab 5 Jahren (252OH30299) 
LOCATION:oh Hallenbad, Uhlandstraße 21, 74229 Oedheim
END:VEVENT
END:VCALENDAR