BEGIN:VCALENDAR
VERSION:2.0
PRODID:http://www.kufer.de/kuferweb / DE
METHOD:PUBLISH
CALSCALE:GREGORIAN
X-WR-TIMEZONE:Europe/Berlin
BEGIN:VTIMEZONE
TZID:Europe/Berlin
X-LIC-LOCATION:Europe/Berlin
BEGIN:DAYLIGHT
TZOFFSETFROM:+0100
TZOFFSETTO:+0200
TZNAME:CEST
DTSTART;TZID=Europe/Berlin:19700329T020000
RRULE:FREQ=YEARLY;INTERVAL=1;BYDAY=-1SU;BYMONTH=3
END:DAYLIGHT
BEGIN:STANDARD
TZOFFSETFROM:+0200
TZOFFSETTO:+0100
TZNAME:CET
DTSTART;TZID=Europe/Berlin:19701025T030000
RRULE:FREQ=YEARLY;INTERVAL=1;BYDAY=-1SU;BYMONTH=10
END:STANDARD
END:VTIMEZONE
BEGIN:VEVENT
DTSTAMP:20260422T025656
DTSTART;TZID=Europe/Berlin:20260111T123000
DTEND;TZID=Europe/Berlin:20260111T131500
UID:252OH30287-20260111T123000@VHSUNTERLAND
SUMMARY:Schwimmkurs für Anfänger*innen mit Vorkenntnissen für Kinder ab 5 Jahren (252OH30287) 
LOCATION:oh Hallenbad, Uhlandstraße 21, 74229 Oedheim
END:VEVENT
BEGIN:VEVENT
DTSTAMP:20260422T025656
DTSTART;TZID=Europe/Berlin:20260118T123000
DTEND;TZID=Europe/Berlin:20260118T131500
UID:252OH30287-20260118T123000@VHSUNTERLAND
SUMMARY:Schwimmkurs für Anfänger*innen mit Vorkenntnissen für Kinder ab 5 Jahren (252OH30287) 
LOCATION:oh Hallenbad, Uhlandstraße 21, 74229 Oedheim
END:VEVENT
BEGIN:VEVENT
DTSTAMP:20260422T025656
DTSTART;TZID=Europe/Berlin:20260125T123000
DTEND;TZID=Europe/Berlin:20260125T131500
UID:252OH30287-20260125T123000@VHSUNTERLAND
SUMMARY:Schwimmkurs für Anfänger*innen mit Vorkenntnissen für Kinder ab 5 Jahren (252OH30287) 
LOCATION:oh Hallenbad, Uhlandstraße 21, 74229 Oedheim
END:VEVENT
BEGIN:VEVENT
DTSTAMP:20260422T025656
DTSTART;TZID=Europe/Berlin:20260201T123000
DTEND;TZID=Europe/Berlin:20260201T131500
UID:252OH30287-20260201T123000@VHSUNTERLAND
SUMMARY:Schwimmkurs für Anfänger*innen mit Vorkenntnissen für Kinder ab 5 Jahren (252OH30287) 
LOCATION:oh Hallenbad, Uhlandstraße 21, 74229 Oedheim
END:VEVENT
BEGIN:VEVENT
DTSTAMP:20260422T025656
DTSTART;TZID=Europe/Berlin:20260208T123000
DTEND;TZID=Europe/Berlin:20260208T131500
UID:252OH30287-20260208T123000@VHSUNTERLAND
SUMMARY:Schwimmkurs für Anfänger*innen mit Vorkenntnissen für Kinder ab 5 Jahren (252OH30287) 
LOCATION:oh Hallenbad, Uhlandstraße 21, 74229 Oedheim
END:VEVENT
BEGIN:VEVENT
DTSTAMP:20260422T025656
DTSTART;TZID=Europe/Berlin:20260215T123000
DTEND;TZID=Europe/Berlin:20260215T131500
UID:252OH30287-20260215T123000@VHSUNTERLAND
SUMMARY:Schwimmkurs für Anfänger*innen mit Vorkenntnissen für Kinder ab 5 Jahren (252OH30287) 
LOCATION:oh Hallenbad, Uhlandstraße 21, 74229 Oedheim
END:VEVENT
BEGIN:VEVENT
DTSTAMP:20260422T025656
DTSTART;TZID=Europe/Berlin:20260222T123000
DTEND;TZID=Europe/Berlin:20260222T131500
UID:252OH30287-20260222T123000@VHSUNTERLAND
SUMMARY:Schwimmkurs für Anfänger*innen mit Vorkenntnissen für Kinder ab 5 Jahren (252OH30287) 
LOCATION:oh Hallenbad, Uhlandstraße 21, 74229 Oedheim
END:VEVENT
BEGIN:VEVENT
DTSTAMP:20260422T025656
DTSTART;TZID=Europe/Berlin:20260301T123000
DTEND;TZID=Europe/Berlin:20260301T131500
UID:252OH30287-20260301T123000@VHSUNTERLAND
SUMMARY:Schwimmkurs für Anfänger*innen mit Vorkenntnissen für Kinder ab 5 Jahren (252OH30287) 
LOCATION:oh Hallenbad, Uhlandstraße 21, 74229 Oedheim
END:VEVENT
BEGIN:VEVENT
DTSTAMP:20260422T025656
DTSTART;TZID=Europe/Berlin:20260308T123000
DTEND;TZID=Europe/Berlin:20260308T131500
UID:252OH30287-20260308T123000@VHSUNTERLAND
SUMMARY:Schwimmkurs für Anfänger*innen mit Vorkenntnissen für Kinder ab 5 Jahren (252OH30287) 
LOCATION:oh Hallenbad, Uhlandstraße 21, 74229 Oedheim
END:VEVENT
BEGIN:VEVENT
DTSTAMP:20260422T025656
DTSTART;TZID=Europe/Berlin:20260315T123000
DTEND;TZID=Europe/Berlin:20260315T131500
UID:252OH30287-20260315T123000@VHSUNTERLAND
SUMMARY:Schwimmkurs für Anfänger*innen mit Vorkenntnissen für Kinder ab 5 Jahren (252OH30287) 
LOCATION:oh Hallenbad, Uhlandstraße 21, 74229 Oedheim
END:VEVENT
END:VCALENDAR