BEGIN:VCALENDAR
VERSION:2.0
PRODID:http://www.kufer.de/kuferweb / DE
METHOD:PUBLISH
CALSCALE:GREGORIAN
X-WR-TIMEZONE:Europe/Berlin
BEGIN:VTIMEZONE
TZID:Europe/Berlin
X-LIC-LOCATION:Europe/Berlin
BEGIN:DAYLIGHT
TZOFFSETFROM:+0100
TZOFFSETTO:+0200
TZNAME:CEST
DTSTART;TZID=Europe/Berlin:19700329T020000
RRULE:FREQ=YEARLY;INTERVAL=1;BYDAY=-1SU;BYMONTH=3
END:DAYLIGHT
BEGIN:STANDARD
TZOFFSETFROM:+0200
TZOFFSETTO:+0100
TZNAME:CET
DTSTART;TZID=Europe/Berlin:19701025T030000
RRULE:FREQ=YEARLY;INTERVAL=1;BYDAY=-1SU;BYMONTH=10
END:STANDARD
END:VTIMEZONE
BEGIN:VEVENT
DTSTAMP:20260424T163729
DTSTART;TZID=Europe/Berlin:20250930T171500
DTEND;TZID=Europe/Berlin:20250930T181500
UID:252OH30111-20250930T171500@VHSUNTERLAND
SUMMARY:Pilates und Rückenfitness (252OH30111) 
LOCATION:oh Haus der Vereine, Raum 2, Schulstraße 13, 74229 Oedheim
END:VEVENT
BEGIN:VEVENT
DTSTAMP:20260424T163729
DTSTART;TZID=Europe/Berlin:20251007T171500
DTEND;TZID=Europe/Berlin:20251007T181500
UID:252OH30111-20251007T171500@VHSUNTERLAND
SUMMARY:Pilates und Rückenfitness (252OH30111) 
LOCATION:oh Haus der Vereine, Raum 2, Schulstraße 13, 74229 Oedheim
END:VEVENT
BEGIN:VEVENT
DTSTAMP:20260424T163729
DTSTART;TZID=Europe/Berlin:20251014T171500
DTEND;TZID=Europe/Berlin:20251014T181500
UID:252OH30111-20251014T171500@VHSUNTERLAND
SUMMARY:Pilates und Rückenfitness (252OH30111) 
LOCATION:oh Haus der Vereine, Raum 2, Schulstraße 13, 74229 Oedheim
END:VEVENT
BEGIN:VEVENT
DTSTAMP:20260424T163729
DTSTART;TZID=Europe/Berlin:20251021T171500
DTEND;TZID=Europe/Berlin:20251021T181500
UID:252OH30111-20251021T171500@VHSUNTERLAND
SUMMARY:Pilates und Rückenfitness (252OH30111) 
LOCATION:oh Haus der Vereine, Raum 2, Schulstraße 13, 74229 Oedheim
END:VEVENT
BEGIN:VEVENT
DTSTAMP:20260424T163729
DTSTART;TZID=Europe/Berlin:20251104T171500
DTEND;TZID=Europe/Berlin:20251104T181500
UID:252OH30111-20251104T171500@VHSUNTERLAND
SUMMARY:Pilates und Rückenfitness (252OH30111) 
LOCATION:oh Haus der Vereine, Raum 2, Schulstraße 13, 74229 Oedheim
END:VEVENT
BEGIN:VEVENT
DTSTAMP:20260424T163729
DTSTART;TZID=Europe/Berlin:20251111T171500
DTEND;TZID=Europe/Berlin:20251111T181500
UID:252OH30111-20251111T171500@VHSUNTERLAND
SUMMARY:Pilates und Rückenfitness (252OH30111) 
LOCATION:oh Haus der Vereine, Raum 2, Schulstraße 13, 74229 Oedheim
END:VEVENT
BEGIN:VEVENT
DTSTAMP:20260424T163729
DTSTART;TZID=Europe/Berlin:20251118T171500
DTEND;TZID=Europe/Berlin:20251118T181500
UID:252OH30111-20251118T171500@VHSUNTERLAND
SUMMARY:Pilates und Rückenfitness (252OH30111) 
LOCATION:oh Haus der Vereine, Raum 2, Schulstraße 13, 74229 Oedheim
END:VEVENT
BEGIN:VEVENT
DTSTAMP:20260424T163729
DTSTART;TZID=Europe/Berlin:20251125T171500
DTEND;TZID=Europe/Berlin:20251125T181500
UID:252OH30111-20251125T171500@VHSUNTERLAND
SUMMARY:Pilates und Rückenfitness (252OH30111) 
LOCATION:oh Haus der Vereine, Raum 2, Schulstraße 13, 74229 Oedheim
END:VEVENT
BEGIN:VEVENT
DTSTAMP:20260424T163729
DTSTART;TZID=Europe/Berlin:20251202T171500
DTEND;TZID=Europe/Berlin:20251202T181500
UID:252OH30111-20251202T171500@VHSUNTERLAND
SUMMARY:Pilates und Rückenfitness (252OH30111) 
LOCATION:oh Haus der Vereine, Raum 2, Schulstraße 13, 74229 Oedheim
END:VEVENT
BEGIN:VEVENT
DTSTAMP:20260424T163729
DTSTART;TZID=Europe/Berlin:20251209T171500
DTEND;TZID=Europe/Berlin:20251209T181500
UID:252OH30111-20251209T171500@VHSUNTERLAND
SUMMARY:Pilates und Rückenfitness (252OH30111) 
LOCATION:oh Haus der Vereine, Raum 2, Schulstraße 13, 74229 Oedheim
END:VEVENT
BEGIN:VEVENT
DTSTAMP:20260424T163729
DTSTART;TZID=Europe/Berlin:20260120T171500
DTEND;TZID=Europe/Berlin:20260120T181500
UID:252OH30111-20260120T171500@VHSUNTERLAND
SUMMARY:Pilates und Rückenfitness (252OH30111) 
LOCATION:oh Haus der Vereine, Raum 2, Schulstraße 13, 74229 Oedheim
END:VEVENT
BEGIN:VEVENT
DTSTAMP:20260424T163729
DTSTART;TZID=Europe/Berlin:20260127T171500
DTEND;TZID=Europe/Berlin:20260127T181500
UID:252OH30111-20260127T171500@VHSUNTERLAND
SUMMARY:Pilates und Rückenfitness (252OH30111) 
LOCATION:oh Haus der Vereine, Raum 2, Schulstraße 13, 74229 Oedheim
END:VEVENT
END:VCALENDAR