BEGIN:VCALENDAR
VERSION:2.0
PRODID:http://www.kufer.de/kuferweb / DE
METHOD:PUBLISH
CALSCALE:GREGORIAN
X-WR-TIMEZONE:Europe/Berlin
BEGIN:VTIMEZONE
TZID:Europe/Berlin
X-LIC-LOCATION:Europe/Berlin
BEGIN:DAYLIGHT
TZOFFSETFROM:+0100
TZOFFSETTO:+0200
TZNAME:CEST
DTSTART;TZID=Europe/Berlin:19700329T020000
RRULE:FREQ=YEARLY;INTERVAL=1;BYDAY=-1SU;BYMONTH=3
END:DAYLIGHT
BEGIN:STANDARD
TZOFFSETFROM:+0200
TZOFFSETTO:+0100
TZNAME:CET
DTSTART;TZID=Europe/Berlin:19701025T030000
RRULE:FREQ=YEARLY;INTERVAL=1;BYDAY=-1SU;BYMONTH=10
END:STANDARD
END:VTIMEZONE
BEGIN:VEVENT
DTSTAMP:20260421T123952
DTSTART;TZID=Europe/Berlin:20250927T114000
DTEND;TZID=Europe/Berlin:20250927T124000
UID:252OH20586-20250927T114000@VHSUNTERLAND
SUMMARY:Ballett  für Kinder ab 8 Jahren (252OH20586) 
LOCATION:oh Haus der Vereine, Raum 2, Schulstraße 13, 74229 Oedheim
END:VEVENT
BEGIN:VEVENT
DTSTAMP:20260421T123952
DTSTART;TZID=Europe/Berlin:20251011T114000
DTEND;TZID=Europe/Berlin:20251011T124000
UID:252OH20586-20251011T114000@VHSUNTERLAND
SUMMARY:Ballett  für Kinder ab 8 Jahren (252OH20586) 
LOCATION:oh Haus der Vereine, Raum 2, Schulstraße 13, 74229 Oedheim
END:VEVENT
BEGIN:VEVENT
DTSTAMP:20260421T123952
DTSTART;TZID=Europe/Berlin:20251018T114000
DTEND;TZID=Europe/Berlin:20251018T124000
UID:252OH20586-20251018T114000@VHSUNTERLAND
SUMMARY:Ballett  für Kinder ab 8 Jahren (252OH20586) 
LOCATION:oh Haus der Vereine, Raum 2, Schulstraße 13, 74229 Oedheim
END:VEVENT
BEGIN:VEVENT
DTSTAMP:20260421T123952
DTSTART;TZID=Europe/Berlin:20251108T114000
DTEND;TZID=Europe/Berlin:20251108T124000
UID:252OH20586-20251108T114000@VHSUNTERLAND
SUMMARY:Ballett  für Kinder ab 8 Jahren (252OH20586) 
LOCATION:oh Haus der Vereine, Raum 2, Schulstraße 13, 74229 Oedheim
END:VEVENT
BEGIN:VEVENT
DTSTAMP:20260421T123952
DTSTART;TZID=Europe/Berlin:20251115T114000
DTEND;TZID=Europe/Berlin:20251115T124000
UID:252OH20586-20251115T114000@VHSUNTERLAND
SUMMARY:Ballett  für Kinder ab 8 Jahren (252OH20586) 
LOCATION:oh Haus der Vereine, Raum 2, Schulstraße 13, 74229 Oedheim
END:VEVENT
BEGIN:VEVENT
DTSTAMP:20260421T123952
DTSTART;TZID=Europe/Berlin:20251122T114000
DTEND;TZID=Europe/Berlin:20251122T124000
UID:252OH20586-20251122T114000@VHSUNTERLAND
SUMMARY:Ballett  für Kinder ab 8 Jahren (252OH20586) 
LOCATION:oh Haus der Vereine, Raum 2, Schulstraße 13, 74229 Oedheim
END:VEVENT
BEGIN:VEVENT
DTSTAMP:20260421T123952
DTSTART;TZID=Europe/Berlin:20251129T114000
DTEND;TZID=Europe/Berlin:20251129T124000
UID:252OH20586-20251129T114000@VHSUNTERLAND
SUMMARY:Ballett  für Kinder ab 8 Jahren (252OH20586) 
LOCATION:oh Haus der Vereine, Raum 2, Schulstraße 13, 74229 Oedheim
END:VEVENT
BEGIN:VEVENT
DTSTAMP:20260421T123952
DTSTART;TZID=Europe/Berlin:20251206T114000
DTEND;TZID=Europe/Berlin:20251206T124000
UID:252OH20586-20251206T114000@VHSUNTERLAND
SUMMARY:Ballett  für Kinder ab 8 Jahren (252OH20586) 
LOCATION:oh Haus der Vereine, Raum 2, Schulstraße 13, 74229 Oedheim
END:VEVENT
BEGIN:VEVENT
DTSTAMP:20260421T123952
DTSTART;TZID=Europe/Berlin:20251220T114000
DTEND;TZID=Europe/Berlin:20251220T124000
UID:252OH20586-20251220T114000@VHSUNTERLAND
DESCRIPTION:Ersatz für Ausfall am 13.12.2025
SUMMARY:Ballett  für Kinder ab 8 Jahren (252OH20586) 
LOCATION:oh Haus der Vereine, Raum 2, Schulstraße 13, 74229 Oedheim
END:VEVENT
BEGIN:VEVENT
DTSTAMP:20260421T123952
DTSTART;TZID=Europe/Berlin:20260110T114000
DTEND;TZID=Europe/Berlin:20260110T124000
UID:252OH20586-20260110T114000@VHSUNTERLAND
SUMMARY:Ballett  für Kinder ab 8 Jahren (252OH20586) 
LOCATION:oh Haus der Vereine, Raum 2, Schulstraße 13, 74229 Oedheim
END:VEVENT
BEGIN:VEVENT
DTSTAMP:20260421T123952
DTSTART;TZID=Europe/Berlin:20260117T114000
DTEND;TZID=Europe/Berlin:20260117T124000
UID:252OH20586-20260117T114000@VHSUNTERLAND
SUMMARY:Ballett  für Kinder ab 8 Jahren (252OH20586) 
LOCATION:oh Haus der Vereine, Raum 2, Schulstraße 13, 74229 Oedheim
END:VEVENT
BEGIN:VEVENT
DTSTAMP:20260421T123952
DTSTART;TZID=Europe/Berlin:20260124T114000
DTEND;TZID=Europe/Berlin:20260124T124000
UID:252OH20586-20260124T114000@VHSUNTERLAND
SUMMARY:Ballett  für Kinder ab 8 Jahren (252OH20586) 
LOCATION:oh Haus der Vereine, Raum 2, Schulstraße 13, 74229 Oedheim
END:VEVENT
BEGIN:VEVENT
DTSTAMP:20260421T123952
DTSTART;TZID=Europe/Berlin:20260131T114000
DTEND;TZID=Europe/Berlin:20260131T124000
UID:252OH20586-20260131T114000@VHSUNTERLAND
SUMMARY:Ballett  für Kinder ab 8 Jahren (252OH20586) 
LOCATION:oh Haus der Vereine, Raum 2, Schulstraße 13, 74229 Oedheim
END:VEVENT
BEGIN:VEVENT
DTSTAMP:20260421T123952
DTSTART;TZID=Europe/Berlin:20260207T114000
DTEND;TZID=Europe/Berlin:20260207T124000
UID:252OH20586-20260207T114000@VHSUNTERLAND
SUMMARY:Ballett  für Kinder ab 8 Jahren (252OH20586) 
LOCATION:oh Haus der Vereine, Raum 2, Schulstraße 13, 74229 Oedheim
END:VEVENT
END:VCALENDAR