BEGIN:VCALENDAR
VERSION:2.0
PRODID:http://www.kufer.de/kuferweb / DE
METHOD:PUBLISH
CALSCALE:GREGORIAN
X-WR-TIMEZONE:Europe/Berlin
BEGIN:VTIMEZONE
TZID:Europe/Berlin
X-LIC-LOCATION:Europe/Berlin
BEGIN:DAYLIGHT
TZOFFSETFROM:+0100
TZOFFSETTO:+0200
TZNAME:CEST
DTSTART;TZID=Europe/Berlin:19700329T020000
RRULE:FREQ=YEARLY;INTERVAL=1;BYDAY=-1SU;BYMONTH=3
END:DAYLIGHT
BEGIN:STANDARD
TZOFFSETFROM:+0200
TZOFFSETTO:+0100
TZNAME:CET
DTSTART;TZID=Europe/Berlin:19701025T030000
RRULE:FREQ=YEARLY;INTERVAL=1;BYDAY=-1SU;BYMONTH=10
END:STANDARD
END:VTIMEZONE
BEGIN:VEVENT
DTSTAMP:20260425T012623
DTSTART;TZID=Europe/Berlin:20250927T094500
DTEND;TZID=Europe/Berlin:20250927T104500
UID:252OH20585-20250927T094500@VHSUNTERLAND
SUMMARY:Kindertanz im klassischen Stil für Kinder ab 7 Jahren für Anfänger*innen mit Vorkenntnissen (252OH20585) 
LOCATION:oh Haus der Vereine, Raum 2, Schulstraße 13, 74229 Oedheim
END:VEVENT
BEGIN:VEVENT
DTSTAMP:20260425T012623
DTSTART;TZID=Europe/Berlin:20251011T094500
DTEND;TZID=Europe/Berlin:20251011T104500
UID:252OH20585-20251011T094500@VHSUNTERLAND
SUMMARY:Kindertanz im klassischen Stil für Kinder ab 7 Jahren für Anfänger*innen mit Vorkenntnissen (252OH20585) 
LOCATION:oh Haus der Vereine, Raum 2, Schulstraße 13, 74229 Oedheim
END:VEVENT
BEGIN:VEVENT
DTSTAMP:20260425T012623
DTSTART;TZID=Europe/Berlin:20251018T094500
DTEND;TZID=Europe/Berlin:20251018T104500
UID:252OH20585-20251018T094500@VHSUNTERLAND
SUMMARY:Kindertanz im klassischen Stil für Kinder ab 7 Jahren für Anfänger*innen mit Vorkenntnissen (252OH20585) 
LOCATION:oh Haus der Vereine, Raum 2, Schulstraße 13, 74229 Oedheim
END:VEVENT
BEGIN:VEVENT
DTSTAMP:20260425T012623
DTSTART;TZID=Europe/Berlin:20251108T094500
DTEND;TZID=Europe/Berlin:20251108T104500
UID:252OH20585-20251108T094500@VHSUNTERLAND
SUMMARY:Kindertanz im klassischen Stil für Kinder ab 7 Jahren für Anfänger*innen mit Vorkenntnissen (252OH20585) 
LOCATION:oh Haus der Vereine, Raum 2, Schulstraße 13, 74229 Oedheim
END:VEVENT
BEGIN:VEVENT
DTSTAMP:20260425T012623
DTSTART;TZID=Europe/Berlin:20251115T094500
DTEND;TZID=Europe/Berlin:20251115T104500
UID:252OH20585-20251115T094500@VHSUNTERLAND
SUMMARY:Kindertanz im klassischen Stil für Kinder ab 7 Jahren für Anfänger*innen mit Vorkenntnissen (252OH20585) 
LOCATION:oh Haus der Vereine, Raum 2, Schulstraße 13, 74229 Oedheim
END:VEVENT
BEGIN:VEVENT
DTSTAMP:20260425T012623
DTSTART;TZID=Europe/Berlin:20251122T094500
DTEND;TZID=Europe/Berlin:20251122T104500
UID:252OH20585-20251122T094500@VHSUNTERLAND
SUMMARY:Kindertanz im klassischen Stil für Kinder ab 7 Jahren für Anfänger*innen mit Vorkenntnissen (252OH20585) 
LOCATION:oh Haus der Vereine, Raum 2, Schulstraße 13, 74229 Oedheim
END:VEVENT
BEGIN:VEVENT
DTSTAMP:20260425T012623
DTSTART;TZID=Europe/Berlin:20251129T094500
DTEND;TZID=Europe/Berlin:20251129T104500
UID:252OH20585-20251129T094500@VHSUNTERLAND
SUMMARY:Kindertanz im klassischen Stil für Kinder ab 7 Jahren für Anfänger*innen mit Vorkenntnissen (252OH20585) 
LOCATION:oh Haus der Vereine, Raum 2, Schulstraße 13, 74229 Oedheim
END:VEVENT
BEGIN:VEVENT
DTSTAMP:20260425T012623
DTSTART;TZID=Europe/Berlin:20251206T094500
DTEND;TZID=Europe/Berlin:20251206T104500
UID:252OH20585-20251206T094500@VHSUNTERLAND
SUMMARY:Kindertanz im klassischen Stil für Kinder ab 7 Jahren für Anfänger*innen mit Vorkenntnissen (252OH20585) 
LOCATION:oh Haus der Vereine, Raum 2, Schulstraße 13, 74229 Oedheim
END:VEVENT
BEGIN:VEVENT
DTSTAMP:20260425T012623
DTSTART;TZID=Europe/Berlin:20251220T094500
DTEND;TZID=Europe/Berlin:20251220T104500
UID:252OH20585-20251220T094500@VHSUNTERLAND
DESCRIPTION:Ersatz für Ausfall am 13.12.2025
SUMMARY:Kindertanz im klassischen Stil für Kinder ab 7 Jahren für Anfänger*innen mit Vorkenntnissen (252OH20585) 
LOCATION:oh Haus der Vereine, Raum 2, Schulstraße 13, 74229 Oedheim
END:VEVENT
BEGIN:VEVENT
DTSTAMP:20260425T012623
DTSTART;TZID=Europe/Berlin:20260110T094500
DTEND;TZID=Europe/Berlin:20260110T104500
UID:252OH20585-20260110T094500@VHSUNTERLAND
SUMMARY:Kindertanz im klassischen Stil für Kinder ab 7 Jahren für Anfänger*innen mit Vorkenntnissen (252OH20585) 
LOCATION:oh Haus der Vereine, Raum 2, Schulstraße 13, 74229 Oedheim
END:VEVENT
BEGIN:VEVENT
DTSTAMP:20260425T012623
DTSTART;TZID=Europe/Berlin:20260117T094500
DTEND;TZID=Europe/Berlin:20260117T104500
UID:252OH20585-20260117T094500@VHSUNTERLAND
SUMMARY:Kindertanz im klassischen Stil für Kinder ab 7 Jahren für Anfänger*innen mit Vorkenntnissen (252OH20585) 
LOCATION:oh Haus der Vereine, Raum 2, Schulstraße 13, 74229 Oedheim
END:VEVENT
BEGIN:VEVENT
DTSTAMP:20260425T012623
DTSTART;TZID=Europe/Berlin:20260124T094500
DTEND;TZID=Europe/Berlin:20260124T104500
UID:252OH20585-20260124T094500@VHSUNTERLAND
SUMMARY:Kindertanz im klassischen Stil für Kinder ab 7 Jahren für Anfänger*innen mit Vorkenntnissen (252OH20585) 
LOCATION:oh Haus der Vereine, Raum 2, Schulstraße 13, 74229 Oedheim
END:VEVENT
BEGIN:VEVENT
DTSTAMP:20260425T012623
DTSTART;TZID=Europe/Berlin:20260131T094500
DTEND;TZID=Europe/Berlin:20260131T104500
UID:252OH20585-20260131T094500@VHSUNTERLAND
SUMMARY:Kindertanz im klassischen Stil für Kinder ab 7 Jahren für Anfänger*innen mit Vorkenntnissen (252OH20585) 
LOCATION:oh Haus der Vereine, Raum 2, Schulstraße 13, 74229 Oedheim
END:VEVENT
BEGIN:VEVENT
DTSTAMP:20260425T012623
DTSTART;TZID=Europe/Berlin:20260207T094500
DTEND;TZID=Europe/Berlin:20260207T104500
UID:252OH20585-20260207T094500@VHSUNTERLAND
SUMMARY:Kindertanz im klassischen Stil für Kinder ab 7 Jahren für Anfänger*innen mit Vorkenntnissen (252OH20585) 
LOCATION:oh Haus der Vereine, Raum 2, Schulstraße 13, 74229 Oedheim
END:VEVENT
END:VCALENDAR