BEGIN:VCALENDAR
VERSION:2.0
PRODID:http://www.kufer.de/kuferweb / DE
METHOD:PUBLISH
CALSCALE:GREGORIAN
X-WR-TIMEZONE:Europe/Berlin
BEGIN:VTIMEZONE
TZID:Europe/Berlin
X-LIC-LOCATION:Europe/Berlin
BEGIN:DAYLIGHT
TZOFFSETFROM:+0100
TZOFFSETTO:+0200
TZNAME:CEST
DTSTART;TZID=Europe/Berlin:19700329T020000
RRULE:FREQ=YEARLY;INTERVAL=1;BYDAY=-1SU;BYMONTH=3
END:DAYLIGHT
BEGIN:STANDARD
TZOFFSETFROM:+0200
TZOFFSETTO:+0100
TZNAME:CET
DTSTART;TZID=Europe/Berlin:19701025T030000
RRULE:FREQ=YEARLY;INTERVAL=1;BYDAY=-1SU;BYMONTH=10
END:STANDARD
END:VTIMEZONE
BEGIN:VEVENT
DTSTAMP:20260422T160120
DTSTART;TZID=Europe/Berlin:20250923T145000
DTEND;TZID=Europe/Berlin:20250923T153500
UID:252OH20582-20250923T145000@VHSUNTERLAND
SUMMARY:Tänzerische Früherziehung - Vorstufe zum Kindertanz im klassischen Stil für Vorschulkinder (252OH20582) 
LOCATION:oh Haus der Vereine, Raum 2, Schulstraße 13, 74229 Oedheim
END:VEVENT
BEGIN:VEVENT
DTSTAMP:20260422T160120
DTSTART;TZID=Europe/Berlin:20250930T145000
DTEND;TZID=Europe/Berlin:20250930T153500
UID:252OH20582-20250930T145000@VHSUNTERLAND
SUMMARY:Tänzerische Früherziehung - Vorstufe zum Kindertanz im klassischen Stil für Vorschulkinder (252OH20582) 
LOCATION:oh Haus der Vereine, Raum 2, Schulstraße 13, 74229 Oedheim
END:VEVENT
BEGIN:VEVENT
DTSTAMP:20260422T160120
DTSTART;TZID=Europe/Berlin:20251007T145000
DTEND;TZID=Europe/Berlin:20251007T153500
UID:252OH20582-20251007T145000@VHSUNTERLAND
SUMMARY:Tänzerische Früherziehung - Vorstufe zum Kindertanz im klassischen Stil für Vorschulkinder (252OH20582) 
LOCATION:oh Haus der Vereine, Raum 2, Schulstraße 13, 74229 Oedheim
END:VEVENT
BEGIN:VEVENT
DTSTAMP:20260422T160120
DTSTART;TZID=Europe/Berlin:20251014T145000
DTEND;TZID=Europe/Berlin:20251014T153500
UID:252OH20582-20251014T145000@VHSUNTERLAND
SUMMARY:Tänzerische Früherziehung - Vorstufe zum Kindertanz im klassischen Stil für Vorschulkinder (252OH20582) 
LOCATION:oh Haus der Vereine, Raum 2, Schulstraße 13, 74229 Oedheim
END:VEVENT
BEGIN:VEVENT
DTSTAMP:20260422T160120
DTSTART;TZID=Europe/Berlin:20251021T145000
DTEND;TZID=Europe/Berlin:20251021T153500
UID:252OH20582-20251021T145000@VHSUNTERLAND
SUMMARY:Tänzerische Früherziehung - Vorstufe zum Kindertanz im klassischen Stil für Vorschulkinder (252OH20582) 
LOCATION:oh Haus der Vereine, Raum 2, Schulstraße 13, 74229 Oedheim
END:VEVENT
BEGIN:VEVENT
DTSTAMP:20260422T160120
DTSTART;TZID=Europe/Berlin:20251104T145000
DTEND;TZID=Europe/Berlin:20251104T153500
UID:252OH20582-20251104T145000@VHSUNTERLAND
SUMMARY:Tänzerische Früherziehung - Vorstufe zum Kindertanz im klassischen Stil für Vorschulkinder (252OH20582) 
LOCATION:oh Haus der Vereine, Raum 2, Schulstraße 13, 74229 Oedheim
END:VEVENT
BEGIN:VEVENT
DTSTAMP:20260422T160120
DTSTART;TZID=Europe/Berlin:20251111T145000
DTEND;TZID=Europe/Berlin:20251111T153500
UID:252OH20582-20251111T145000@VHSUNTERLAND
SUMMARY:Tänzerische Früherziehung - Vorstufe zum Kindertanz im klassischen Stil für Vorschulkinder (252OH20582) 
LOCATION:oh Haus der Vereine, Raum 2, Schulstraße 13, 74229 Oedheim
END:VEVENT
BEGIN:VEVENT
DTSTAMP:20260422T160120
DTSTART;TZID=Europe/Berlin:20251118T145000
DTEND;TZID=Europe/Berlin:20251118T153500
UID:252OH20582-20251118T145000@VHSUNTERLAND
SUMMARY:Tänzerische Früherziehung - Vorstufe zum Kindertanz im klassischen Stil für Vorschulkinder (252OH20582) 
LOCATION:oh Haus der Vereine, Raum 2, Schulstraße 13, 74229 Oedheim
END:VEVENT
BEGIN:VEVENT
DTSTAMP:20260422T160120
DTSTART;TZID=Europe/Berlin:20251125T145000
DTEND;TZID=Europe/Berlin:20251125T153500
UID:252OH20582-20251125T145000@VHSUNTERLAND
SUMMARY:Tänzerische Früherziehung - Vorstufe zum Kindertanz im klassischen Stil für Vorschulkinder (252OH20582) 
LOCATION:oh Haus der Vereine, Raum 2, Schulstraße 13, 74229 Oedheim
END:VEVENT
BEGIN:VEVENT
DTSTAMP:20260422T160120
DTSTART;TZID=Europe/Berlin:20251202T145000
DTEND;TZID=Europe/Berlin:20251202T153500
UID:252OH20582-20251202T145000@VHSUNTERLAND
SUMMARY:Tänzerische Früherziehung - Vorstufe zum Kindertanz im klassischen Stil für Vorschulkinder (252OH20582) 
LOCATION:oh Haus der Vereine, Raum 2, Schulstraße 13, 74229 Oedheim
END:VEVENT
BEGIN:VEVENT
DTSTAMP:20260422T160120
DTSTART;TZID=Europe/Berlin:20251209T145000
DTEND;TZID=Europe/Berlin:20251209T153500
UID:252OH20582-20251209T145000@VHSUNTERLAND
SUMMARY:Tänzerische Früherziehung - Vorstufe zum Kindertanz im klassischen Stil für Vorschulkinder (252OH20582) 
LOCATION:oh Haus der Vereine, Raum 2, Schulstraße 13, 74229 Oedheim
END:VEVENT
BEGIN:VEVENT
DTSTAMP:20260422T160120
DTSTART;TZID=Europe/Berlin:20251216T145000
DTEND;TZID=Europe/Berlin:20251216T153500
UID:252OH20582-20251216T145000@VHSUNTERLAND
SUMMARY:Tänzerische Früherziehung - Vorstufe zum Kindertanz im klassischen Stil für Vorschulkinder (252OH20582) 
LOCATION:oh Haus der Vereine, Raum 2, Schulstraße 13, 74229 Oedheim
END:VEVENT
BEGIN:VEVENT
DTSTAMP:20260422T160120
DTSTART;TZID=Europe/Berlin:20260113T145000
DTEND;TZID=Europe/Berlin:20260113T153500
UID:252OH20582-20260113T145000@VHSUNTERLAND
SUMMARY:Tänzerische Früherziehung - Vorstufe zum Kindertanz im klassischen Stil für Vorschulkinder (252OH20582) 
LOCATION:oh Haus der Vereine, Raum 2, Schulstraße 13, 74229 Oedheim
END:VEVENT
BEGIN:VEVENT
DTSTAMP:20260422T160120
DTSTART;TZID=Europe/Berlin:20260120T145000
DTEND;TZID=Europe/Berlin:20260120T153500
UID:252OH20582-20260120T145000@VHSUNTERLAND
SUMMARY:Tänzerische Früherziehung - Vorstufe zum Kindertanz im klassischen Stil für Vorschulkinder (252OH20582) 
LOCATION:oh Haus der Vereine, Raum 2, Schulstraße 13, 74229 Oedheim
END:VEVENT
END:VCALENDAR