BEGIN:VCALENDAR
VERSION:2.0
PRODID:http://www.kufer.de/kuferweb / DE
METHOD:PUBLISH
CALSCALE:GREGORIAN
X-WR-TIMEZONE:Europe/Berlin
BEGIN:VTIMEZONE
TZID:Europe/Berlin
X-LIC-LOCATION:Europe/Berlin
BEGIN:DAYLIGHT
TZOFFSETFROM:+0100
TZOFFSETTO:+0200
TZNAME:CEST
DTSTART;TZID=Europe/Berlin:19700329T020000
RRULE:FREQ=YEARLY;INTERVAL=1;BYDAY=-1SU;BYMONTH=3
END:DAYLIGHT
BEGIN:STANDARD
TZOFFSETFROM:+0200
TZOFFSETTO:+0100
TZNAME:CET
DTSTART;TZID=Europe/Berlin:19701025T030000
RRULE:FREQ=YEARLY;INTERVAL=1;BYDAY=-1SU;BYMONTH=10
END:STANDARD
END:VTIMEZONE
BEGIN:VEVENT
DTSTAMP:20260422T010417
DTSTART;TZID=Europe/Berlin:20251009T093000
DTEND;TZID=Europe/Berlin:20251009T110000
UID:252NS40602-20251009T093000@VHSUNTERLAND
SUMMARY:Englisch für die Reise A2 auch für Wiedereinsteiger*innen geeignet (252NS40602) 
LOCATION:ns VHS-Haus, Seiteneingang, Hofgartenstraße 28, 74196 Neuenstadt
END:VEVENT
BEGIN:VEVENT
DTSTAMP:20260422T010417
DTSTART;TZID=Europe/Berlin:20251016T093000
DTEND;TZID=Europe/Berlin:20251016T110000
UID:252NS40602-20251016T093000@VHSUNTERLAND
SUMMARY:Englisch für die Reise A2 auch für Wiedereinsteiger*innen geeignet (252NS40602) 
LOCATION:ns VHS-Haus, Seiteneingang, Hofgartenstraße 28, 74196 Neuenstadt
END:VEVENT
BEGIN:VEVENT
DTSTAMP:20260422T010417
DTSTART;TZID=Europe/Berlin:20251023T093000
DTEND;TZID=Europe/Berlin:20251023T110000
UID:252NS40602-20251023T093000@VHSUNTERLAND
SUMMARY:Englisch für die Reise A2 auch für Wiedereinsteiger*innen geeignet (252NS40602) 
LOCATION:ns VHS-Haus, Seiteneingang, Hofgartenstraße 28, 74196 Neuenstadt
END:VEVENT
BEGIN:VEVENT
DTSTAMP:20260422T010417
DTSTART;TZID=Europe/Berlin:20251106T093000
DTEND;TZID=Europe/Berlin:20251106T110000
UID:252NS40602-20251106T093000@VHSUNTERLAND
SUMMARY:Englisch für die Reise A2 auch für Wiedereinsteiger*innen geeignet (252NS40602) 
LOCATION:ns VHS-Haus, Seiteneingang, Hofgartenstraße 28, 74196 Neuenstadt
END:VEVENT
BEGIN:VEVENT
DTSTAMP:20260422T010417
DTSTART;TZID=Europe/Berlin:20251113T093000
DTEND;TZID=Europe/Berlin:20251113T110000
UID:252NS40602-20251113T093000@VHSUNTERLAND
SUMMARY:Englisch für die Reise A2 auch für Wiedereinsteiger*innen geeignet (252NS40602) 
LOCATION:ns VHS-Haus, Seiteneingang, Hofgartenstraße 28, 74196 Neuenstadt
END:VEVENT
BEGIN:VEVENT
DTSTAMP:20260422T010417
DTSTART;TZID=Europe/Berlin:20251120T093000
DTEND;TZID=Europe/Berlin:20251120T110000
UID:252NS40602-20251120T093000@VHSUNTERLAND
SUMMARY:Englisch für die Reise A2 auch für Wiedereinsteiger*innen geeignet (252NS40602) 
LOCATION:ns VHS-Haus, Seiteneingang, Hofgartenstraße 28, 74196 Neuenstadt
END:VEVENT
BEGIN:VEVENT
DTSTAMP:20260422T010417
DTSTART;TZID=Europe/Berlin:20251127T093000
DTEND;TZID=Europe/Berlin:20251127T110000
UID:252NS40602-20251127T093000@VHSUNTERLAND
SUMMARY:Englisch für die Reise A2 auch für Wiedereinsteiger*innen geeignet (252NS40602) 
LOCATION:ns VHS-Haus, Seiteneingang, Hofgartenstraße 28, 74196 Neuenstadt
END:VEVENT
BEGIN:VEVENT
DTSTAMP:20260422T010417
DTSTART;TZID=Europe/Berlin:20251204T093000
DTEND;TZID=Europe/Berlin:20251204T110000
UID:252NS40602-20251204T093000@VHSUNTERLAND
SUMMARY:Englisch für die Reise A2 auch für Wiedereinsteiger*innen geeignet (252NS40602) 
LOCATION:ns VHS-Haus, Seiteneingang, Hofgartenstraße 28, 74196 Neuenstadt
END:VEVENT
BEGIN:VEVENT
DTSTAMP:20260422T010417
DTSTART;TZID=Europe/Berlin:20251211T093000
DTEND;TZID=Europe/Berlin:20251211T110000
UID:252NS40602-20251211T093000@VHSUNTERLAND
SUMMARY:Englisch für die Reise A2 auch für Wiedereinsteiger*innen geeignet (252NS40602) 
LOCATION:ns VHS-Haus, Seiteneingang, Hofgartenstraße 28, 74196 Neuenstadt
END:VEVENT
BEGIN:VEVENT
DTSTAMP:20260422T010417
DTSTART;TZID=Europe/Berlin:20251218T093000
DTEND;TZID=Europe/Berlin:20251218T110000
UID:252NS40602-20251218T093000@VHSUNTERLAND
SUMMARY:Englisch für die Reise A2 auch für Wiedereinsteiger*innen geeignet (252NS40602) 
LOCATION:ns VHS-Haus, Seiteneingang, Hofgartenstraße 28, 74196 Neuenstadt
END:VEVENT
BEGIN:VEVENT
DTSTAMP:20260422T010417
DTSTART;TZID=Europe/Berlin:20260108T093000
DTEND;TZID=Europe/Berlin:20260108T110000
UID:252NS40602-20260108T093000@VHSUNTERLAND
SUMMARY:Englisch für die Reise A2 auch für Wiedereinsteiger*innen geeignet (252NS40602) 
LOCATION:ns VHS-Haus, Seiteneingang, Hofgartenstraße 28, 74196 Neuenstadt
END:VEVENT
BEGIN:VEVENT
DTSTAMP:20260422T010417
DTSTART;TZID=Europe/Berlin:20260115T093000
DTEND;TZID=Europe/Berlin:20260115T110000
UID:252NS40602-20260115T093000@VHSUNTERLAND
SUMMARY:Englisch für die Reise A2 auch für Wiedereinsteiger*innen geeignet (252NS40602) 
LOCATION:ns VHS-Haus, Seiteneingang, Hofgartenstraße 28, 74196 Neuenstadt
END:VEVENT
END:VCALENDAR