BEGIN:VCALENDAR
VERSION:2.0
PRODID:http://www.kufer.de/kuferweb / DE
METHOD:PUBLISH
CALSCALE:GREGORIAN
X-WR-TIMEZONE:Europe/Berlin
BEGIN:VTIMEZONE
TZID:Europe/Berlin
X-LIC-LOCATION:Europe/Berlin
BEGIN:DAYLIGHT
TZOFFSETFROM:+0100
TZOFFSETTO:+0200
TZNAME:CEST
DTSTART;TZID=Europe/Berlin:19700329T020000
RRULE:FREQ=YEARLY;INTERVAL=1;BYDAY=-1SU;BYMONTH=3
END:DAYLIGHT
BEGIN:STANDARD
TZOFFSETFROM:+0200
TZOFFSETTO:+0100
TZNAME:CET
DTSTART;TZID=Europe/Berlin:19701025T030000
RRULE:FREQ=YEARLY;INTERVAL=1;BYDAY=-1SU;BYMONTH=10
END:STANDARD
END:VTIMEZONE
BEGIN:VEVENT
DTSTAMP:20260420T140325
DTSTART;TZID=Europe/Berlin:20250915T180000
DTEND;TZID=Europe/Berlin:20250915T190000
UID:252NS30252-20250915T180000@VHSUNTERLAND
SUMMARY:Fit in den Herbst (252NS30252) 
LOCATION:ns Kursraum Öhringer Straße 24, , 74196 Neuenstadt
END:VEVENT
BEGIN:VEVENT
DTSTAMP:20260420T140325
DTSTART;TZID=Europe/Berlin:20250922T180000
DTEND;TZID=Europe/Berlin:20250922T190000
UID:252NS30252-20250922T180000@VHSUNTERLAND
SUMMARY:Fit in den Herbst (252NS30252) 
LOCATION:ns Kursraum Öhringer Straße 24, , 74196 Neuenstadt
END:VEVENT
BEGIN:VEVENT
DTSTAMP:20260420T140325
DTSTART;TZID=Europe/Berlin:20250929T180000
DTEND;TZID=Europe/Berlin:20250929T190000
UID:252NS30252-20250929T180000@VHSUNTERLAND
SUMMARY:Fit in den Herbst (252NS30252) 
LOCATION:ns Kursraum Öhringer Straße 24, , 74196 Neuenstadt
END:VEVENT
BEGIN:VEVENT
DTSTAMP:20260420T140325
DTSTART;TZID=Europe/Berlin:20251006T180000
DTEND;TZID=Europe/Berlin:20251006T190000
UID:252NS30252-20251006T180000@VHSUNTERLAND
SUMMARY:Fit in den Herbst (252NS30252) 
LOCATION:ns Kursraum Öhringer Straße 24, , 74196 Neuenstadt
END:VEVENT
BEGIN:VEVENT
DTSTAMP:20260420T140325
DTSTART;TZID=Europe/Berlin:20251013T180000
DTEND;TZID=Europe/Berlin:20251013T190000
UID:252NS30252-20251013T180000@VHSUNTERLAND
SUMMARY:Fit in den Herbst (252NS30252) 
LOCATION:ns Kursraum Öhringer Straße 24, , 74196 Neuenstadt
END:VEVENT
BEGIN:VEVENT
DTSTAMP:20260420T140325
DTSTART;TZID=Europe/Berlin:20251020T180000
DTEND;TZID=Europe/Berlin:20251020T190000
UID:252NS30252-20251020T180000@VHSUNTERLAND
SUMMARY:Fit in den Herbst (252NS30252) 
LOCATION:ns Kursraum Öhringer Straße 24, , 74196 Neuenstadt
END:VEVENT
BEGIN:VEVENT
DTSTAMP:20260420T140325
DTSTART;TZID=Europe/Berlin:20251103T180000
DTEND;TZID=Europe/Berlin:20251103T190000
UID:252NS30252-20251103T180000@VHSUNTERLAND
SUMMARY:Fit in den Herbst (252NS30252) 
LOCATION:ns Kursraum Öhringer Straße 24, , 74196 Neuenstadt
END:VEVENT
BEGIN:VEVENT
DTSTAMP:20260420T140325
DTSTART;TZID=Europe/Berlin:20251110T180000
DTEND;TZID=Europe/Berlin:20251110T190000
UID:252NS30252-20251110T180000@VHSUNTERLAND
SUMMARY:Fit in den Herbst (252NS30252) 
LOCATION:ns Kursraum Öhringer Straße 24, , 74196 Neuenstadt
END:VEVENT
BEGIN:VEVENT
DTSTAMP:20260420T140325
DTSTART;TZID=Europe/Berlin:20251117T180000
DTEND;TZID=Europe/Berlin:20251117T190000
UID:252NS30252-20251117T180000@VHSUNTERLAND
SUMMARY:Fit in den Herbst (252NS30252) 
LOCATION:ns Kursraum Öhringer Straße 24, , 74196 Neuenstadt
END:VEVENT
BEGIN:VEVENT
DTSTAMP:20260420T140325
DTSTART;TZID=Europe/Berlin:20251124T180000
DTEND;TZID=Europe/Berlin:20251124T190000
UID:252NS30252-20251124T180000@VHSUNTERLAND
SUMMARY:Fit in den Herbst (252NS30252) 
LOCATION:ns Kursraum Öhringer Straße 24, , 74196 Neuenstadt
END:VEVENT
BEGIN:VEVENT
DTSTAMP:20260420T140325
DTSTART;TZID=Europe/Berlin:20251201T180000
DTEND;TZID=Europe/Berlin:20251201T190000
UID:252NS30252-20251201T180000@VHSUNTERLAND
SUMMARY:Fit in den Herbst (252NS30252) 
LOCATION:ns Kursraum Öhringer Straße 24, , 74196 Neuenstadt
END:VEVENT
BEGIN:VEVENT
DTSTAMP:20260420T140325
DTSTART;TZID=Europe/Berlin:20251208T180000
DTEND;TZID=Europe/Berlin:20251208T190000
UID:252NS30252-20251208T180000@VHSUNTERLAND
SUMMARY:Fit in den Herbst (252NS30252) 
LOCATION:ns Kursraum Öhringer Straße 24, , 74196 Neuenstadt
END:VEVENT
BEGIN:VEVENT
DTSTAMP:20260420T140325
DTSTART;TZID=Europe/Berlin:20251215T180000
DTEND;TZID=Europe/Berlin:20251215T190000
UID:252NS30252-20251215T180000@VHSUNTERLAND
SUMMARY:Fit in den Herbst (252NS30252) 
LOCATION:ns Kursraum Öhringer Straße 24, , 74196 Neuenstadt
END:VEVENT
END:VCALENDAR