BEGIN:VCALENDAR
VERSION:2.0
PRODID:http://www.kufer.de/kuferweb / DE
METHOD:PUBLISH
CALSCALE:GREGORIAN
X-WR-TIMEZONE:Europe/Berlin
BEGIN:VTIMEZONE
TZID:Europe/Berlin
X-LIC-LOCATION:Europe/Berlin
BEGIN:DAYLIGHT
TZOFFSETFROM:+0100
TZOFFSETTO:+0200
TZNAME:CEST
DTSTART;TZID=Europe/Berlin:19700329T020000
RRULE:FREQ=YEARLY;INTERVAL=1;BYDAY=-1SU;BYMONTH=3
END:DAYLIGHT
BEGIN:STANDARD
TZOFFSETFROM:+0200
TZOFFSETTO:+0100
TZNAME:CET
DTSTART;TZID=Europe/Berlin:19701025T030000
RRULE:FREQ=YEARLY;INTERVAL=1;BYDAY=-1SU;BYMONTH=10
END:STANDARD
END:VTIMEZONE
BEGIN:VEVENT
DTSTAMP:20260422T093151
DTSTART;TZID=Europe/Berlin:20251006T154500
DTEND;TZID=Europe/Berlin:20251006T163000
UID:252NS30191-20251006T154500@VHSUNTERLAND
SUMMARY:Kinderyoga – Stark, flexibel und entspannt! Für Kinder ab 4 – 7 Jahren (252NS30191) 
LOCATION:ns VHS-Haus, Haupteingang, Hofgartenstraße 28, 74196 Neuenstadt
END:VEVENT
BEGIN:VEVENT
DTSTAMP:20260422T093151
DTSTART;TZID=Europe/Berlin:20251013T154500
DTEND;TZID=Europe/Berlin:20251013T163000
UID:252NS30191-20251013T154500@VHSUNTERLAND
SUMMARY:Kinderyoga – Stark, flexibel und entspannt! Für Kinder ab 4 – 7 Jahren (252NS30191) 
LOCATION:ns VHS-Haus, Haupteingang, Hofgartenstraße 28, 74196 Neuenstadt
END:VEVENT
BEGIN:VEVENT
DTSTAMP:20260422T093151
DTSTART;TZID=Europe/Berlin:20251020T154500
DTEND;TZID=Europe/Berlin:20251020T163000
UID:252NS30191-20251020T154500@VHSUNTERLAND
SUMMARY:Kinderyoga – Stark, flexibel und entspannt! Für Kinder ab 4 – 7 Jahren (252NS30191) 
LOCATION:ns VHS-Haus, Haupteingang, Hofgartenstraße 28, 74196 Neuenstadt
END:VEVENT
BEGIN:VEVENT
DTSTAMP:20260422T093151
DTSTART;TZID=Europe/Berlin:20251103T154500
DTEND;TZID=Europe/Berlin:20251103T163000
UID:252NS30191-20251103T154500@VHSUNTERLAND
SUMMARY:Kinderyoga – Stark, flexibel und entspannt! Für Kinder ab 4 – 7 Jahren (252NS30191) 
LOCATION:ns VHS-Haus, Haupteingang, Hofgartenstraße 28, 74196 Neuenstadt
END:VEVENT
BEGIN:VEVENT
DTSTAMP:20260422T093151
DTSTART;TZID=Europe/Berlin:20251110T154500
DTEND;TZID=Europe/Berlin:20251110T163000
UID:252NS30191-20251110T154500@VHSUNTERLAND
SUMMARY:Kinderyoga – Stark, flexibel und entspannt! Für Kinder ab 4 – 7 Jahren (252NS30191) 
LOCATION:ns VHS-Haus, Haupteingang, Hofgartenstraße 28, 74196 Neuenstadt
END:VEVENT
BEGIN:VEVENT
DTSTAMP:20260422T093151
DTSTART;TZID=Europe/Berlin:20251117T154500
DTEND;TZID=Europe/Berlin:20251117T163000
UID:252NS30191-20251117T154500@VHSUNTERLAND
SUMMARY:Kinderyoga – Stark, flexibel und entspannt! Für Kinder ab 4 – 7 Jahren (252NS30191) 
LOCATION:ns VHS-Haus, Haupteingang, Hofgartenstraße 28, 74196 Neuenstadt
END:VEVENT
END:VCALENDAR