BEGIN:VCALENDAR
VERSION:2.0
PRODID:http://www.kufer.de/kuferweb / DE
METHOD:PUBLISH
CALSCALE:GREGORIAN
X-WR-TIMEZONE:Europe/Berlin
BEGIN:VTIMEZONE
TZID:Europe/Berlin
X-LIC-LOCATION:Europe/Berlin
BEGIN:DAYLIGHT
TZOFFSETFROM:+0100
TZOFFSETTO:+0200
TZNAME:CEST
DTSTART;TZID=Europe/Berlin:19700329T020000
RRULE:FREQ=YEARLY;INTERVAL=1;BYDAY=-1SU;BYMONTH=3
END:DAYLIGHT
BEGIN:STANDARD
TZOFFSETFROM:+0200
TZOFFSETTO:+0100
TZNAME:CET
DTSTART;TZID=Europe/Berlin:19701025T030000
RRULE:FREQ=YEARLY;INTERVAL=1;BYDAY=-1SU;BYMONTH=10
END:STANDARD
END:VTIMEZONE
BEGIN:VEVENT
DTSTAMP:20260421T014258
DTSTART;TZID=Europe/Berlin:20250922T191500
DTEND;TZID=Europe/Berlin:20250922T201500
UID:252NS30112-20250922T191500@VHSUNTERLAND
SUMMARY:Pilates für Fortgeschrittene (252NS30112) 
LOCATION:ns Stein, katholischen Gemeindehaus St. Bernhard, Lobenbacherstr. 13, 74196 Neuenstadt
END:VEVENT
BEGIN:VEVENT
DTSTAMP:20260421T014258
DTSTART;TZID=Europe/Berlin:20250929T191500
DTEND;TZID=Europe/Berlin:20250929T201500
UID:252NS30112-20250929T191500@VHSUNTERLAND
SUMMARY:Pilates für Fortgeschrittene (252NS30112) 
LOCATION:ns Stein, katholischen Gemeindehaus St. Bernhard, Lobenbacherstr. 13, 74196 Neuenstadt
END:VEVENT
BEGIN:VEVENT
DTSTAMP:20260421T014258
DTSTART;TZID=Europe/Berlin:20251006T191500
DTEND;TZID=Europe/Berlin:20251006T201500
UID:252NS30112-20251006T191500@VHSUNTERLAND
SUMMARY:Pilates für Fortgeschrittene (252NS30112) 
LOCATION:ns Stein, katholischen Gemeindehaus St. Bernhard, Lobenbacherstr. 13, 74196 Neuenstadt
END:VEVENT
BEGIN:VEVENT
DTSTAMP:20260421T014258
DTSTART;TZID=Europe/Berlin:20251013T191500
DTEND;TZID=Europe/Berlin:20251013T201500
UID:252NS30112-20251013T191500@VHSUNTERLAND
SUMMARY:Pilates für Fortgeschrittene (252NS30112) 
LOCATION:ns Stein, katholischen Gemeindehaus St. Bernhard, Lobenbacherstr. 13, 74196 Neuenstadt
END:VEVENT
BEGIN:VEVENT
DTSTAMP:20260421T014258
DTSTART;TZID=Europe/Berlin:20251103T191500
DTEND;TZID=Europe/Berlin:20251103T201500
UID:252NS30112-20251103T191500@VHSUNTERLAND
SUMMARY:Pilates für Fortgeschrittene (252NS30112) 
LOCATION:ns Stein, katholischen Gemeindehaus St. Bernhard, Lobenbacherstr. 13, 74196 Neuenstadt
END:VEVENT
BEGIN:VEVENT
DTSTAMP:20260421T014258
DTSTART;TZID=Europe/Berlin:20251110T191500
DTEND;TZID=Europe/Berlin:20251110T201500
UID:252NS30112-20251110T191500@VHSUNTERLAND
SUMMARY:Pilates für Fortgeschrittene (252NS30112) 
LOCATION:ns Stein, katholischen Gemeindehaus St. Bernhard, Lobenbacherstr. 13, 74196 Neuenstadt
END:VEVENT
BEGIN:VEVENT
DTSTAMP:20260421T014258
DTSTART;TZID=Europe/Berlin:20251117T191500
DTEND;TZID=Europe/Berlin:20251117T201500
UID:252NS30112-20251117T191500@VHSUNTERLAND
SUMMARY:Pilates für Fortgeschrittene (252NS30112) 
LOCATION:ns Stein, katholischen Gemeindehaus St. Bernhard, Lobenbacherstr. 13, 74196 Neuenstadt
END:VEVENT
BEGIN:VEVENT
DTSTAMP:20260421T014258
DTSTART;TZID=Europe/Berlin:20251124T191500
DTEND;TZID=Europe/Berlin:20251124T201500
UID:252NS30112-20251124T191500@VHSUNTERLAND
SUMMARY:Pilates für Fortgeschrittene (252NS30112) 
LOCATION:ns Stein, katholischen Gemeindehaus St. Bernhard, Lobenbacherstr. 13, 74196 Neuenstadt
END:VEVENT
BEGIN:VEVENT
DTSTAMP:20260421T014258
DTSTART;TZID=Europe/Berlin:20251201T191500
DTEND;TZID=Europe/Berlin:20251201T201500
UID:252NS30112-20251201T191500@VHSUNTERLAND
SUMMARY:Pilates für Fortgeschrittene (252NS30112) 
LOCATION:ns Stein, katholischen Gemeindehaus St. Bernhard, Lobenbacherstr. 13, 74196 Neuenstadt
END:VEVENT
BEGIN:VEVENT
DTSTAMP:20260421T014258
DTSTART;TZID=Europe/Berlin:20260119T191500
DTEND;TZID=Europe/Berlin:20260119T201500
UID:252NS30112-20260119T191500@VHSUNTERLAND
SUMMARY:Pilates für Fortgeschrittene (252NS30112) 
LOCATION:ns Stein, katholischen Gemeindehaus St. Bernhard, Lobenbacherstr. 13, 74196 Neuenstadt
END:VEVENT
BEGIN:VEVENT
DTSTAMP:20260421T014258
DTSTART;TZID=Europe/Berlin:20260202T191500
DTEND;TZID=Europe/Berlin:20260202T201500
UID:252NS30112-20260202T191500@VHSUNTERLAND
DESCRIPTION:Ersatz für Ausfall am 20.10.2025
SUMMARY:Pilates für Fortgeschrittene (252NS30112) 
LOCATION:ns Stein, katholischen Gemeindehaus St. Bernhard, Lobenbacherstr. 13, 74196 Neuenstadt
END:VEVENT
BEGIN:VEVENT
DTSTAMP:20260421T014258
DTSTART;TZID=Europe/Berlin:20260209T191500
DTEND;TZID=Europe/Berlin:20260209T201500
UID:252NS30112-20260209T191500@VHSUNTERLAND
DESCRIPTION:Ersatz für Ausfall am 08.12.2025
SUMMARY:Pilates für Fortgeschrittene (252NS30112) 
LOCATION:ns Stein, katholischen Gemeindehaus St. Bernhard, Lobenbacherstr. 13, 74196 Neuenstadt
END:VEVENT
BEGIN:VEVENT
DTSTAMP:20260421T014258
DTSTART;TZID=Europe/Berlin:20260223T191500
DTEND;TZID=Europe/Berlin:20260223T201500
UID:252NS30112-20260223T191500@VHSUNTERLAND
DESCRIPTION:Ersatz für Ausfall am 15.12.2025
SUMMARY:Pilates für Fortgeschrittene (252NS30112) 
LOCATION:ns Stein, katholischen Gemeindehaus St. Bernhard, Lobenbacherstr. 13, 74196 Neuenstadt
END:VEVENT
END:VCALENDAR