BEGIN:VCALENDAR
VERSION:2.0
PRODID:http://www.kufer.de/kuferweb / DE
METHOD:PUBLISH
CALSCALE:GREGORIAN
X-WR-TIMEZONE:Europe/Berlin
BEGIN:VTIMEZONE
TZID:Europe/Berlin
X-LIC-LOCATION:Europe/Berlin
BEGIN:DAYLIGHT
TZOFFSETFROM:+0100
TZOFFSETTO:+0200
TZNAME:CEST
DTSTART;TZID=Europe/Berlin:19700329T020000
RRULE:FREQ=YEARLY;INTERVAL=1;BYDAY=-1SU;BYMONTH=3
END:DAYLIGHT
BEGIN:STANDARD
TZOFFSETFROM:+0200
TZOFFSETTO:+0100
TZNAME:CET
DTSTART;TZID=Europe/Berlin:19701025T030000
RRULE:FREQ=YEARLY;INTERVAL=1;BYDAY=-1SU;BYMONTH=10
END:STANDARD
END:VTIMEZONE
BEGIN:VEVENT
DTSTAMP:20260423T214723
DTSTART;TZID=Europe/Berlin:20250930T093000
DTEND;TZID=Europe/Berlin:20250930T110000
UID:252NH30140-20250930T093000@VHSUNTERLAND
SUMMARY:Kundalini Yoga (252NH30140) 
LOCATION:nh Gemeindezentrum Alter Bauhof, Raum 2, 1. Stock, Hauptstraße 24/1, 74226 Nordheim
END:VEVENT
BEGIN:VEVENT
DTSTAMP:20260423T214723
DTSTART;TZID=Europe/Berlin:20251007T093000
DTEND;TZID=Europe/Berlin:20251007T110000
UID:252NH30140-20251007T093000@VHSUNTERLAND
SUMMARY:Kundalini Yoga (252NH30140) 
LOCATION:nh Gemeindezentrum Alter Bauhof, Raum 2, 1. Stock, Hauptstraße 24/1, 74226 Nordheim
END:VEVENT
BEGIN:VEVENT
DTSTAMP:20260423T214723
DTSTART;TZID=Europe/Berlin:20251014T093000
DTEND;TZID=Europe/Berlin:20251014T110000
UID:252NH30140-20251014T093000@VHSUNTERLAND
SUMMARY:Kundalini Yoga (252NH30140) 
LOCATION:nh Gemeindezentrum Alter Bauhof, Raum 2, 1. Stock, Hauptstraße 24/1, 74226 Nordheim
END:VEVENT
BEGIN:VEVENT
DTSTAMP:20260423T214723
DTSTART;TZID=Europe/Berlin:20251021T093000
DTEND;TZID=Europe/Berlin:20251021T110000
UID:252NH30140-20251021T093000@VHSUNTERLAND
SUMMARY:Kundalini Yoga (252NH30140) 
LOCATION:nh Gemeindezentrum Alter Bauhof, Raum 2, 1. Stock, Hauptstraße 24/1, 74226 Nordheim
END:VEVENT
BEGIN:VEVENT
DTSTAMP:20260423T214723
DTSTART;TZID=Europe/Berlin:20251104T093000
DTEND;TZID=Europe/Berlin:20251104T110000
UID:252NH30140-20251104T093000@VHSUNTERLAND
SUMMARY:Kundalini Yoga (252NH30140) 
LOCATION:nh Gemeindezentrum Alter Bauhof, Raum 2, 1. Stock, Hauptstraße 24/1, 74226 Nordheim
END:VEVENT
BEGIN:VEVENT
DTSTAMP:20260423T214723
DTSTART;TZID=Europe/Berlin:20251111T093000
DTEND;TZID=Europe/Berlin:20251111T110000
UID:252NH30140-20251111T093000@VHSUNTERLAND
SUMMARY:Kundalini Yoga (252NH30140) 
LOCATION:nh Gemeindezentrum Alter Bauhof, Raum 2, 1. Stock, Hauptstraße 24/1, 74226 Nordheim
END:VEVENT
BEGIN:VEVENT
DTSTAMP:20260423T214723
DTSTART;TZID=Europe/Berlin:20251118T093000
DTEND;TZID=Europe/Berlin:20251118T110000
UID:252NH30140-20251118T093000@VHSUNTERLAND
SUMMARY:Kundalini Yoga (252NH30140) 
LOCATION:nh Gemeindezentrum Alter Bauhof, Raum 2, 1. Stock, Hauptstraße 24/1, 74226 Nordheim
END:VEVENT
BEGIN:VEVENT
DTSTAMP:20260423T214723
DTSTART;TZID=Europe/Berlin:20251125T093000
DTEND;TZID=Europe/Berlin:20251125T110000
UID:252NH30140-20251125T093000@VHSUNTERLAND
SUMMARY:Kundalini Yoga (252NH30140) 
LOCATION:nh Gemeindezentrum Alter Bauhof, Raum 2, 1. Stock, Hauptstraße 24/1, 74226 Nordheim
END:VEVENT
BEGIN:VEVENT
DTSTAMP:20260423T214723
DTSTART;TZID=Europe/Berlin:20251202T093000
DTEND;TZID=Europe/Berlin:20251202T110000
UID:252NH30140-20251202T093000@VHSUNTERLAND
SUMMARY:Kundalini Yoga (252NH30140) 
LOCATION:nh Gemeindezentrum Alter Bauhof, Raum 2, 1. Stock, Hauptstraße 24/1, 74226 Nordheim
END:VEVENT
BEGIN:VEVENT
DTSTAMP:20260423T214723
DTSTART;TZID=Europe/Berlin:20251209T093000
DTEND;TZID=Europe/Berlin:20251209T110000
UID:252NH30140-20251209T093000@VHSUNTERLAND
SUMMARY:Kundalini Yoga (252NH30140) 
LOCATION:nh Gemeindezentrum Alter Bauhof, Raum 2, 1. Stock, Hauptstraße 24/1, 74226 Nordheim
END:VEVENT
BEGIN:VEVENT
DTSTAMP:20260423T214723
DTSTART;TZID=Europe/Berlin:20251216T093000
DTEND;TZID=Europe/Berlin:20251216T110000
UID:252NH30140-20251216T093000@VHSUNTERLAND
SUMMARY:Kundalini Yoga (252NH30140) 
LOCATION:nh Gemeindezentrum Alter Bauhof, Raum 2, 1. Stock, Hauptstraße 24/1, 74226 Nordheim
END:VEVENT
BEGIN:VEVENT
DTSTAMP:20260423T214723
DTSTART;TZID=Europe/Berlin:20260113T093000
DTEND;TZID=Europe/Berlin:20260113T110000
UID:252NH30140-20260113T093000@VHSUNTERLAND
SUMMARY:Kundalini Yoga (252NH30140) 
LOCATION:nh Gemeindezentrum Alter Bauhof, Raum 2, 1. Stock, Hauptstraße 24/1, 74226 Nordheim
END:VEVENT
BEGIN:VEVENT
DTSTAMP:20260423T214723
DTSTART;TZID=Europe/Berlin:20260120T093000
DTEND;TZID=Europe/Berlin:20260120T110000
UID:252NH30140-20260120T093000@VHSUNTERLAND
SUMMARY:Kundalini Yoga (252NH30140) 
LOCATION:nh Gemeindezentrum Alter Bauhof, Raum 2, 1. Stock, Hauptstraße 24/1, 74226 Nordheim
END:VEVENT
BEGIN:VEVENT
DTSTAMP:20260423T214723
DTSTART;TZID=Europe/Berlin:20260127T093000
DTEND;TZID=Europe/Berlin:20260127T110000
UID:252NH30140-20260127T093000@VHSUNTERLAND
SUMMARY:Kundalini Yoga (252NH30140) 
LOCATION:nh Gemeindezentrum Alter Bauhof, Raum 2, 1. Stock, Hauptstraße 24/1, 74226 Nordheim
END:VEVENT
BEGIN:VEVENT
DTSTAMP:20260423T214723
DTSTART;TZID=Europe/Berlin:20260203T093000
DTEND;TZID=Europe/Berlin:20260203T110000
UID:252NH30140-20260203T093000@VHSUNTERLAND
SUMMARY:Kundalini Yoga (252NH30140) 
LOCATION:nh Gemeindezentrum Alter Bauhof, Raum 2, 1. Stock, Hauptstraße 24/1, 74226 Nordheim
END:VEVENT
END:VCALENDAR