BEGIN:VCALENDAR
VERSION:2.0
PRODID:http://www.kufer.de/kuferweb / DE
METHOD:PUBLISH
CALSCALE:GREGORIAN
X-WR-TIMEZONE:Europe/Berlin
BEGIN:VTIMEZONE
TZID:Europe/Berlin
X-LIC-LOCATION:Europe/Berlin
BEGIN:DAYLIGHT
TZOFFSETFROM:+0100
TZOFFSETTO:+0200
TZNAME:CEST
DTSTART;TZID=Europe/Berlin:19700329T020000
RRULE:FREQ=YEARLY;INTERVAL=1;BYDAY=-1SU;BYMONTH=3
END:DAYLIGHT
BEGIN:STANDARD
TZOFFSETFROM:+0200
TZOFFSETTO:+0100
TZNAME:CET
DTSTART;TZID=Europe/Berlin:19701025T030000
RRULE:FREQ=YEARLY;INTERVAL=1;BYDAY=-1SU;BYMONTH=10
END:STANDARD
END:VTIMEZONE
BEGIN:VEVENT
DTSTAMP:20260425T124338
DTSTART;TZID=Europe/Berlin:20250926T084500
DTEND;TZID=Europe/Berlin:20250926T094500
UID:252NH30112-20250926T084500@VHSUNTERLAND
SUMMARY:Pilates (252NH30112) 
LOCATION:nh Festhalle, Lauffener Straße 32, 74226 Nordheim
END:VEVENT
BEGIN:VEVENT
DTSTAMP:20260425T124338
DTSTART;TZID=Europe/Berlin:20251010T084500
DTEND;TZID=Europe/Berlin:20251010T094500
UID:252NH30112-20251010T084500@VHSUNTERLAND
SUMMARY:Pilates (252NH30112) 
LOCATION:nh Festhalle, Lauffener Straße 32, 74226 Nordheim
END:VEVENT
BEGIN:VEVENT
DTSTAMP:20260425T124338
DTSTART;TZID=Europe/Berlin:20251017T084500
DTEND;TZID=Europe/Berlin:20251017T094500
UID:252NH30112-20251017T084500@VHSUNTERLAND
SUMMARY:Pilates (252NH30112) 
LOCATION:nh Festhalle, Lauffener Straße 32, 74226 Nordheim
END:VEVENT
BEGIN:VEVENT
DTSTAMP:20260425T124338
DTSTART;TZID=Europe/Berlin:20251024T084500
DTEND;TZID=Europe/Berlin:20251024T094500
UID:252NH30112-20251024T084500@VHSUNTERLAND
SUMMARY:Pilates (252NH30112) 
LOCATION:nh Festhalle, Lauffener Straße 32, 74226 Nordheim
END:VEVENT
BEGIN:VEVENT
DTSTAMP:20260425T124338
DTSTART;TZID=Europe/Berlin:20251107T084500
DTEND;TZID=Europe/Berlin:20251107T094500
UID:252NH30112-20251107T084500@VHSUNTERLAND
SUMMARY:Pilates (252NH30112) 
LOCATION:nh Festhalle, Lauffener Straße 32, 74226 Nordheim
END:VEVENT
BEGIN:VEVENT
DTSTAMP:20260425T124338
DTSTART;TZID=Europe/Berlin:20251114T084500
DTEND;TZID=Europe/Berlin:20251114T094500
UID:252NH30112-20251114T084500@VHSUNTERLAND
SUMMARY:Pilates (252NH30112) 
LOCATION:nh Festhalle, Lauffener Straße 32, 74226 Nordheim
END:VEVENT
BEGIN:VEVENT
DTSTAMP:20260425T124338
DTSTART;TZID=Europe/Berlin:20251121T084500
DTEND;TZID=Europe/Berlin:20251121T094500
UID:252NH30112-20251121T084500@VHSUNTERLAND
SUMMARY:Pilates (252NH30112) 
LOCATION:nh Festhalle, Lauffener Straße 32, 74226 Nordheim
END:VEVENT
BEGIN:VEVENT
DTSTAMP:20260425T124338
DTSTART;TZID=Europe/Berlin:20251128T084500
DTEND;TZID=Europe/Berlin:20251128T094500
UID:252NH30112-20251128T084500@VHSUNTERLAND
SUMMARY:Pilates (252NH30112) 
LOCATION:nh Festhalle, Lauffener Straße 32, 74226 Nordheim
END:VEVENT
BEGIN:VEVENT
DTSTAMP:20260425T124338
DTSTART;TZID=Europe/Berlin:20251205T084500
DTEND;TZID=Europe/Berlin:20251205T094500
UID:252NH30112-20251205T084500@VHSUNTERLAND
SUMMARY:Pilates (252NH30112) 
LOCATION:nh Festhalle, Lauffener Straße 32, 74226 Nordheim
END:VEVENT
BEGIN:VEVENT
DTSTAMP:20260425T124338
DTSTART;TZID=Europe/Berlin:20251212T084500
DTEND;TZID=Europe/Berlin:20251212T094500
UID:252NH30112-20251212T084500@VHSUNTERLAND
SUMMARY:Pilates (252NH30112) 
LOCATION:nh Festhalle, Lauffener Straße 32, 74226 Nordheim
END:VEVENT
BEGIN:VEVENT
DTSTAMP:20260425T124338
DTSTART;TZID=Europe/Berlin:20251219T084500
DTEND;TZID=Europe/Berlin:20251219T094500
UID:252NH30112-20251219T084500@VHSUNTERLAND
SUMMARY:Pilates (252NH30112) 
LOCATION:nh Festhalle, Lauffener Straße 32, 74226 Nordheim
END:VEVENT
BEGIN:VEVENT
DTSTAMP:20260425T124338
DTSTART;TZID=Europe/Berlin:20260109T084500
DTEND;TZID=Europe/Berlin:20260109T094500
UID:252NH30112-20260109T084500@VHSUNTERLAND
SUMMARY:Pilates (252NH30112) 
LOCATION:nh Festhalle, Lauffener Straße 32, 74226 Nordheim
END:VEVENT
BEGIN:VEVENT
DTSTAMP:20260425T124338
DTSTART;TZID=Europe/Berlin:20260116T084500
DTEND;TZID=Europe/Berlin:20260116T094500
UID:252NH30112-20260116T084500@VHSUNTERLAND
SUMMARY:Pilates (252NH30112) 
LOCATION:nh Festhalle, Lauffener Straße 32, 74226 Nordheim
END:VEVENT
BEGIN:VEVENT
DTSTAMP:20260425T124338
DTSTART;TZID=Europe/Berlin:20260123T084500
DTEND;TZID=Europe/Berlin:20260123T094500
UID:252NH30112-20260123T084500@VHSUNTERLAND
SUMMARY:Pilates (252NH30112) 
LOCATION:nh Festhalle, Lauffener Straße 32, 74226 Nordheim
END:VEVENT
BEGIN:VEVENT
DTSTAMP:20260425T124338
DTSTART;TZID=Europe/Berlin:20260130T084500
DTEND;TZID=Europe/Berlin:20260130T094500
UID:252NH30112-20260130T084500@VHSUNTERLAND
SUMMARY:Pilates (252NH30112) 
LOCATION:nh Festhalle, Lauffener Straße 32, 74226 Nordheim
END:VEVENT
END:VCALENDAR