BEGIN:VCALENDAR
VERSION:2.0
PRODID:http://www.kufer.de/kuferweb / DE
METHOD:PUBLISH
CALSCALE:GREGORIAN
X-WR-TIMEZONE:Europe/Berlin
BEGIN:VTIMEZONE
TZID:Europe/Berlin
X-LIC-LOCATION:Europe/Berlin
BEGIN:DAYLIGHT
TZOFFSETFROM:+0100
TZOFFSETTO:+0200
TZNAME:CEST
DTSTART;TZID=Europe/Berlin:19700329T020000
RRULE:FREQ=YEARLY;INTERVAL=1;BYDAY=-1SU;BYMONTH=3
END:DAYLIGHT
BEGIN:STANDARD
TZOFFSETFROM:+0200
TZOFFSETTO:+0100
TZNAME:CET
DTSTART;TZID=Europe/Berlin:19701025T030000
RRULE:FREQ=YEARLY;INTERVAL=1;BYDAY=-1SU;BYMONTH=10
END:STANDARD
END:VTIMEZONE
BEGIN:VEVENT
DTSTAMP:20260420T220309
DTSTART;TZID=Europe/Berlin:20250918T160000
DTEND;TZID=Europe/Berlin:20250918T164500
UID:252NH21385-20250918T160000@VHSUNTERLAND
SUMMARY:Musikerlebnis  für Kleinkinder im Alter von 16 Monaten bis 3,5 Jahren mit Begleitung (252NH21385) 
LOCATION:nh Kindergarten Pusteblume, Vereinsraum, Südstraße 60, 74226 Nordheim
END:VEVENT
BEGIN:VEVENT
DTSTAMP:20260420T220309
DTSTART;TZID=Europe/Berlin:20250925T160000
DTEND;TZID=Europe/Berlin:20250925T164500
UID:252NH21385-20250925T160000@VHSUNTERLAND
SUMMARY:Musikerlebnis  für Kleinkinder im Alter von 16 Monaten bis 3,5 Jahren mit Begleitung (252NH21385) 
LOCATION:nh Kindergarten Pusteblume, Vereinsraum, Südstraße 60, 74226 Nordheim
END:VEVENT
BEGIN:VEVENT
DTSTAMP:20260420T220309
DTSTART;TZID=Europe/Berlin:20251002T160000
DTEND;TZID=Europe/Berlin:20251002T164500
UID:252NH21385-20251002T160000@VHSUNTERLAND
SUMMARY:Musikerlebnis  für Kleinkinder im Alter von 16 Monaten bis 3,5 Jahren mit Begleitung (252NH21385) 
LOCATION:nh Kindergarten Pusteblume, Vereinsraum, Südstraße 60, 74226 Nordheim
END:VEVENT
BEGIN:VEVENT
DTSTAMP:20260420T220309
DTSTART;TZID=Europe/Berlin:20251009T160000
DTEND;TZID=Europe/Berlin:20251009T164500
UID:252NH21385-20251009T160000@VHSUNTERLAND
SUMMARY:Musikerlebnis  für Kleinkinder im Alter von 16 Monaten bis 3,5 Jahren mit Begleitung (252NH21385) 
LOCATION:nh Kindergarten Pusteblume, Vereinsraum, Südstraße 60, 74226 Nordheim
END:VEVENT
BEGIN:VEVENT
DTSTAMP:20260420T220309
DTSTART;TZID=Europe/Berlin:20251016T160000
DTEND;TZID=Europe/Berlin:20251016T164500
UID:252NH21385-20251016T160000@VHSUNTERLAND
SUMMARY:Musikerlebnis  für Kleinkinder im Alter von 16 Monaten bis 3,5 Jahren mit Begleitung (252NH21385) 
LOCATION:nh Kindergarten Pusteblume, Vereinsraum, Südstraße 60, 74226 Nordheim
END:VEVENT
END:VCALENDAR