BEGIN:VCALENDAR
VERSION:2.0
PRODID:http://www.kufer.de/kuferweb / DE
METHOD:PUBLISH
CALSCALE:GREGORIAN
X-WR-TIMEZONE:Europe/Berlin
BEGIN:VTIMEZONE
TZID:Europe/Berlin
X-LIC-LOCATION:Europe/Berlin
BEGIN:DAYLIGHT
TZOFFSETFROM:+0100
TZOFFSETTO:+0200
TZNAME:CEST
DTSTART;TZID=Europe/Berlin:19700329T020000
RRULE:FREQ=YEARLY;INTERVAL=1;BYDAY=-1SU;BYMONTH=3
END:DAYLIGHT
BEGIN:STANDARD
TZOFFSETFROM:+0200
TZOFFSETTO:+0100
TZNAME:CET
DTSTART;TZID=Europe/Berlin:19701025T030000
RRULE:FREQ=YEARLY;INTERVAL=1;BYDAY=-1SU;BYMONTH=10
END:STANDARD
END:VTIMEZONE
BEGIN:VEVENT
DTSTAMP:20260420T145059
DTSTART;TZID=Europe/Berlin:20250925T193000
DTEND;TZID=Europe/Berlin:20250925T210000
UID:252NH20526-20250925T193000@VHSUNTERLAND
SUMMARY:Orientalischer Bauchtanz „den Alltag abschütteln“  für Anfängerinnen und Wiedereinsteigerinnen (252NH20526) 
LOCATION:nh Kindergarten Pusteblume, Vereinsraum, Südstraße 60, 74226 Nordheim
END:VEVENT
BEGIN:VEVENT
DTSTAMP:20260420T145059
DTSTART;TZID=Europe/Berlin:20251002T193000
DTEND;TZID=Europe/Berlin:20251002T210000
UID:252NH20526-20251002T193000@VHSUNTERLAND
SUMMARY:Orientalischer Bauchtanz „den Alltag abschütteln“  für Anfängerinnen und Wiedereinsteigerinnen (252NH20526) 
LOCATION:nh Kindergarten Pusteblume, Vereinsraum, Südstraße 60, 74226 Nordheim
END:VEVENT
BEGIN:VEVENT
DTSTAMP:20260420T145059
DTSTART;TZID=Europe/Berlin:20251009T193000
DTEND;TZID=Europe/Berlin:20251009T210000
UID:252NH20526-20251009T193000@VHSUNTERLAND
SUMMARY:Orientalischer Bauchtanz „den Alltag abschütteln“  für Anfängerinnen und Wiedereinsteigerinnen (252NH20526) 
LOCATION:nh Kindergarten Pusteblume, Vereinsraum, Südstraße 60, 74226 Nordheim
END:VEVENT
BEGIN:VEVENT
DTSTAMP:20260420T145059
DTSTART;TZID=Europe/Berlin:20251016T193000
DTEND;TZID=Europe/Berlin:20251016T210000
UID:252NH20526-20251016T193000@VHSUNTERLAND
SUMMARY:Orientalischer Bauchtanz „den Alltag abschütteln“  für Anfängerinnen und Wiedereinsteigerinnen (252NH20526) 
LOCATION:nh Kindergarten Pusteblume, Vereinsraum, Südstraße 60, 74226 Nordheim
END:VEVENT
BEGIN:VEVENT
DTSTAMP:20260420T145059
DTSTART;TZID=Europe/Berlin:20251023T193000
DTEND;TZID=Europe/Berlin:20251023T210000
UID:252NH20526-20251023T193000@VHSUNTERLAND
SUMMARY:Orientalischer Bauchtanz „den Alltag abschütteln“  für Anfängerinnen und Wiedereinsteigerinnen (252NH20526) 
LOCATION:nh Kindergarten Pusteblume, Vereinsraum, Südstraße 60, 74226 Nordheim
END:VEVENT
END:VCALENDAR