BEGIN:VCALENDAR
VERSION:2.0
PRODID:http://www.kufer.de/kuferweb / DE
METHOD:PUBLISH
CALSCALE:GREGORIAN
X-WR-TIMEZONE:Europe/Berlin
BEGIN:VTIMEZONE
TZID:Europe/Berlin
X-LIC-LOCATION:Europe/Berlin
BEGIN:DAYLIGHT
TZOFFSETFROM:+0100
TZOFFSETTO:+0200
TZNAME:CEST
DTSTART;TZID=Europe/Berlin:19700329T020000
RRULE:FREQ=YEARLY;INTERVAL=1;BYDAY=-1SU;BYMONTH=3
END:DAYLIGHT
BEGIN:STANDARD
TZOFFSETFROM:+0200
TZOFFSETTO:+0100
TZNAME:CET
DTSTART;TZID=Europe/Berlin:19701025T030000
RRULE:FREQ=YEARLY;INTERVAL=1;BYDAY=-1SU;BYMONTH=10
END:STANDARD
END:VTIMEZONE
BEGIN:VEVENT
DTSTAMP:20260420T162046
DTSTART;TZID=Europe/Berlin:20250927T100000
DTEND;TZID=Europe/Berlin:20250927T120000
UID:252ND20830-20250927T100000@VHSUNTERLAND
SUMMARY:Halloweengespenst aus Ton Töpfern für Kinder ab 6 Jahren (252ND20830) 
LOCATION:nd Kurmainz-Schule, Werkraum, Schulstraße 9, 74861 Neudenau
END:VEVENT
BEGIN:VEVENT
DTSTAMP:20260420T162046
DTSTART;TZID=Europe/Berlin:20251018T100000
DTEND;TZID=Europe/Berlin:20251018T113000
UID:252ND20830-20251018T100000@VHSUNTERLAND
SUMMARY:Halloweengespenst aus Ton Töpfern für Kinder ab 6 Jahren (252ND20830) 
LOCATION:nd Kurmainz-Schule, Werkraum, Schulstraße 9, 74861 Neudenau
END:VEVENT
END:VCALENDAR