BEGIN:VCALENDAR
VERSION:2.0
PRODID:http://www.kufer.de/kuferweb / DE
METHOD:PUBLISH
CALSCALE:GREGORIAN
X-WR-TIMEZONE:Europe/Berlin
BEGIN:VTIMEZONE
TZID:Europe/Berlin
X-LIC-LOCATION:Europe/Berlin
BEGIN:DAYLIGHT
TZOFFSETFROM:+0100
TZOFFSETTO:+0200
TZNAME:CEST
DTSTART;TZID=Europe/Berlin:19700329T020000
RRULE:FREQ=YEARLY;INTERVAL=1;BYDAY=-1SU;BYMONTH=3
END:DAYLIGHT
BEGIN:STANDARD
TZOFFSETFROM:+0200
TZOFFSETTO:+0100
TZNAME:CET
DTSTART;TZID=Europe/Berlin:19701025T030000
RRULE:FREQ=YEARLY;INTERVAL=1;BYDAY=-1SU;BYMONTH=10
END:STANDARD
END:VTIMEZONE
BEGIN:VEVENT
DTSTAMP:20260422T214433
DTSTART;TZID=Europe/Berlin:20251007T201000
DTEND;TZID=Europe/Berlin:20251007T211000
UID:252MA30110-20251007T201000@VHSUNTERLAND
SUMMARY:Rückenfit durch Pilates (252MA30110) 
LOCATION:ma Altes Rathaus, OG, Rathausstraße 7, 74252 Massenbachhausen
END:VEVENT
BEGIN:VEVENT
DTSTAMP:20260422T214433
DTSTART;TZID=Europe/Berlin:20251014T201000
DTEND;TZID=Europe/Berlin:20251014T211000
UID:252MA30110-20251014T201000@VHSUNTERLAND
SUMMARY:Rückenfit durch Pilates (252MA30110) 
LOCATION:ma Altes Rathaus, OG, Rathausstraße 7, 74252 Massenbachhausen
END:VEVENT
BEGIN:VEVENT
DTSTAMP:20260422T214433
DTSTART;TZID=Europe/Berlin:20251021T201000
DTEND;TZID=Europe/Berlin:20251021T211000
UID:252MA30110-20251021T201000@VHSUNTERLAND
SUMMARY:Rückenfit durch Pilates (252MA30110) 
LOCATION:ma Altes Rathaus, OG, Rathausstraße 7, 74252 Massenbachhausen
END:VEVENT
BEGIN:VEVENT
DTSTAMP:20260422T214433
DTSTART;TZID=Europe/Berlin:20251028T201000
DTEND;TZID=Europe/Berlin:20251028T211000
UID:252MA30110-20251028T201000@VHSUNTERLAND
DESCRIPTION:Ersatz für Ausfall am 11.11.2025
SUMMARY:Rückenfit durch Pilates (252MA30110) 
LOCATION:ma Altes Rathaus, OG, Rathausstraße 7, 74252 Massenbachhausen
END:VEVENT
BEGIN:VEVENT
DTSTAMP:20260422T214433
DTSTART;TZID=Europe/Berlin:20251104T201000
DTEND;TZID=Europe/Berlin:20251104T211000
UID:252MA30110-20251104T201000@VHSUNTERLAND
SUMMARY:Rückenfit durch Pilates (252MA30110) 
LOCATION:ma Altes Rathaus, OG, Rathausstraße 7, 74252 Massenbachhausen
END:VEVENT
BEGIN:VEVENT
DTSTAMP:20260422T214433
DTSTART;TZID=Europe/Berlin:20251118T201000
DTEND;TZID=Europe/Berlin:20251118T211000
UID:252MA30110-20251118T201000@VHSUNTERLAND
SUMMARY:Rückenfit durch Pilates (252MA30110) 
LOCATION:ma Altes Rathaus, OG, Rathausstraße 7, 74252 Massenbachhausen
END:VEVENT
BEGIN:VEVENT
DTSTAMP:20260422T214433
DTSTART;TZID=Europe/Berlin:20251125T201000
DTEND;TZID=Europe/Berlin:20251125T211000
UID:252MA30110-20251125T201000@VHSUNTERLAND
SUMMARY:Rückenfit durch Pilates (252MA30110) 
LOCATION:ma Altes Rathaus, OG, Rathausstraße 7, 74252 Massenbachhausen
END:VEVENT
BEGIN:VEVENT
DTSTAMP:20260422T214433
DTSTART;TZID=Europe/Berlin:20251202T201000
DTEND;TZID=Europe/Berlin:20251202T211000
UID:252MA30110-20251202T201000@VHSUNTERLAND
SUMMARY:Rückenfit durch Pilates (252MA30110) 
LOCATION:ma Altes Rathaus, OG, Rathausstraße 7, 74252 Massenbachhausen
END:VEVENT
BEGIN:VEVENT
DTSTAMP:20260422T214433
DTSTART;TZID=Europe/Berlin:20251209T201000
DTEND;TZID=Europe/Berlin:20251209T211000
UID:252MA30110-20251209T201000@VHSUNTERLAND
SUMMARY:Rückenfit durch Pilates (252MA30110) 
LOCATION:ma Altes Rathaus, OG, Rathausstraße 7, 74252 Massenbachhausen
END:VEVENT
BEGIN:VEVENT
DTSTAMP:20260422T214433
DTSTART;TZID=Europe/Berlin:20251216T201000
DTEND;TZID=Europe/Berlin:20251216T211000
UID:252MA30110-20251216T201000@VHSUNTERLAND
SUMMARY:Rückenfit durch Pilates (252MA30110) 
LOCATION:ma Altes Rathaus, OG, Rathausstraße 7, 74252 Massenbachhausen
END:VEVENT
END:VCALENDAR