BEGIN:VCALENDAR
VERSION:2.0
PRODID:http://www.kufer.de/kuferweb / DE
METHOD:PUBLISH
CALSCALE:GREGORIAN
X-WR-TIMEZONE:Europe/Berlin
BEGIN:VTIMEZONE
TZID:Europe/Berlin
X-LIC-LOCATION:Europe/Berlin
BEGIN:DAYLIGHT
TZOFFSETFROM:+0100
TZOFFSETTO:+0200
TZNAME:CEST
DTSTART;TZID=Europe/Berlin:19700329T020000
RRULE:FREQ=YEARLY;INTERVAL=1;BYDAY=-1SU;BYMONTH=3
END:DAYLIGHT
BEGIN:STANDARD
TZOFFSETFROM:+0200
TZOFFSETTO:+0100
TZNAME:CET
DTSTART;TZID=Europe/Berlin:19701025T030000
RRULE:FREQ=YEARLY;INTERVAL=1;BYDAY=-1SU;BYMONTH=10
END:STANDARD
END:VTIMEZONE
BEGIN:VEVENT
DTSTAMP:20260422T092717
DTSTART;TZID=Europe/Berlin:20251014T100000
DTEND;TZID=Europe/Berlin:20251014T110000
UID:252LS30222-20251014T100000@VHSUNTERLAND
SUMMARY:Wirbelsäulengymnastik (252LS30222) 
LOCATION:ls Alte Schule Hößlinsülz, EG, Lindenstraße 53, 74245 Löwenstein
END:VEVENT
BEGIN:VEVENT
DTSTAMP:20260422T092717
DTSTART;TZID=Europe/Berlin:20251021T100000
DTEND;TZID=Europe/Berlin:20251021T110000
UID:252LS30222-20251021T100000@VHSUNTERLAND
SUMMARY:Wirbelsäulengymnastik (252LS30222) 
LOCATION:ls Alte Schule Hößlinsülz, EG, Lindenstraße 53, 74245 Löwenstein
END:VEVENT
BEGIN:VEVENT
DTSTAMP:20260422T092717
DTSTART;TZID=Europe/Berlin:20251028T100000
DTEND;TZID=Europe/Berlin:20251028T110000
UID:252LS30222-20251028T100000@VHSUNTERLAND
SUMMARY:Wirbelsäulengymnastik (252LS30222) 
LOCATION:ls Alte Schule Hößlinsülz, EG, Lindenstraße 53, 74245 Löwenstein
END:VEVENT
BEGIN:VEVENT
DTSTAMP:20260422T092717
DTSTART;TZID=Europe/Berlin:20251104T100000
DTEND;TZID=Europe/Berlin:20251104T110000
UID:252LS30222-20251104T100000@VHSUNTERLAND
SUMMARY:Wirbelsäulengymnastik (252LS30222) 
LOCATION:ls Alte Schule Hößlinsülz, EG, Lindenstraße 53, 74245 Löwenstein
END:VEVENT
BEGIN:VEVENT
DTSTAMP:20260422T092717
DTSTART;TZID=Europe/Berlin:20251111T100000
DTEND;TZID=Europe/Berlin:20251111T110000
UID:252LS30222-20251111T100000@VHSUNTERLAND
SUMMARY:Wirbelsäulengymnastik (252LS30222) 
LOCATION:ls Alte Schule Hößlinsülz, EG, Lindenstraße 53, 74245 Löwenstein
END:VEVENT
BEGIN:VEVENT
DTSTAMP:20260422T092717
DTSTART;TZID=Europe/Berlin:20251118T100000
DTEND;TZID=Europe/Berlin:20251118T110000
UID:252LS30222-20251118T100000@VHSUNTERLAND
SUMMARY:Wirbelsäulengymnastik (252LS30222) 
LOCATION:ls Alte Schule Hößlinsülz, EG, Lindenstraße 53, 74245 Löwenstein
END:VEVENT
BEGIN:VEVENT
DTSTAMP:20260422T092717
DTSTART;TZID=Europe/Berlin:20251125T100000
DTEND;TZID=Europe/Berlin:20251125T110000
UID:252LS30222-20251125T100000@VHSUNTERLAND
SUMMARY:Wirbelsäulengymnastik (252LS30222) 
LOCATION:ls Alte Schule Hößlinsülz, EG, Lindenstraße 53, 74245 Löwenstein
END:VEVENT
BEGIN:VEVENT
DTSTAMP:20260422T092717
DTSTART;TZID=Europe/Berlin:20251202T100000
DTEND;TZID=Europe/Berlin:20251202T110000
UID:252LS30222-20251202T100000@VHSUNTERLAND
SUMMARY:Wirbelsäulengymnastik (252LS30222) 
LOCATION:ls Alte Schule Hößlinsülz, EG, Lindenstraße 53, 74245 Löwenstein
END:VEVENT
BEGIN:VEVENT
DTSTAMP:20260422T092717
DTSTART;TZID=Europe/Berlin:20251209T100000
DTEND;TZID=Europe/Berlin:20251209T110000
UID:252LS30222-20251209T100000@VHSUNTERLAND
SUMMARY:Wirbelsäulengymnastik (252LS30222) 
LOCATION:ls Alte Schule Hößlinsülz, EG, Lindenstraße 53, 74245 Löwenstein
END:VEVENT
BEGIN:VEVENT
DTSTAMP:20260422T092717
DTSTART;TZID=Europe/Berlin:20251216T100000
DTEND;TZID=Europe/Berlin:20251216T110000
UID:252LS30222-20251216T100000@VHSUNTERLAND
SUMMARY:Wirbelsäulengymnastik (252LS30222) 
LOCATION:ls Alte Schule Hößlinsülz, EG, Lindenstraße 53, 74245 Löwenstein
END:VEVENT
BEGIN:VEVENT
DTSTAMP:20260422T092717
DTSTART;TZID=Europe/Berlin:20260113T100000
DTEND;TZID=Europe/Berlin:20260113T110000
UID:252LS30222-20260113T100000@VHSUNTERLAND
SUMMARY:Wirbelsäulengymnastik (252LS30222) 
LOCATION:ls Alte Schule Hößlinsülz, EG, Lindenstraße 53, 74245 Löwenstein
END:VEVENT
BEGIN:VEVENT
DTSTAMP:20260422T092717
DTSTART;TZID=Europe/Berlin:20260120T100000
DTEND;TZID=Europe/Berlin:20260120T110000
UID:252LS30222-20260120T100000@VHSUNTERLAND
SUMMARY:Wirbelsäulengymnastik (252LS30222) 
LOCATION:ls Alte Schule Hößlinsülz, EG, Lindenstraße 53, 74245 Löwenstein
END:VEVENT
BEGIN:VEVENT
DTSTAMP:20260422T092717
DTSTART;TZID=Europe/Berlin:20260127T100000
DTEND;TZID=Europe/Berlin:20260127T110000
UID:252LS30222-20260127T100000@VHSUNTERLAND
SUMMARY:Wirbelsäulengymnastik (252LS30222) 
LOCATION:ls Alte Schule Hößlinsülz, EG, Lindenstraße 53, 74245 Löwenstein
END:VEVENT
BEGIN:VEVENT
DTSTAMP:20260422T092717
DTSTART;TZID=Europe/Berlin:20260203T100000
DTEND;TZID=Europe/Berlin:20260203T110000
UID:252LS30222-20260203T100000@VHSUNTERLAND
SUMMARY:Wirbelsäulengymnastik (252LS30222) 
LOCATION:ls Alte Schule Hößlinsülz, EG, Lindenstraße 53, 74245 Löwenstein
END:VEVENT
END:VCALENDAR