BEGIN:VCALENDAR
VERSION:2.0
PRODID:http://www.kufer.de/kuferweb / DE
METHOD:PUBLISH
CALSCALE:GREGORIAN
X-WR-TIMEZONE:Europe/Berlin
BEGIN:VTIMEZONE
TZID:Europe/Berlin
X-LIC-LOCATION:Europe/Berlin
BEGIN:DAYLIGHT
TZOFFSETFROM:+0100
TZOFFSETTO:+0200
TZNAME:CEST
DTSTART;TZID=Europe/Berlin:19700329T020000
RRULE:FREQ=YEARLY;INTERVAL=1;BYDAY=-1SU;BYMONTH=3
END:DAYLIGHT
BEGIN:STANDARD
TZOFFSETFROM:+0200
TZOFFSETTO:+0100
TZNAME:CET
DTSTART;TZID=Europe/Berlin:19701025T030000
RRULE:FREQ=YEARLY;INTERVAL=1;BYDAY=-1SU;BYMONTH=10
END:STANDARD
END:VTIMEZONE
BEGIN:VEVENT
DTSTAMP:20260420T161826
DTSTART;TZID=Europe/Berlin:20250925T190000
DTEND;TZID=Europe/Berlin:20250925T200000
UID:252LB30110-20250925T190000@VHSUNTERLAND
SUMMARY:Pilates und Rückenfit für Männer und Frauen (252LB30110) 
LOCATION:lb Grundschule Langenbeutingen, Bewegungshalle, Schulstraße 54, 74243 Langenbrettach
END:VEVENT
BEGIN:VEVENT
DTSTAMP:20260420T161826
DTSTART;TZID=Europe/Berlin:20251002T190000
DTEND;TZID=Europe/Berlin:20251002T200000
UID:252LB30110-20251002T190000@VHSUNTERLAND
SUMMARY:Pilates und Rückenfit für Männer und Frauen (252LB30110) 
LOCATION:lb Grundschule Langenbeutingen, Bewegungshalle, Schulstraße 54, 74243 Langenbrettach
END:VEVENT
BEGIN:VEVENT
DTSTAMP:20260420T161826
DTSTART;TZID=Europe/Berlin:20251009T190000
DTEND;TZID=Europe/Berlin:20251009T200000
UID:252LB30110-20251009T190000@VHSUNTERLAND
SUMMARY:Pilates und Rückenfit für Männer und Frauen (252LB30110) 
LOCATION:lb Grundschule Langenbeutingen, Bewegungshalle, Schulstraße 54, 74243 Langenbrettach
END:VEVENT
BEGIN:VEVENT
DTSTAMP:20260420T161826
DTSTART;TZID=Europe/Berlin:20251016T190000
DTEND;TZID=Europe/Berlin:20251016T200000
UID:252LB30110-20251016T190000@VHSUNTERLAND
SUMMARY:Pilates und Rückenfit für Männer und Frauen (252LB30110) 
LOCATION:lb Grundschule Langenbeutingen, Bewegungshalle, Schulstraße 54, 74243 Langenbrettach
END:VEVENT
BEGIN:VEVENT
DTSTAMP:20260420T161826
DTSTART;TZID=Europe/Berlin:20251023T190000
DTEND;TZID=Europe/Berlin:20251023T200000
UID:252LB30110-20251023T190000@VHSUNTERLAND
SUMMARY:Pilates und Rückenfit für Männer und Frauen (252LB30110) 
LOCATION:lb Grundschule Langenbeutingen, Bewegungshalle, Schulstraße 54, 74243 Langenbrettach
END:VEVENT
BEGIN:VEVENT
DTSTAMP:20260420T161826
DTSTART;TZID=Europe/Berlin:20251106T190000
DTEND;TZID=Europe/Berlin:20251106T200000
UID:252LB30110-20251106T190000@VHSUNTERLAND
SUMMARY:Pilates und Rückenfit für Männer und Frauen (252LB30110) 
LOCATION:lb Grundschule Langenbeutingen, Bewegungshalle, Schulstraße 54, 74243 Langenbrettach
END:VEVENT
BEGIN:VEVENT
DTSTAMP:20260420T161826
DTSTART;TZID=Europe/Berlin:20251113T190000
DTEND;TZID=Europe/Berlin:20251113T200000
UID:252LB30110-20251113T190000@VHSUNTERLAND
SUMMARY:Pilates und Rückenfit für Männer und Frauen (252LB30110) 
LOCATION:lb Grundschule Langenbeutingen, Bewegungshalle, Schulstraße 54, 74243 Langenbrettach
END:VEVENT
BEGIN:VEVENT
DTSTAMP:20260420T161826
DTSTART;TZID=Europe/Berlin:20251120T190000
DTEND;TZID=Europe/Berlin:20251120T200000
UID:252LB30110-20251120T190000@VHSUNTERLAND
SUMMARY:Pilates und Rückenfit für Männer und Frauen (252LB30110) 
LOCATION:lb Grundschule Langenbeutingen, Bewegungshalle, Schulstraße 54, 74243 Langenbrettach
END:VEVENT
BEGIN:VEVENT
DTSTAMP:20260420T161826
DTSTART;TZID=Europe/Berlin:20251127T190000
DTEND;TZID=Europe/Berlin:20251127T200000
UID:252LB30110-20251127T190000@VHSUNTERLAND
SUMMARY:Pilates und Rückenfit für Männer und Frauen (252LB30110) 
LOCATION:lb Grundschule Langenbeutingen, Bewegungshalle, Schulstraße 54, 74243 Langenbrettach
END:VEVENT
BEGIN:VEVENT
DTSTAMP:20260420T161826
DTSTART;TZID=Europe/Berlin:20251204T190000
DTEND;TZID=Europe/Berlin:20251204T200000
UID:252LB30110-20251204T190000@VHSUNTERLAND
SUMMARY:Pilates und Rückenfit für Männer und Frauen (252LB30110) 
LOCATION:lb Grundschule Langenbeutingen, Bewegungshalle, Schulstraße 54, 74243 Langenbrettach
END:VEVENT
BEGIN:VEVENT
DTSTAMP:20260420T161826
DTSTART;TZID=Europe/Berlin:20251211T190000
DTEND;TZID=Europe/Berlin:20251211T200000
UID:252LB30110-20251211T190000@VHSUNTERLAND
SUMMARY:Pilates und Rückenfit für Männer und Frauen (252LB30110) 
LOCATION:lb Grundschule Langenbeutingen, Bewegungshalle, Schulstraße 54, 74243 Langenbrettach
END:VEVENT
BEGIN:VEVENT
DTSTAMP:20260420T161826
DTSTART;TZID=Europe/Berlin:20251218T190000
DTEND;TZID=Europe/Berlin:20251218T200000
UID:252LB30110-20251218T190000@VHSUNTERLAND
SUMMARY:Pilates und Rückenfit für Männer und Frauen (252LB30110) 
LOCATION:lb Grundschule Langenbeutingen, Bewegungshalle, Schulstraße 54, 74243 Langenbrettach
END:VEVENT
BEGIN:VEVENT
DTSTAMP:20260420T161826
DTSTART;TZID=Europe/Berlin:20260108T190000
DTEND;TZID=Europe/Berlin:20260108T200000
UID:252LB30110-20260108T190000@VHSUNTERLAND
SUMMARY:Pilates und Rückenfit für Männer und Frauen (252LB30110) 
LOCATION:lb Grundschule Langenbeutingen, Bewegungshalle, Schulstraße 54, 74243 Langenbrettach
END:VEVENT
BEGIN:VEVENT
DTSTAMP:20260420T161826
DTSTART;TZID=Europe/Berlin:20260115T190000
DTEND;TZID=Europe/Berlin:20260115T200000
UID:252LB30110-20260115T190000@VHSUNTERLAND
SUMMARY:Pilates und Rückenfit für Männer und Frauen (252LB30110) 
LOCATION:lb Grundschule Langenbeutingen, Bewegungshalle, Schulstraße 54, 74243 Langenbrettach
END:VEVENT
END:VCALENDAR