BEGIN:VCALENDAR
VERSION:2.0
PRODID:http://www.kufer.de/kuferweb / DE
METHOD:PUBLISH
CALSCALE:GREGORIAN
X-WR-TIMEZONE:Europe/Berlin
BEGIN:VTIMEZONE
TZID:Europe/Berlin
X-LIC-LOCATION:Europe/Berlin
BEGIN:DAYLIGHT
TZOFFSETFROM:+0100
TZOFFSETTO:+0200
TZNAME:CEST
DTSTART;TZID=Europe/Berlin:19700329T020000
RRULE:FREQ=YEARLY;INTERVAL=1;BYDAY=-1SU;BYMONTH=3
END:DAYLIGHT
BEGIN:STANDARD
TZOFFSETFROM:+0200
TZOFFSETTO:+0100
TZNAME:CET
DTSTART;TZID=Europe/Berlin:19701025T030000
RRULE:FREQ=YEARLY;INTERVAL=1;BYDAY=-1SU;BYMONTH=10
END:STANDARD
END:VTIMEZONE
BEGIN:VEVENT
DTSTAMP:20260422T202831
DTSTART;TZID=Europe/Berlin:20250930T183000
DTEND;TZID=Europe/Berlin:20250930T194500
UID:252LA30131-20250930T183000@VHSUNTERLAND
SUMMARY:Hatha Yoga (252LA30131) 
LOCATION:la Herzog-Ulrich-GS, Gymnastikraum, Ludwigstraße 1, 74348 Lauffen a. N.
END:VEVENT
BEGIN:VEVENT
DTSTAMP:20260422T202831
DTSTART;TZID=Europe/Berlin:20251007T183000
DTEND;TZID=Europe/Berlin:20251007T194500
UID:252LA30131-20251007T183000@VHSUNTERLAND
SUMMARY:Hatha Yoga (252LA30131) 
LOCATION:la Herzog-Ulrich-GS, Gymnastikraum, Ludwigstraße 1, 74348 Lauffen a. N.
END:VEVENT
BEGIN:VEVENT
DTSTAMP:20260422T202831
DTSTART;TZID=Europe/Berlin:20251014T183000
DTEND;TZID=Europe/Berlin:20251014T194500
UID:252LA30131-20251014T183000@VHSUNTERLAND
SUMMARY:Hatha Yoga (252LA30131) 
LOCATION:la Herzog-Ulrich-GS, Gymnastikraum, Ludwigstraße 1, 74348 Lauffen a. N.
END:VEVENT
BEGIN:VEVENT
DTSTAMP:20260422T202831
DTSTART;TZID=Europe/Berlin:20251021T183000
DTEND;TZID=Europe/Berlin:20251021T194500
UID:252LA30131-20251021T183000@VHSUNTERLAND
SUMMARY:Hatha Yoga (252LA30131) 
LOCATION:la Herzog-Ulrich-GS, Gymnastikraum, Ludwigstraße 1, 74348 Lauffen a. N.
END:VEVENT
BEGIN:VEVENT
DTSTAMP:20260422T202831
DTSTART;TZID=Europe/Berlin:20251104T183000
DTEND;TZID=Europe/Berlin:20251104T194500
UID:252LA30131-20251104T183000@VHSUNTERLAND
SUMMARY:Hatha Yoga (252LA30131) 
LOCATION:la Herzog-Ulrich-GS, Gymnastikraum, Ludwigstraße 1, 74348 Lauffen a. N.
END:VEVENT
BEGIN:VEVENT
DTSTAMP:20260422T202831
DTSTART;TZID=Europe/Berlin:20251111T183000
DTEND;TZID=Europe/Berlin:20251111T194500
UID:252LA30131-20251111T183000@VHSUNTERLAND
SUMMARY:Hatha Yoga (252LA30131) 
LOCATION:la Herzog-Ulrich-GS, Gymnastikraum, Ludwigstraße 1, 74348 Lauffen a. N.
END:VEVENT
BEGIN:VEVENT
DTSTAMP:20260422T202831
DTSTART;TZID=Europe/Berlin:20251118T183000
DTEND;TZID=Europe/Berlin:20251118T194500
UID:252LA30131-20251118T183000@VHSUNTERLAND
SUMMARY:Hatha Yoga (252LA30131) 
LOCATION:la Herzog-Ulrich-GS, Gymnastikraum, Ludwigstraße 1, 74348 Lauffen a. N.
END:VEVENT
BEGIN:VEVENT
DTSTAMP:20260422T202831
DTSTART;TZID=Europe/Berlin:20251125T183000
DTEND;TZID=Europe/Berlin:20251125T194500
UID:252LA30131-20251125T183000@VHSUNTERLAND
SUMMARY:Hatha Yoga (252LA30131) 
LOCATION:la Herzog-Ulrich-GS, Gymnastikraum, Ludwigstraße 1, 74348 Lauffen a. N.
END:VEVENT
BEGIN:VEVENT
DTSTAMP:20260422T202831
DTSTART;TZID=Europe/Berlin:20251202T183000
DTEND;TZID=Europe/Berlin:20251202T194500
UID:252LA30131-20251202T183000@VHSUNTERLAND
SUMMARY:Hatha Yoga (252LA30131) 
LOCATION:la Herzog-Ulrich-GS, Gymnastikraum, Ludwigstraße 1, 74348 Lauffen a. N.
END:VEVENT
BEGIN:VEVENT
DTSTAMP:20260422T202831
DTSTART;TZID=Europe/Berlin:20251209T183000
DTEND;TZID=Europe/Berlin:20251209T194500
UID:252LA30131-20251209T183000@VHSUNTERLAND
SUMMARY:Hatha Yoga (252LA30131) 
LOCATION:la Herzog-Ulrich-GS, Gymnastikraum, Ludwigstraße 1, 74348 Lauffen a. N.
END:VEVENT
BEGIN:VEVENT
DTSTAMP:20260422T202831
DTSTART;TZID=Europe/Berlin:20251216T183000
DTEND;TZID=Europe/Berlin:20251216T194500
UID:252LA30131-20251216T183000@VHSUNTERLAND
SUMMARY:Hatha Yoga (252LA30131) 
LOCATION:la Herzog-Ulrich-GS, Gymnastikraum, Ludwigstraße 1, 74348 Lauffen a. N.
END:VEVENT
BEGIN:VEVENT
DTSTAMP:20260422T202831
DTSTART;TZID=Europe/Berlin:20260113T183000
DTEND;TZID=Europe/Berlin:20260113T194500
UID:252LA30131-20260113T183000@VHSUNTERLAND
SUMMARY:Hatha Yoga (252LA30131) 
LOCATION:la Herzog-Ulrich-GS, Gymnastikraum, Ludwigstraße 1, 74348 Lauffen a. N.
END:VEVENT
BEGIN:VEVENT
DTSTAMP:20260422T202831
DTSTART;TZID=Europe/Berlin:20260120T183000
DTEND;TZID=Europe/Berlin:20260120T194500
UID:252LA30131-20260120T183000@VHSUNTERLAND
SUMMARY:Hatha Yoga (252LA30131) 
LOCATION:la Herzog-Ulrich-GS, Gymnastikraum, Ludwigstraße 1, 74348 Lauffen a. N.
END:VEVENT
BEGIN:VEVENT
DTSTAMP:20260422T202831
DTSTART;TZID=Europe/Berlin:20260127T183000
DTEND;TZID=Europe/Berlin:20260127T194500
UID:252LA30131-20260127T183000@VHSUNTERLAND
SUMMARY:Hatha Yoga (252LA30131) 
LOCATION:la Herzog-Ulrich-GS, Gymnastikraum, Ludwigstraße 1, 74348 Lauffen a. N.
END:VEVENT
BEGIN:VEVENT
DTSTAMP:20260422T202831
DTSTART;TZID=Europe/Berlin:20260203T183000
DTEND;TZID=Europe/Berlin:20260203T194500
UID:252LA30131-20260203T183000@VHSUNTERLAND
SUMMARY:Hatha Yoga (252LA30131) 
LOCATION:la Herzog-Ulrich-GS, Gymnastikraum, Ludwigstraße 1, 74348 Lauffen a. N.
END:VEVENT
END:VCALENDAR