BEGIN:VCALENDAR
VERSION:2.0
PRODID:http://www.kufer.de/kuferweb / DE
METHOD:PUBLISH
CALSCALE:GREGORIAN
X-WR-TIMEZONE:Europe/Berlin
BEGIN:VTIMEZONE
TZID:Europe/Berlin
X-LIC-LOCATION:Europe/Berlin
BEGIN:DAYLIGHT
TZOFFSETFROM:+0100
TZOFFSETTO:+0200
TZNAME:CEST
DTSTART;TZID=Europe/Berlin:19700329T020000
RRULE:FREQ=YEARLY;INTERVAL=1;BYDAY=-1SU;BYMONTH=3
END:DAYLIGHT
BEGIN:STANDARD
TZOFFSETFROM:+0200
TZOFFSETTO:+0100
TZNAME:CET
DTSTART;TZID=Europe/Berlin:19701025T030000
RRULE:FREQ=YEARLY;INTERVAL=1;BYDAY=-1SU;BYMONTH=10
END:STANDARD
END:VTIMEZONE
BEGIN:VEVENT
DTSTAMP:20260424T050618
DTSTART;TZID=Europe/Berlin:20250918T170000
DTEND;TZID=Europe/Berlin:20250918T180000
UID:252LA20571-20250918T170000@VHSUNTERLAND
SUMMARY:Hip-Hop und Jazz für Kinder ab 6 Jahren (252LA20571) 
LOCATION:la Hölderlin-Sporthalle, Gymnastiksaal, Hölderlinstr. 35, 74348 Lauffen a. N.
END:VEVENT
BEGIN:VEVENT
DTSTAMP:20260424T050618
DTSTART;TZID=Europe/Berlin:20250925T170000
DTEND;TZID=Europe/Berlin:20250925T180000
UID:252LA20571-20250925T170000@VHSUNTERLAND
SUMMARY:Hip-Hop und Jazz für Kinder ab 6 Jahren (252LA20571) 
LOCATION:la Hölderlin-Sporthalle, Gymnastiksaal, Hölderlinstr. 35, 74348 Lauffen a. N.
END:VEVENT
BEGIN:VEVENT
DTSTAMP:20260424T050618
DTSTART;TZID=Europe/Berlin:20251002T170000
DTEND;TZID=Europe/Berlin:20251002T180000
UID:252LA20571-20251002T170000@VHSUNTERLAND
SUMMARY:Hip-Hop und Jazz für Kinder ab 6 Jahren (252LA20571) 
LOCATION:la Hölderlin-Sporthalle, Gymnastiksaal, Hölderlinstr. 35, 74348 Lauffen a. N.
END:VEVENT
BEGIN:VEVENT
DTSTAMP:20260424T050618
DTSTART;TZID=Europe/Berlin:20251009T170000
DTEND;TZID=Europe/Berlin:20251009T180000
UID:252LA20571-20251009T170000@VHSUNTERLAND
SUMMARY:Hip-Hop und Jazz für Kinder ab 6 Jahren (252LA20571) 
LOCATION:la Hölderlin-Sporthalle, Gymnastiksaal, Hölderlinstr. 35, 74348 Lauffen a. N.
END:VEVENT
BEGIN:VEVENT
DTSTAMP:20260424T050618
DTSTART;TZID=Europe/Berlin:20251106T170000
DTEND;TZID=Europe/Berlin:20251106T180000
UID:252LA20571-20251106T170000@VHSUNTERLAND
SUMMARY:Hip-Hop und Jazz für Kinder ab 6 Jahren (252LA20571) 
LOCATION:la Hölderlin-Sporthalle, Gymnastiksaal, Hölderlinstr. 35, 74348 Lauffen a. N.
END:VEVENT
BEGIN:VEVENT
DTSTAMP:20260424T050618
DTSTART;TZID=Europe/Berlin:20251113T170000
DTEND;TZID=Europe/Berlin:20251113T180000
UID:252LA20571-20251113T170000@VHSUNTERLAND
SUMMARY:Hip-Hop und Jazz für Kinder ab 6 Jahren (252LA20571) 
LOCATION:la Hölderlin-Sporthalle, Gymnastiksaal, Hölderlinstr. 35, 74348 Lauffen a. N.
END:VEVENT
BEGIN:VEVENT
DTSTAMP:20260424T050618
DTSTART;TZID=Europe/Berlin:20251120T170000
DTEND;TZID=Europe/Berlin:20251120T180000
UID:252LA20571-20251120T170000@VHSUNTERLAND
SUMMARY:Hip-Hop und Jazz für Kinder ab 6 Jahren (252LA20571) 
LOCATION:la Hölderlin-Sporthalle, Gymnastiksaal, Hölderlinstr. 35, 74348 Lauffen a. N.
END:VEVENT
BEGIN:VEVENT
DTSTAMP:20260424T050618
DTSTART;TZID=Europe/Berlin:20251127T170000
DTEND;TZID=Europe/Berlin:20251127T180000
UID:252LA20571-20251127T170000@VHSUNTERLAND
SUMMARY:Hip-Hop und Jazz für Kinder ab 6 Jahren (252LA20571) 
LOCATION:la Hölderlin-Sporthalle, Gymnastiksaal, Hölderlinstr. 35, 74348 Lauffen a. N.
END:VEVENT
BEGIN:VEVENT
DTSTAMP:20260424T050618
DTSTART;TZID=Europe/Berlin:20251204T170000
DTEND;TZID=Europe/Berlin:20251204T180000
UID:252LA20571-20251204T170000@VHSUNTERLAND
SUMMARY:Hip-Hop und Jazz für Kinder ab 6 Jahren (252LA20571) 
LOCATION:la Hölderlin-Sporthalle, Gymnastiksaal, Hölderlinstr. 35, 74348 Lauffen a. N.
END:VEVENT
BEGIN:VEVENT
DTSTAMP:20260424T050618
DTSTART;TZID=Europe/Berlin:20251211T170000
DTEND;TZID=Europe/Berlin:20251211T180000
UID:252LA20571-20251211T170000@VHSUNTERLAND
SUMMARY:Hip-Hop und Jazz für Kinder ab 6 Jahren (252LA20571) 
LOCATION:la Hölderlin-Sporthalle, Gymnastiksaal, Hölderlinstr. 35, 74348 Lauffen a. N.
END:VEVENT
BEGIN:VEVENT
DTSTAMP:20260424T050618
DTSTART;TZID=Europe/Berlin:20251218T170000
DTEND;TZID=Europe/Berlin:20251218T180000
UID:252LA20571-20251218T170000@VHSUNTERLAND
SUMMARY:Hip-Hop und Jazz für Kinder ab 6 Jahren (252LA20571) 
LOCATION:la Hölderlin-Sporthalle, Gymnastiksaal, Hölderlinstr. 35, 74348 Lauffen a. N.
END:VEVENT
BEGIN:VEVENT
DTSTAMP:20260424T050618
DTSTART;TZID=Europe/Berlin:20260108T170000
DTEND;TZID=Europe/Berlin:20260108T180000
UID:252LA20571-20260108T170000@VHSUNTERLAND
SUMMARY:Hip-Hop und Jazz für Kinder ab 6 Jahren (252LA20571) 
LOCATION:la Hölderlin-Sporthalle, Gymnastiksaal, Hölderlinstr. 35, 74348 Lauffen a. N.
END:VEVENT
BEGIN:VEVENT
DTSTAMP:20260424T050618
DTSTART;TZID=Europe/Berlin:20260115T170000
DTEND;TZID=Europe/Berlin:20260115T180000
UID:252LA20571-20260115T170000@VHSUNTERLAND
DESCRIPTION:Ersatz für Ausfall am 23.10.2025
SUMMARY:Hip-Hop und Jazz für Kinder ab 6 Jahren (252LA20571) 
LOCATION:la Hölderlin-Sporthalle, Gymnastiksaal, Hölderlinstr. 35, 74348 Lauffen a. N.
END:VEVENT
END:VCALENDAR