BEGIN:VCALENDAR
VERSION:2.0
PRODID:http://www.kufer.de/kuferweb / DE
METHOD:PUBLISH
CALSCALE:GREGORIAN
X-WR-TIMEZONE:Europe/Berlin
BEGIN:VTIMEZONE
TZID:Europe/Berlin
X-LIC-LOCATION:Europe/Berlin
BEGIN:DAYLIGHT
TZOFFSETFROM:+0100
TZOFFSETTO:+0200
TZNAME:CEST
DTSTART;TZID=Europe/Berlin:19700329T020000
RRULE:FREQ=YEARLY;INTERVAL=1;BYDAY=-1SU;BYMONTH=3
END:DAYLIGHT
BEGIN:STANDARD
TZOFFSETFROM:+0200
TZOFFSETTO:+0100
TZNAME:CET
DTSTART;TZID=Europe/Berlin:19701025T030000
RRULE:FREQ=YEARLY;INTERVAL=1;BYDAY=-1SU;BYMONTH=10
END:STANDARD
END:VTIMEZONE
BEGIN:VEVENT
DTSTAMP:20260420T161256
DTSTART;TZID=Europe/Berlin:20251105T141500
DTEND;TZID=Europe/Berlin:20251105T154500
UID:252LA10481-20251105T141500@VHSUNTERLAND
SUMMARY:Vorsorgevollmacht, Betreuungs- und Patientenverfügung einfach erklärt (252LA10481) 
LOCATION:la Hölderlinhaus, Hölderlinsaal, Nordheimer Str. 5, 74348 Lauffen a. N.
END:VEVENT
END:VCALENDAR