BEGIN:VCALENDAR
VERSION:2.0
PRODID:http://www.kufer.de/kuferweb / DE
METHOD:PUBLISH
CALSCALE:GREGORIAN
X-WR-TIMEZONE:Europe/Berlin
BEGIN:VTIMEZONE
TZID:Europe/Berlin
X-LIC-LOCATION:Europe/Berlin
BEGIN:DAYLIGHT
TZOFFSETFROM:+0100
TZOFFSETTO:+0200
TZNAME:CEST
DTSTART;TZID=Europe/Berlin:19700329T020000
RRULE:FREQ=YEARLY;INTERVAL=1;BYDAY=-1SU;BYMONTH=3
END:DAYLIGHT
BEGIN:STANDARD
TZOFFSETFROM:+0200
TZOFFSETTO:+0100
TZNAME:CET
DTSTART;TZID=Europe/Berlin:19701025T030000
RRULE:FREQ=YEARLY;INTERVAL=1;BYDAY=-1SU;BYMONTH=10
END:STANDARD
END:VTIMEZONE
BEGIN:VEVENT
DTSTAMP:20260422T093156
DTSTART;TZID=Europe/Berlin:20251002T193000
DTEND;TZID=Europe/Berlin:20251002T203000
UID:252KI30112-20251002T193000@VHSUNTERLAND
SUMMARY:Bodyforming mit Yoga & Pilates (252KI30112) 
LOCATION:ki Festhalle, Schillerstraße 23, 74912 Kirchardt
END:VEVENT
BEGIN:VEVENT
DTSTAMP:20260422T093156
DTSTART;TZID=Europe/Berlin:20251009T193000
DTEND;TZID=Europe/Berlin:20251009T203000
UID:252KI30112-20251009T193000@VHSUNTERLAND
SUMMARY:Bodyforming mit Yoga & Pilates (252KI30112) 
LOCATION:ki Festhalle, Schillerstraße 23, 74912 Kirchardt
END:VEVENT
BEGIN:VEVENT
DTSTAMP:20260422T093156
DTSTART;TZID=Europe/Berlin:20251016T193000
DTEND;TZID=Europe/Berlin:20251016T203000
UID:252KI30112-20251016T193000@VHSUNTERLAND
SUMMARY:Bodyforming mit Yoga & Pilates (252KI30112) 
LOCATION:ki Festhalle, Schillerstraße 23, 74912 Kirchardt
END:VEVENT
BEGIN:VEVENT
DTSTAMP:20260422T093156
DTSTART;TZID=Europe/Berlin:20251106T193000
DTEND;TZID=Europe/Berlin:20251106T203000
UID:252KI30112-20251106T193000@VHSUNTERLAND
SUMMARY:Bodyforming mit Yoga & Pilates (252KI30112) 
LOCATION:ki Festhalle, Schillerstraße 23, 74912 Kirchardt
END:VEVENT
BEGIN:VEVENT
DTSTAMP:20260422T093156
DTSTART;TZID=Europe/Berlin:20251113T193000
DTEND;TZID=Europe/Berlin:20251113T203000
UID:252KI30112-20251113T193000@VHSUNTERLAND
SUMMARY:Bodyforming mit Yoga & Pilates (252KI30112) 
LOCATION:ki Festhalle, Schillerstraße 23, 74912 Kirchardt
END:VEVENT
BEGIN:VEVENT
DTSTAMP:20260422T093156
DTSTART;TZID=Europe/Berlin:20251120T193000
DTEND;TZID=Europe/Berlin:20251120T203000
UID:252KI30112-20251120T193000@VHSUNTERLAND
SUMMARY:Bodyforming mit Yoga & Pilates (252KI30112) 
LOCATION:ki Festhalle, Schillerstraße 23, 74912 Kirchardt
END:VEVENT
BEGIN:VEVENT
DTSTAMP:20260422T093156
DTSTART;TZID=Europe/Berlin:20251204T193000
DTEND;TZID=Europe/Berlin:20251204T203000
UID:252KI30112-20251204T193000@VHSUNTERLAND
SUMMARY:Bodyforming mit Yoga & Pilates (252KI30112) 
LOCATION:ki Festhalle, Schillerstraße 23, 74912 Kirchardt
END:VEVENT
BEGIN:VEVENT
DTSTAMP:20260422T093156
DTSTART;TZID=Europe/Berlin:20260108T193000
DTEND;TZID=Europe/Berlin:20260108T203000
UID:252KI30112-20260108T193000@VHSUNTERLAND
SUMMARY:Bodyforming mit Yoga & Pilates (252KI30112) 
LOCATION:ki Festhalle, Schillerstraße 23, 74912 Kirchardt
END:VEVENT
BEGIN:VEVENT
DTSTAMP:20260422T093156
DTSTART;TZID=Europe/Berlin:20260115T193000
DTEND;TZID=Europe/Berlin:20260115T203000
UID:252KI30112-20260115T193000@VHSUNTERLAND
SUMMARY:Bodyforming mit Yoga & Pilates (252KI30112) 
LOCATION:ki Festhalle, Schillerstraße 23, 74912 Kirchardt
END:VEVENT
BEGIN:VEVENT
DTSTAMP:20260422T093156
DTSTART;TZID=Europe/Berlin:20260122T193000
DTEND;TZID=Europe/Berlin:20260122T203000
UID:252KI30112-20260122T193000@VHSUNTERLAND
SUMMARY:Bodyforming mit Yoga & Pilates (252KI30112) 
LOCATION:ki Festhalle, Schillerstraße 23, 74912 Kirchardt
END:VEVENT
BEGIN:VEVENT
DTSTAMP:20260422T093156
DTSTART;TZID=Europe/Berlin:20260129T193000
DTEND;TZID=Europe/Berlin:20260129T203000
UID:252KI30112-20260129T193000@VHSUNTERLAND
SUMMARY:Bodyforming mit Yoga & Pilates (252KI30112) 
LOCATION:ki Festhalle, Schillerstraße 23, 74912 Kirchardt
END:VEVENT
BEGIN:VEVENT
DTSTAMP:20260422T093156
DTSTART;TZID=Europe/Berlin:20260205T193000
DTEND;TZID=Europe/Berlin:20260205T203000
UID:252KI30112-20260205T193000@VHSUNTERLAND
DESCRIPTION:Ersatz für Ausfall am 23.10.2025
SUMMARY:Bodyforming mit Yoga & Pilates (252KI30112) 
LOCATION:ki Festhalle, Schillerstraße 23, 74912 Kirchardt
END:VEVENT
BEGIN:VEVENT
DTSTAMP:20260422T093156
DTSTART;TZID=Europe/Berlin:20260212T193000
DTEND;TZID=Europe/Berlin:20260212T203000
UID:252KI30112-20260212T193000@VHSUNTERLAND
DESCRIPTION:Ersatz für Ausfall am 11.12.2025
SUMMARY:Bodyforming mit Yoga & Pilates (252KI30112) 
LOCATION:ki Festhalle, Schillerstraße 23, 74912 Kirchardt
END:VEVENT
END:VCALENDAR