BEGIN:VCALENDAR
VERSION:2.0
PRODID:http://www.kufer.de/kuferweb / DE
METHOD:PUBLISH
CALSCALE:GREGORIAN
X-WR-TIMEZONE:Europe/Berlin
BEGIN:VTIMEZONE
TZID:Europe/Berlin
X-LIC-LOCATION:Europe/Berlin
BEGIN:DAYLIGHT
TZOFFSETFROM:+0100
TZOFFSETTO:+0200
TZNAME:CEST
DTSTART;TZID=Europe/Berlin:19700329T020000
RRULE:FREQ=YEARLY;INTERVAL=1;BYDAY=-1SU;BYMONTH=3
END:DAYLIGHT
BEGIN:STANDARD
TZOFFSETFROM:+0200
TZOFFSETTO:+0100
TZNAME:CET
DTSTART;TZID=Europe/Berlin:19701025T030000
RRULE:FREQ=YEARLY;INTERVAL=1;BYDAY=-1SU;BYMONTH=10
END:STANDARD
END:VTIMEZONE
BEGIN:VEVENT
DTSTAMP:20260421T123719
DTSTART;TZID=Europe/Berlin:20251002T190000
DTEND;TZID=Europe/Berlin:20251002T200000
UID:252KI21318-20251002T190000@VHSUNTERLAND
SUMMARY:Gitarrenspielkreis Liedbegleitung (252KI21318) 
LOCATION:ki VHS-Raum, Goethestraße 3/2, 74912 Kirchardt
END:VEVENT
BEGIN:VEVENT
DTSTAMP:20260421T123719
DTSTART;TZID=Europe/Berlin:20251016T190000
DTEND;TZID=Europe/Berlin:20251016T200000
UID:252KI21318-20251016T190000@VHSUNTERLAND
SUMMARY:Gitarrenspielkreis Liedbegleitung (252KI21318) 
LOCATION:ki VHS-Raum, Goethestraße 3/2, 74912 Kirchardt
END:VEVENT
BEGIN:VEVENT
DTSTAMP:20260421T123719
DTSTART;TZID=Europe/Berlin:20251030T190000
DTEND;TZID=Europe/Berlin:20251030T200000
UID:252KI21318-20251030T190000@VHSUNTERLAND
DESCRIPTION:Ersatz für Ausfall am 23.10.2025
SUMMARY:Gitarrenspielkreis Liedbegleitung (252KI21318) 
LOCATION:ki VHS-Raum, Goethestraße 3/2, 74912 Kirchardt
END:VEVENT
BEGIN:VEVENT
DTSTAMP:20260421T123719
DTSTART;TZID=Europe/Berlin:20251106T190000
DTEND;TZID=Europe/Berlin:20251106T200000
UID:252KI21318-20251106T190000@VHSUNTERLAND
SUMMARY:Gitarrenspielkreis Liedbegleitung (252KI21318) 
LOCATION:ki VHS-Raum, Goethestraße 3/2, 74912 Kirchardt
END:VEVENT
BEGIN:VEVENT
DTSTAMP:20260421T123719
DTSTART;TZID=Europe/Berlin:20251113T190000
DTEND;TZID=Europe/Berlin:20251113T200000
UID:252KI21318-20251113T190000@VHSUNTERLAND
SUMMARY:Gitarrenspielkreis Liedbegleitung (252KI21318) 
LOCATION:ki VHS-Raum, Goethestraße 3/2, 74912 Kirchardt
END:VEVENT
BEGIN:VEVENT
DTSTAMP:20260421T123719
DTSTART;TZID=Europe/Berlin:20251120T190000
DTEND;TZID=Europe/Berlin:20251120T200000
UID:252KI21318-20251120T190000@VHSUNTERLAND
SUMMARY:Gitarrenspielkreis Liedbegleitung (252KI21318) 
LOCATION:ki VHS-Raum, Goethestraße 3/2, 74912 Kirchardt
END:VEVENT
BEGIN:VEVENT
DTSTAMP:20260421T123719
DTSTART;TZID=Europe/Berlin:20251127T190000
DTEND;TZID=Europe/Berlin:20251127T200000
UID:252KI21318-20251127T190000@VHSUNTERLAND
SUMMARY:Gitarrenspielkreis Liedbegleitung (252KI21318) 
LOCATION:ki VHS-Raum, Goethestraße 3/2, 74912 Kirchardt
END:VEVENT
BEGIN:VEVENT
DTSTAMP:20260421T123719
DTSTART;TZID=Europe/Berlin:20251204T190000
DTEND;TZID=Europe/Berlin:20251204T200000
UID:252KI21318-20251204T190000@VHSUNTERLAND
SUMMARY:Gitarrenspielkreis Liedbegleitung (252KI21318) 
LOCATION:ki VHS-Raum, Goethestraße 3/2, 74912 Kirchardt
END:VEVENT
BEGIN:VEVENT
DTSTAMP:20260421T123719
DTSTART;TZID=Europe/Berlin:20251211T190000
DTEND;TZID=Europe/Berlin:20251211T200000
UID:252KI21318-20251211T190000@VHSUNTERLAND
SUMMARY:Gitarrenspielkreis Liedbegleitung (252KI21318) 
LOCATION:ki VHS-Raum, Goethestraße 3/2, 74912 Kirchardt
END:VEVENT
BEGIN:VEVENT
DTSTAMP:20260421T123719
DTSTART;TZID=Europe/Berlin:20251218T190000
DTEND;TZID=Europe/Berlin:20251218T200000
UID:252KI21318-20251218T190000@VHSUNTERLAND
SUMMARY:Gitarrenspielkreis Liedbegleitung (252KI21318) 
LOCATION:ki VHS-Raum, Goethestraße 3/2, 74912 Kirchardt
END:VEVENT
BEGIN:VEVENT
DTSTAMP:20260421T123719
DTSTART;TZID=Europe/Berlin:20260226T190000
DTEND;TZID=Europe/Berlin:20260226T200000
UID:252KI21318-20260226T190000@VHSUNTERLAND
DESCRIPTION:Ersatz für Ausfall am 08.01.2026
SUMMARY:Gitarrenspielkreis Liedbegleitung (252KI21318) 
LOCATION:ki Birkenbachschule, Musiksaal, Goethestraße 3, 74912 Kirchardt
END:VEVENT
BEGIN:VEVENT
DTSTAMP:20260421T123719
DTSTART;TZID=Europe/Berlin:20260305T190000
DTEND;TZID=Europe/Berlin:20260305T200000
UID:252KI21318-20260305T190000@VHSUNTERLAND
DESCRIPTION:Ersatz für Ausfall am 15.01.2026
SUMMARY:Gitarrenspielkreis Liedbegleitung (252KI21318) 
LOCATION:ki VHS-Raum, Goethestraße 3/2, 74912 Kirchardt
END:VEVENT
BEGIN:VEVENT
DTSTAMP:20260421T123719
DTSTART;TZID=Europe/Berlin:20260312T190000
DTEND;TZID=Europe/Berlin:20260312T200000
UID:252KI21318-20260312T190000@VHSUNTERLAND
DESCRIPTION:Ersatz für Ausfall am 22.01.2026
SUMMARY:Gitarrenspielkreis Liedbegleitung (252KI21318) 
LOCATION:ki VHS-Raum, Goethestraße 3/2, 74912 Kirchardt
END:VEVENT
BEGIN:VEVENT
DTSTAMP:20260421T123719
DTSTART;TZID=Europe/Berlin:20260319T190000
DTEND;TZID=Europe/Berlin:20260319T200000
UID:252KI21318-20260319T190000@VHSUNTERLAND
DESCRIPTION:Ersatz für Ausfall am 29.01.2026
SUMMARY:Gitarrenspielkreis Liedbegleitung (252KI21318) 
LOCATION:ki VHS-Raum, Goethestraße 3/2, 74912 Kirchardt
END:VEVENT
BEGIN:VEVENT
DTSTAMP:20260421T123719
DTSTART;TZID=Europe/Berlin:20260416T190000
DTEND;TZID=Europe/Berlin:20260416T200000
UID:252KI21318-20260416T190000@VHSUNTERLAND
DESCRIPTION:Ersatz für Ausfall am 09.10.2025
Ersatz für Ausfall am 12.02.2026
Ersatz für Ausfall am 26.03.2026
SUMMARY:Gitarrenspielkreis Liedbegleitung (252KI21318) 
LOCATION:ki Birkenbachschule, Musiksaal, Goethestraße 3, 74912 Kirchardt
END:VEVENT
END:VCALENDAR