BEGIN:VCALENDAR
VERSION:2.0
PRODID:http://www.kufer.de/kuferweb / DE
METHOD:PUBLISH
CALSCALE:GREGORIAN
X-WR-TIMEZONE:Europe/Berlin
BEGIN:VTIMEZONE
TZID:Europe/Berlin
X-LIC-LOCATION:Europe/Berlin
BEGIN:DAYLIGHT
TZOFFSETFROM:+0100
TZOFFSETTO:+0200
TZNAME:CEST
DTSTART;TZID=Europe/Berlin:19700329T020000
RRULE:FREQ=YEARLY;INTERVAL=1;BYDAY=-1SU;BYMONTH=3
END:DAYLIGHT
BEGIN:STANDARD
TZOFFSETFROM:+0200
TZOFFSETTO:+0100
TZNAME:CET
DTSTART;TZID=Europe/Berlin:19701025T030000
RRULE:FREQ=YEARLY;INTERVAL=1;BYDAY=-1SU;BYMONTH=10
END:STANDARD
END:VTIMEZONE
BEGIN:VEVENT
DTSTAMP:20260423T124415
DTSTART;TZID=Europe/Berlin:20250930T191500
DTEND;TZID=Europe/Berlin:20250930T201500
UID:252KI21313-20250930T191500@VHSUNTERLAND
SUMMARY:Gitarre Liedbegleitung: Aufbaukurs V  für Erwachsene und Jugendliche (252KI21313) 
LOCATION:ki Birkenbachschule, Musiksaal, Goethestraße 3, 74912 Kirchardt
END:VEVENT
BEGIN:VEVENT
DTSTAMP:20260423T124415
DTSTART;TZID=Europe/Berlin:20251014T191500
DTEND;TZID=Europe/Berlin:20251014T201500
UID:252KI21313-20251014T191500@VHSUNTERLAND
SUMMARY:Gitarre Liedbegleitung: Aufbaukurs V  für Erwachsene und Jugendliche (252KI21313) 
LOCATION:ki Birkenbachschule, Musiksaal, Goethestraße 3, 74912 Kirchardt
END:VEVENT
BEGIN:VEVENT
DTSTAMP:20260423T124415
DTSTART;TZID=Europe/Berlin:20251104T191500
DTEND;TZID=Europe/Berlin:20251104T201500
UID:252KI21313-20251104T191500@VHSUNTERLAND
SUMMARY:Gitarre Liedbegleitung: Aufbaukurs V  für Erwachsene und Jugendliche (252KI21313) 
LOCATION:ki Birkenbachschule, Musiksaal, Goethestraße 3, 74912 Kirchardt
END:VEVENT
BEGIN:VEVENT
DTSTAMP:20260423T124415
DTSTART;TZID=Europe/Berlin:20251111T191500
DTEND;TZID=Europe/Berlin:20251111T201500
UID:252KI21313-20251111T191500@VHSUNTERLAND
SUMMARY:Gitarre Liedbegleitung: Aufbaukurs V  für Erwachsene und Jugendliche (252KI21313) 
LOCATION:ki Birkenbachschule, Musiksaal, Goethestraße 3, 74912 Kirchardt
END:VEVENT
BEGIN:VEVENT
DTSTAMP:20260423T124415
DTSTART;TZID=Europe/Berlin:20251118T191500
DTEND;TZID=Europe/Berlin:20251118T201500
UID:252KI21313-20251118T191500@VHSUNTERLAND
SUMMARY:Gitarre Liedbegleitung: Aufbaukurs V  für Erwachsene und Jugendliche (252KI21313) 
LOCATION:ki Birkenbachschule, Musiksaal, Goethestraße 3, 74912 Kirchardt
END:VEVENT
BEGIN:VEVENT
DTSTAMP:20260423T124415
DTSTART;TZID=Europe/Berlin:20251125T191500
DTEND;TZID=Europe/Berlin:20251125T201500
UID:252KI21313-20251125T191500@VHSUNTERLAND
SUMMARY:Gitarre Liedbegleitung: Aufbaukurs V  für Erwachsene und Jugendliche (252KI21313) 
LOCATION:ki Birkenbachschule, Musiksaal, Goethestraße 3, 74912 Kirchardt
END:VEVENT
BEGIN:VEVENT
DTSTAMP:20260423T124415
DTSTART;TZID=Europe/Berlin:20251202T191500
DTEND;TZID=Europe/Berlin:20251202T201500
UID:252KI21313-20251202T191500@VHSUNTERLAND
SUMMARY:Gitarre Liedbegleitung: Aufbaukurs V  für Erwachsene und Jugendliche (252KI21313) 
LOCATION:ki Birkenbachschule, Musiksaal, Goethestraße 3, 74912 Kirchardt
END:VEVENT
BEGIN:VEVENT
DTSTAMP:20260423T124415
DTSTART;TZID=Europe/Berlin:20251209T191500
DTEND;TZID=Europe/Berlin:20251209T201500
UID:252KI21313-20251209T191500@VHSUNTERLAND
SUMMARY:Gitarre Liedbegleitung: Aufbaukurs V  für Erwachsene und Jugendliche (252KI21313) 
LOCATION:ki Birkenbachschule, Musiksaal, Goethestraße 3, 74912 Kirchardt
END:VEVENT
BEGIN:VEVENT
DTSTAMP:20260423T124415
DTSTART;TZID=Europe/Berlin:20251216T191500
DTEND;TZID=Europe/Berlin:20251216T201500
UID:252KI21313-20251216T191500@VHSUNTERLAND
SUMMARY:Gitarre Liedbegleitung: Aufbaukurs V  für Erwachsene und Jugendliche (252KI21313) 
LOCATION:ki Birkenbachschule, Musiksaal, Goethestraße 3, 74912 Kirchardt
END:VEVENT
BEGIN:VEVENT
DTSTAMP:20260423T124415
DTSTART;TZID=Europe/Berlin:20260224T191500
DTEND;TZID=Europe/Berlin:20260224T201500
UID:252KI21313-20260224T191500@VHSUNTERLAND
DESCRIPTION:Ersatz für Ausfall am 21.10.2025
SUMMARY:Gitarre Liedbegleitung: Aufbaukurs V  für Erwachsene und Jugendliche (252KI21313) 
LOCATION:ki VHS-Raum, Goethestraße 3/2, 74912 Kirchardt
END:VEVENT
BEGIN:VEVENT
DTSTAMP:20260423T124415
DTSTART;TZID=Europe/Berlin:20260303T191500
DTEND;TZID=Europe/Berlin:20260303T201500
UID:252KI21313-20260303T191500@VHSUNTERLAND
DESCRIPTION:Ersatz für Ausfall am 13.01.2026
SUMMARY:Gitarre Liedbegleitung: Aufbaukurs V  für Erwachsene und Jugendliche (252KI21313) 
LOCATION:ki Birkenbachschule, Musiksaal, Goethestraße 3, 74912 Kirchardt
END:VEVENT
BEGIN:VEVENT
DTSTAMP:20260423T124415
DTSTART;TZID=Europe/Berlin:20260310T191500
DTEND;TZID=Europe/Berlin:20260310T201500
UID:252KI21313-20260310T191500@VHSUNTERLAND
DESCRIPTION:Ersatz für Ausfall am 20.01.2026
SUMMARY:Gitarre Liedbegleitung: Aufbaukurs V  für Erwachsene und Jugendliche (252KI21313) 
LOCATION:ki Birkenbachschule, Musiksaal, Goethestraße 3, 74912 Kirchardt
END:VEVENT
BEGIN:VEVENT
DTSTAMP:20260423T124415
DTSTART;TZID=Europe/Berlin:20260317T191500
DTEND;TZID=Europe/Berlin:20260317T201500
UID:252KI21313-20260317T191500@VHSUNTERLAND
DESCRIPTION:Ersatz für Ausfall am 27.01.2026
SUMMARY:Gitarre Liedbegleitung: Aufbaukurs V  für Erwachsene und Jugendliche (252KI21313) 
LOCATION:ki Birkenbachschule, Musiksaal, Goethestraße 3, 74912 Kirchardt
END:VEVENT
BEGIN:VEVENT
DTSTAMP:20260423T124415
DTSTART;TZID=Europe/Berlin:20260324T191500
DTEND;TZID=Europe/Berlin:20260324T201500
UID:252KI21313-20260324T191500@VHSUNTERLAND
DESCRIPTION:Ersatz für Ausfall am 03.02.2026
SUMMARY:Gitarre Liedbegleitung: Aufbaukurs V  für Erwachsene und Jugendliche (252KI21313) 
LOCATION:ki Birkenbachschule, Musiksaal, Goethestraße 3, 74912 Kirchardt
END:VEVENT
BEGIN:VEVENT
DTSTAMP:20260423T124415
DTSTART;TZID=Europe/Berlin:20260421T191500
DTEND;TZID=Europe/Berlin:20260421T201500
UID:252KI21313-20260421T191500@VHSUNTERLAND
DESCRIPTION:Ersatz für Ausfall am 07.10.2025
Ersatz für Ausfall am 10.02.2026
Ersatz für Ausfall am 14.04.2026
SUMMARY:Gitarre Liedbegleitung: Aufbaukurs V  für Erwachsene und Jugendliche (252KI21313) 
LOCATION:ki Birkenbachschule, Musiksaal, Goethestraße 3, 74912 Kirchardt
END:VEVENT
END:VCALENDAR