BEGIN:VCALENDAR
VERSION:2.0
PRODID:http://www.kufer.de/kuferweb / DE
METHOD:PUBLISH
CALSCALE:GREGORIAN
X-WR-TIMEZONE:Europe/Berlin
BEGIN:VTIMEZONE
TZID:Europe/Berlin
X-LIC-LOCATION:Europe/Berlin
BEGIN:DAYLIGHT
TZOFFSETFROM:+0100
TZOFFSETTO:+0200
TZNAME:CEST
DTSTART;TZID=Europe/Berlin:19700329T020000
RRULE:FREQ=YEARLY;INTERVAL=1;BYDAY=-1SU;BYMONTH=3
END:DAYLIGHT
BEGIN:STANDARD
TZOFFSETFROM:+0200
TZOFFSETTO:+0100
TZNAME:CET
DTSTART;TZID=Europe/Berlin:19701025T030000
RRULE:FREQ=YEARLY;INTERVAL=1;BYDAY=-1SU;BYMONTH=10
END:STANDARD
END:VTIMEZONE
BEGIN:VEVENT
DTSTAMP:20260419T175207
DTSTART;TZID=Europe/Berlin:20260114T190000
DTEND;TZID=Europe/Berlin:20260114T203000
UID:252IL40666-20260114T190000@VHSUNTERLAND
SUMMARY:English A2/B1 Easy Conversation: Let's talk (252IL40666) 
LOCATION:il Bahnhofstr. 2, Schulungsraum, EG, Bahnhofstraße 2, 74360 Ilsfeld
END:VEVENT
BEGIN:VEVENT
DTSTAMP:20260419T175207
DTSTART;TZID=Europe/Berlin:20260128T190000
DTEND;TZID=Europe/Berlin:20260128T203000
UID:252IL40666-20260128T190000@VHSUNTERLAND
SUMMARY:English A2/B1 Easy Conversation: Let's talk (252IL40666) 
LOCATION:il Bahnhofstr. 2, Schulungsraum, EG, Bahnhofstraße 2, 74360 Ilsfeld
END:VEVENT
BEGIN:VEVENT
DTSTAMP:20260419T175207
DTSTART;TZID=Europe/Berlin:20260204T190000
DTEND;TZID=Europe/Berlin:20260204T203000
UID:252IL40666-20260204T190000@VHSUNTERLAND
SUMMARY:English A2/B1 Easy Conversation: Let's talk (252IL40666) 
LOCATION:il Bahnhofstr. 2, Schulungsraum, EG, Bahnhofstraße 2, 74360 Ilsfeld
END:VEVENT
BEGIN:VEVENT
DTSTAMP:20260419T175207
DTSTART;TZID=Europe/Berlin:20260211T190000
DTEND;TZID=Europe/Berlin:20260211T203000
UID:252IL40666-20260211T190000@VHSUNTERLAND
SUMMARY:English A2/B1 Easy Conversation: Let's talk (252IL40666) 
LOCATION:il Bahnhofstr. 2, Schulungsraum, EG, Bahnhofstraße 2, 74360 Ilsfeld
END:VEVENT
BEGIN:VEVENT
DTSTAMP:20260419T175207
DTSTART;TZID=Europe/Berlin:20260225T190000
DTEND;TZID=Europe/Berlin:20260225T203000
UID:252IL40666-20260225T190000@VHSUNTERLAND
SUMMARY:English A2/B1 Easy Conversation: Let's talk (252IL40666) 
LOCATION:il Bahnhofstr. 2, Schulungsraum, EG, Bahnhofstraße 2, 74360 Ilsfeld
END:VEVENT
BEGIN:VEVENT
DTSTAMP:20260419T175207
DTSTART;TZID=Europe/Berlin:20260304T190000
DTEND;TZID=Europe/Berlin:20260304T203000
UID:252IL40666-20260304T190000@VHSUNTERLAND
SUMMARY:English A2/B1 Easy Conversation: Let's talk (252IL40666) 
LOCATION:il Bahnhofstr. 2, Schulungsraum, EG, Bahnhofstraße 2, 74360 Ilsfeld
END:VEVENT
BEGIN:VEVENT
DTSTAMP:20260419T175207
DTSTART;TZID=Europe/Berlin:20260311T190000
DTEND;TZID=Europe/Berlin:20260311T203000
UID:252IL40666-20260311T190000@VHSUNTERLAND
SUMMARY:English A2/B1 Easy Conversation: Let's talk (252IL40666) 
LOCATION:il Bahnhofstr. 2, Schulungsraum, EG, Bahnhofstraße 2, 74360 Ilsfeld
END:VEVENT
BEGIN:VEVENT
DTSTAMP:20260419T175207
DTSTART;TZID=Europe/Berlin:20260318T190000
DTEND;TZID=Europe/Berlin:20260318T203000
UID:252IL40666-20260318T190000@VHSUNTERLAND
SUMMARY:English A2/B1 Easy Conversation: Let's talk (252IL40666) 
LOCATION:il Bahnhofstr. 2, Schulungsraum, EG, Bahnhofstraße 2, 74360 Ilsfeld
END:VEVENT
END:VCALENDAR