BEGIN:VCALENDAR
VERSION:2.0
PRODID:http://www.kufer.de/kuferweb / DE
METHOD:PUBLISH
CALSCALE:GREGORIAN
X-WR-TIMEZONE:Europe/Berlin
BEGIN:VTIMEZONE
TZID:Europe/Berlin
X-LIC-LOCATION:Europe/Berlin
BEGIN:DAYLIGHT
TZOFFSETFROM:+0100
TZOFFSETTO:+0200
TZNAME:CEST
DTSTART;TZID=Europe/Berlin:19700329T020000
RRULE:FREQ=YEARLY;INTERVAL=1;BYDAY=-1SU;BYMONTH=3
END:DAYLIGHT
BEGIN:STANDARD
TZOFFSETFROM:+0200
TZOFFSETTO:+0100
TZNAME:CET
DTSTART;TZID=Europe/Berlin:19701025T030000
RRULE:FREQ=YEARLY;INTERVAL=1;BYDAY=-1SU;BYMONTH=10
END:STANDARD
END:VTIMEZONE
BEGIN:VEVENT
DTSTAMP:20260421T203745
DTSTART;TZID=Europe/Berlin:20251002T200500
DTEND;TZID=Europe/Berlin:20251002T210500
UID:252IL30235-20251002T200500@VHSUNTERLAND
SUMMARY:ZUMBA® (252IL30235) 
LOCATION:il Gemeindehalle, Brückenstraße 25, 74360 Ilsfeld
END:VEVENT
BEGIN:VEVENT
DTSTAMP:20260421T203745
DTSTART;TZID=Europe/Berlin:20251009T200500
DTEND;TZID=Europe/Berlin:20251009T210500
UID:252IL30235-20251009T200500@VHSUNTERLAND
SUMMARY:ZUMBA® (252IL30235) 
LOCATION:il Gemeindehalle, Brückenstraße 25, 74360 Ilsfeld
END:VEVENT
BEGIN:VEVENT
DTSTAMP:20260421T203745
DTSTART;TZID=Europe/Berlin:20251016T200500
DTEND;TZID=Europe/Berlin:20251016T210500
UID:252IL30235-20251016T200500@VHSUNTERLAND
SUMMARY:ZUMBA® (252IL30235) 
LOCATION:il Gemeindehalle, Brückenstraße 25, 74360 Ilsfeld
END:VEVENT
BEGIN:VEVENT
DTSTAMP:20260421T203745
DTSTART;TZID=Europe/Berlin:20251023T200500
DTEND;TZID=Europe/Berlin:20251023T210500
UID:252IL30235-20251023T200500@VHSUNTERLAND
SUMMARY:ZUMBA® (252IL30235) 
LOCATION:il Gemeindehalle, Brückenstraße 25, 74360 Ilsfeld
END:VEVENT
BEGIN:VEVENT
DTSTAMP:20260421T203745
DTSTART;TZID=Europe/Berlin:20251106T200500
DTEND;TZID=Europe/Berlin:20251106T210500
UID:252IL30235-20251106T200500@VHSUNTERLAND
SUMMARY:ZUMBA® (252IL30235) 
LOCATION:il Gemeindehalle, Brückenstraße 25, 74360 Ilsfeld
END:VEVENT
BEGIN:VEVENT
DTSTAMP:20260421T203745
DTSTART;TZID=Europe/Berlin:20251113T200500
DTEND;TZID=Europe/Berlin:20251113T210500
UID:252IL30235-20251113T200500@VHSUNTERLAND
SUMMARY:ZUMBA® (252IL30235) 
LOCATION:il Gemeindehalle, Brückenstraße 25, 74360 Ilsfeld
END:VEVENT
BEGIN:VEVENT
DTSTAMP:20260421T203745
DTSTART;TZID=Europe/Berlin:20251120T200500
DTEND;TZID=Europe/Berlin:20251120T210500
UID:252IL30235-20251120T200500@VHSUNTERLAND
SUMMARY:ZUMBA® (252IL30235) 
LOCATION:il Gemeindehalle, Brückenstraße 25, 74360 Ilsfeld
END:VEVENT
BEGIN:VEVENT
DTSTAMP:20260421T203745
DTSTART;TZID=Europe/Berlin:20251204T200500
DTEND;TZID=Europe/Berlin:20251204T210500
UID:252IL30235-20251204T200500@VHSUNTERLAND
SUMMARY:ZUMBA® (252IL30235) 
LOCATION:il Gemeindehalle, Brückenstraße 25, 74360 Ilsfeld
END:VEVENT
BEGIN:VEVENT
DTSTAMP:20260421T203745
DTSTART;TZID=Europe/Berlin:20251211T200500
DTEND;TZID=Europe/Berlin:20251211T210500
UID:252IL30235-20251211T200500@VHSUNTERLAND
SUMMARY:ZUMBA® (252IL30235) 
LOCATION:il Gemeindehalle, Brückenstraße 25, 74360 Ilsfeld
END:VEVENT
BEGIN:VEVENT
DTSTAMP:20260421T203745
DTSTART;TZID=Europe/Berlin:20251218T200500
DTEND;TZID=Europe/Berlin:20251218T210500
UID:252IL30235-20251218T200500@VHSUNTERLAND
SUMMARY:ZUMBA® (252IL30235) 
LOCATION:il Gemeindehalle, Brückenstraße 25, 74360 Ilsfeld
END:VEVENT
BEGIN:VEVENT
DTSTAMP:20260421T203745
DTSTART;TZID=Europe/Berlin:20260108T200500
DTEND;TZID=Europe/Berlin:20260108T210500
UID:252IL30235-20260108T200500@VHSUNTERLAND
SUMMARY:ZUMBA® (252IL30235) 
LOCATION:il Gemeindehalle, Brückenstraße 25, 74360 Ilsfeld
END:VEVENT
BEGIN:VEVENT
DTSTAMP:20260421T203745
DTSTART;TZID=Europe/Berlin:20260122T200500
DTEND;TZID=Europe/Berlin:20260122T210500
UID:252IL30235-20260122T200500@VHSUNTERLAND
SUMMARY:ZUMBA® (252IL30235) 
LOCATION:il Gemeindehalle, Brückenstraße 25, 74360 Ilsfeld
END:VEVENT
BEGIN:VEVENT
DTSTAMP:20260421T203745
DTSTART;TZID=Europe/Berlin:20260205T200500
DTEND;TZID=Europe/Berlin:20260205T210500
UID:252IL30235-20260205T200500@VHSUNTERLAND
DESCRIPTION:Ersatz für Ausfall am 27.11.2025
SUMMARY:ZUMBA® (252IL30235) 
LOCATION:il Gemeindehalle, Brückenstraße 25, 74360 Ilsfeld
END:VEVENT
BEGIN:VEVENT
DTSTAMP:20260421T203745
DTSTART;TZID=Europe/Berlin:20260212T200500
DTEND;TZID=Europe/Berlin:20260212T210500
UID:252IL30235-20260212T200500@VHSUNTERLAND
DESCRIPTION:Ersatz für Ausfall am 15.01.2026
SUMMARY:ZUMBA® (252IL30235) 
LOCATION:il Gemeindehalle, Brückenstraße 25, 74360 Ilsfeld
END:VEVENT
END:VCALENDAR